BEGIN:VCALENDAR
VERSION:2.0
PRODID:-//Polo Park East - ECPv6.15.18//NONSGML v1.0//EN
CALSCALE:GREGORIAN
METHOD:PUBLISH
X-WR-CALNAME:Polo Park East
X-ORIGINAL-URL:https://www.poloparkeastgolf.com
X-WR-CALDESC:Events for Polo Park East
REFRESH-INTERVAL;VALUE=DURATION:PT1H
X-Robots-Tag:noindex
X-PUBLISHED-TTL:PT1H
BEGIN:VTIMEZONE
TZID:UTC
BEGIN:STANDARD
TZOFFSETFROM:+0000
TZOFFSETTO:+0000
TZNAME:UTC
DTSTART:20260101T000000
END:STANDARD
END:VTIMEZONE
BEGIN:VEVENT
DTSTART;TZID=UTC:20270305T074500
DTEND;TZID=UTC:20270305T113000
DTSTAMP:20260422T020544
CREATED:20260409T144241Z
LAST-MODIFIED:20260409T144246Z
UID:10000254-1804232700-1804246200@www.poloparkeastgolf.com
SUMMARY:Men’s Golf Club
DESCRIPTION:
URL:https://www.poloparkeastgolf.com/event/mens-golf-club/2027-03-05/
END:VEVENT
BEGIN:VEVENT
DTSTART;TZID=UTC:20270306T074500
DTEND;TZID=UTC:20270306T113000
DTSTAMP:20260422T020544
CREATED:20260409T144557Z
LAST-MODIFIED:20260409T144726Z
UID:10000515-1804319100-1804332600@www.poloparkeastgolf.com
SUMMARY:Men’s Golf Scramble
DESCRIPTION:All are welcome. Teams picked by draw.
URL:https://www.poloparkeastgolf.com/event/mens-golf-scramble/2027-03-06/
END:VEVENT
BEGIN:VEVENT
DTSTART;TZID=UTC:20270308T074500
DTEND;TZID=UTC:20270308T113000
DTSTAMP:20260422T020544
CREATED:20260409T144922Z
LAST-MODIFIED:20260409T144925Z
UID:10000621-1804491900-1804505400@www.poloparkeastgolf.com
SUMMARY:Men’s Golf Club
DESCRIPTION:
URL:https://www.poloparkeastgolf.com/event/mens-golf-club-2/2027-03-08/
END:VEVENT
BEGIN:VEVENT
DTSTART;TZID=UTC:20270309T074500
DTEND;TZID=UTC:20270309T074500
DTSTAMP:20260422T020544
CREATED:20260409T145214Z
LAST-MODIFIED:20260409T145219Z
UID:10000882-1804578300-1804578300@www.poloparkeastgolf.com
SUMMARY:Lady’s 18 Hole Scramble
DESCRIPTION:
URL:https://www.poloparkeastgolf.com/event/ladys-18-hole-scramble-2/2027-03-09/
END:VEVENT
BEGIN:VEVENT
DTSTART;TZID=UTC:20270309T074500
DTEND;TZID=UTC:20270309T074500
DTSTAMP:20260422T020544
CREATED:20260409T145459Z
LAST-MODIFIED:20260409T145503Z
UID:10000985-1804578300-1804578300@www.poloparkeastgolf.com
SUMMARY:Lady’s 9 Hole Scramble
DESCRIPTION:
URL:https://www.poloparkeastgolf.com/event/ladys-9-hole-scramble-2/2027-03-09/
END:VEVENT
BEGIN:VEVENT
DTSTART;TZID=UTC:20270310T074500
DTEND;TZID=UTC:20270310T113000
DTSTAMP:20260422T020544
CREATED:20260409T150102Z
LAST-MODIFIED:20260409T150259Z
UID:10001088-1804664700-1804678200@www.poloparkeastgolf.com
SUMMARY:Men’s Golf Scramble
DESCRIPTION:All are welcome. Teams picked by draw.
URL:https://www.poloparkeastgolf.com/event/mens-golf-scramble-2/2027-03-10/
END:VEVENT
BEGIN:VEVENT
DTSTART;TZID=UTC:20270311T074500
DTEND;TZID=UTC:20270311T074500
DTSTAMP:20260422T020544
CREATED:20260409T143647Z
LAST-MODIFIED:20260409T143652Z
UID:10000048-1804751100-1804751100@www.poloparkeastgolf.com
SUMMARY:Lady’s 18 Hole Scramble
DESCRIPTION:
URL:https://www.poloparkeastgolf.com/event/ladys-18-hole-scramble/2027-03-11/
END:VEVENT
BEGIN:VEVENT
DTSTART;TZID=UTC:20270311T074500
DTEND;TZID=UTC:20270311T074500
DTSTAMP:20260422T020544
CREATED:20260409T143828Z
LAST-MODIFIED:20260409T143832Z
UID:10000151-1804751100-1804751100@www.poloparkeastgolf.com
SUMMARY:Lady’s 9 Hole Scramble
DESCRIPTION:
URL:https://www.poloparkeastgolf.com/event/ladys-9-hole-scramble/2027-03-11/
END:VEVENT
BEGIN:VEVENT
DTSTART;TZID=UTC:20270312T074500
DTEND;TZID=UTC:20270312T113000
DTSTAMP:20260422T020544
CREATED:20260409T144241Z
LAST-MODIFIED:20260409T144246Z
UID:10000255-1804837500-1804851000@www.poloparkeastgolf.com
SUMMARY:Men’s Golf Club
DESCRIPTION:
URL:https://www.poloparkeastgolf.com/event/mens-golf-club/2027-03-12/
END:VEVENT
BEGIN:VEVENT
DTSTART;TZID=UTC:20270313T074500
DTEND;TZID=UTC:20270313T113000
DTSTAMP:20260422T020544
CREATED:20260409T144557Z
LAST-MODIFIED:20260409T144726Z
UID:10000516-1804923900-1804937400@www.poloparkeastgolf.com
SUMMARY:Men’s Golf Scramble
DESCRIPTION:All are welcome. Teams picked by draw.
URL:https://www.poloparkeastgolf.com/event/mens-golf-scramble/2027-03-13/
END:VEVENT
BEGIN:VEVENT
DTSTART;TZID=UTC:20270315T074500
DTEND;TZID=UTC:20270315T113000
DTSTAMP:20260422T020544
CREATED:20260409T144922Z
LAST-MODIFIED:20260409T144925Z
UID:10000622-1805096700-1805110200@www.poloparkeastgolf.com
SUMMARY:Men’s Golf Club
DESCRIPTION:
URL:https://www.poloparkeastgolf.com/event/mens-golf-club-2/2027-03-15/
END:VEVENT
BEGIN:VEVENT
DTSTART;TZID=UTC:20270316T074500
DTEND;TZID=UTC:20270316T074500
DTSTAMP:20260422T020544
CREATED:20260409T145214Z
LAST-MODIFIED:20260409T145219Z
UID:10000883-1805183100-1805183100@www.poloparkeastgolf.com
SUMMARY:Lady’s 18 Hole Scramble
DESCRIPTION:
URL:https://www.poloparkeastgolf.com/event/ladys-18-hole-scramble-2/2027-03-16/
END:VEVENT
BEGIN:VEVENT
DTSTART;TZID=UTC:20270316T074500
DTEND;TZID=UTC:20270316T074500
DTSTAMP:20260422T020544
CREATED:20260409T145459Z
LAST-MODIFIED:20260409T145503Z
UID:10000986-1805183100-1805183100@www.poloparkeastgolf.com
SUMMARY:Lady’s 9 Hole Scramble
DESCRIPTION:
URL:https://www.poloparkeastgolf.com/event/ladys-9-hole-scramble-2/2027-03-16/
END:VEVENT
BEGIN:VEVENT
DTSTART;TZID=UTC:20270317T074500
DTEND;TZID=UTC:20270317T113000
DTSTAMP:20260422T020544
CREATED:20260409T150102Z
LAST-MODIFIED:20260409T150259Z
UID:10001089-1805269500-1805283000@www.poloparkeastgolf.com
SUMMARY:Men’s Golf Scramble
DESCRIPTION:All are welcome. Teams picked by draw.
URL:https://www.poloparkeastgolf.com/event/mens-golf-scramble-2/2027-03-17/
END:VEVENT
BEGIN:VEVENT
DTSTART;TZID=UTC:20270318T074500
DTEND;TZID=UTC:20270318T074500
DTSTAMP:20260422T020544
CREATED:20260409T143647Z
LAST-MODIFIED:20260409T143652Z
UID:10000049-1805355900-1805355900@www.poloparkeastgolf.com
SUMMARY:Lady’s 18 Hole Scramble
DESCRIPTION:
URL:https://www.poloparkeastgolf.com/event/ladys-18-hole-scramble/2027-03-18/
END:VEVENT
BEGIN:VEVENT
DTSTART;TZID=UTC:20270318T074500
DTEND;TZID=UTC:20270318T074500
DTSTAMP:20260422T020544
CREATED:20260409T143828Z
LAST-MODIFIED:20260409T143832Z
UID:10000152-1805355900-1805355900@www.poloparkeastgolf.com
SUMMARY:Lady’s 9 Hole Scramble
DESCRIPTION:
URL:https://www.poloparkeastgolf.com/event/ladys-9-hole-scramble/2027-03-18/
END:VEVENT
BEGIN:VEVENT
DTSTART;TZID=UTC:20270319T074500
DTEND;TZID=UTC:20270319T113000
DTSTAMP:20260422T020544
CREATED:20260409T144241Z
LAST-MODIFIED:20260409T144246Z
UID:10000256-1805442300-1805455800@www.poloparkeastgolf.com
SUMMARY:Men’s Golf Club
DESCRIPTION:
URL:https://www.poloparkeastgolf.com/event/mens-golf-club/2027-03-19/
END:VEVENT
BEGIN:VEVENT
DTSTART;TZID=UTC:20270320T074500
DTEND;TZID=UTC:20270320T113000
DTSTAMP:20260422T020544
CREATED:20260409T144557Z
LAST-MODIFIED:20260409T144726Z
UID:10000517-1805528700-1805542200@www.poloparkeastgolf.com
SUMMARY:Men’s Golf Scramble
DESCRIPTION:All are welcome. Teams picked by draw.
URL:https://www.poloparkeastgolf.com/event/mens-golf-scramble/2027-03-20/
END:VEVENT
BEGIN:VEVENT
DTSTART;TZID=UTC:20270321T080000
DTEND;TZID=UTC:20270321T080000
DTSTAMP:20260422T020544
CREATED:20260409T150506Z
LAST-MODIFIED:20260409T150510Z
UID:10001159-1805616000-1805616000@www.poloparkeastgolf.com
SUMMARY:Mom and Pop Golf
DESCRIPTION:
URL:https://www.poloparkeastgolf.com/event/mom-and-pop-golf/2027-03-21/
END:VEVENT
BEGIN:VEVENT
DTSTART;TZID=UTC:20270322T074500
DTEND;TZID=UTC:20270322T113000
DTSTAMP:20260422T020544
CREATED:20260409T144922Z
LAST-MODIFIED:20260409T144925Z
UID:10000623-1805701500-1805715000@www.poloparkeastgolf.com
SUMMARY:Men’s Golf Club
DESCRIPTION:
URL:https://www.poloparkeastgolf.com/event/mens-golf-club-2/2027-03-22/
END:VEVENT
BEGIN:VEVENT
DTSTART;TZID=UTC:20270323T074500
DTEND;TZID=UTC:20270323T074500
DTSTAMP:20260422T020544
CREATED:20260409T145214Z
LAST-MODIFIED:20260409T145219Z
UID:10000884-1805787900-1805787900@www.poloparkeastgolf.com
SUMMARY:Lady’s 18 Hole Scramble
DESCRIPTION:
URL:https://www.poloparkeastgolf.com/event/ladys-18-hole-scramble-2/2027-03-23/
END:VEVENT
BEGIN:VEVENT
DTSTART;TZID=UTC:20270323T074500
DTEND;TZID=UTC:20270323T074500
DTSTAMP:20260422T020544
CREATED:20260409T145459Z
LAST-MODIFIED:20260409T145503Z
UID:10000987-1805787900-1805787900@www.poloparkeastgolf.com
SUMMARY:Lady’s 9 Hole Scramble
DESCRIPTION:
URL:https://www.poloparkeastgolf.com/event/ladys-9-hole-scramble-2/2027-03-23/
END:VEVENT
BEGIN:VEVENT
DTSTART;TZID=UTC:20270324T074500
DTEND;TZID=UTC:20270324T113000
DTSTAMP:20260422T020544
CREATED:20260409T150102Z
LAST-MODIFIED:20260409T150259Z
UID:10001090-1805874300-1805887800@www.poloparkeastgolf.com
SUMMARY:Men’s Golf Scramble
DESCRIPTION:All are welcome. Teams picked by draw.
URL:https://www.poloparkeastgolf.com/event/mens-golf-scramble-2/2027-03-24/
END:VEVENT
BEGIN:VEVENT
DTSTART;TZID=UTC:20270325T074500
DTEND;TZID=UTC:20270325T074500
DTSTAMP:20260422T020544
CREATED:20260409T143647Z
LAST-MODIFIED:20260409T143652Z
UID:10000050-1805960700-1805960700@www.poloparkeastgolf.com
SUMMARY:Lady’s 18 Hole Scramble
DESCRIPTION:
URL:https://www.poloparkeastgolf.com/event/ladys-18-hole-scramble/2027-03-25/
END:VEVENT
BEGIN:VEVENT
DTSTART;TZID=UTC:20270325T074500
DTEND;TZID=UTC:20270325T074500
DTSTAMP:20260422T020544
CREATED:20260409T143828Z
LAST-MODIFIED:20260409T143832Z
UID:10000153-1805960700-1805960700@www.poloparkeastgolf.com
SUMMARY:Lady’s 9 Hole Scramble
DESCRIPTION:
URL:https://www.poloparkeastgolf.com/event/ladys-9-hole-scramble/2027-03-25/
END:VEVENT
BEGIN:VEVENT
DTSTART;TZID=UTC:20270326T074500
DTEND;TZID=UTC:20270326T113000
DTSTAMP:20260422T020544
CREATED:20260409T144241Z
LAST-MODIFIED:20260409T144246Z
UID:10000257-1806047100-1806060600@www.poloparkeastgolf.com
SUMMARY:Men’s Golf Club
DESCRIPTION:
URL:https://www.poloparkeastgolf.com/event/mens-golf-club/2027-03-26/
END:VEVENT
BEGIN:VEVENT
DTSTART;TZID=UTC:20270327T074500
DTEND;TZID=UTC:20270327T113000
DTSTAMP:20260422T020544
CREATED:20260409T144557Z
LAST-MODIFIED:20260409T144726Z
UID:10000518-1806133500-1806147000@www.poloparkeastgolf.com
SUMMARY:Men’s Golf Scramble
DESCRIPTION:All are welcome. Teams picked by draw.
URL:https://www.poloparkeastgolf.com/event/mens-golf-scramble/2027-03-27/
END:VEVENT
BEGIN:VEVENT
DTSTART;TZID=UTC:20270329T074500
DTEND;TZID=UTC:20270329T113000
DTSTAMP:20260422T020544
CREATED:20260409T144922Z
LAST-MODIFIED:20260409T144925Z
UID:10000624-1806306300-1806319800@www.poloparkeastgolf.com
SUMMARY:Men’s Golf Club
DESCRIPTION:
URL:https://www.poloparkeastgolf.com/event/mens-golf-club-2/2027-03-29/
END:VEVENT
BEGIN:VEVENT
DTSTART;TZID=UTC:20270330T074500
DTEND;TZID=UTC:20270330T074500
DTSTAMP:20260422T020544
CREATED:20260409T145214Z
LAST-MODIFIED:20260409T145219Z
UID:10000885-1806392700-1806392700@www.poloparkeastgolf.com
SUMMARY:Lady’s 18 Hole Scramble
DESCRIPTION:
URL:https://www.poloparkeastgolf.com/event/ladys-18-hole-scramble-2/2027-03-30/
END:VEVENT
BEGIN:VEVENT
DTSTART;TZID=UTC:20270330T074500
DTEND;TZID=UTC:20270330T074500
DTSTAMP:20260422T020544
CREATED:20260409T145459Z
LAST-MODIFIED:20260409T145503Z
UID:10000988-1806392700-1806392700@www.poloparkeastgolf.com
SUMMARY:Lady’s 9 Hole Scramble
DESCRIPTION:
URL:https://www.poloparkeastgolf.com/event/ladys-9-hole-scramble-2/2027-03-30/
END:VEVENT
END:VCALENDAR