BEGIN:VCALENDAR
VERSION:2.0
PRODID:-//Polo Park East - ECPv6.15.18//NONSGML v1.0//EN
CALSCALE:GREGORIAN
METHOD:PUBLISH
X-ORIGINAL-URL:https://www.poloparkeastgolf.com
X-WR-CALDESC:Events for Polo Park East
REFRESH-INTERVAL;VALUE=DURATION:PT1H
X-Robots-Tag:noindex
X-PUBLISHED-TTL:PT1H
BEGIN:VTIMEZONE
TZID:UTC
BEGIN:STANDARD
TZOFFSETFROM:+0000
TZOFFSETTO:+0000
TZNAME:UTC
DTSTART:20260101T000000
END:STANDARD
END:VTIMEZONE
BEGIN:VEVENT
DTSTART;TZID=UTC:20270312T074500
DTEND;TZID=UTC:20270312T113000
DTSTAMP:20260423T062426
CREATED:20260409T184241Z
LAST-MODIFIED:20260409T184246Z
UID:10000255-1804837500-1804851000@www.poloparkeastgolf.com
SUMMARY:Men’s Golf Club
DESCRIPTION:
URL:https://www.poloparkeastgolf.com/event/mens-golf-club/2027-03-12/
END:VEVENT
BEGIN:VEVENT
DTSTART;TZID=UTC:20270313T080000
DTEND;TZID=UTC:20270313T110000
DTSTAMP:20260423T062426
CREATED:20260409T184557Z
LAST-MODIFIED:20260422T142556Z
UID:10001878-1804924800-1804935600@www.poloparkeastgolf.com
SUMMARY:Men’s 18 Hole Scramble
DESCRIPTION:All are welcome. Teams picked by draw. Please arrive by 7:30AM.
URL:https://www.poloparkeastgolf.com/event/mens-golf-scramble/2027-03-13/
END:VEVENT
BEGIN:VEVENT
DTSTART;TZID=UTC:20270315T074500
DTEND;TZID=UTC:20270315T100000
DTSTAMP:20260423T062426
CREATED:20260409T184922Z
LAST-MODIFIED:20260422T142915Z
UID:10000622-1805096700-1805104800@www.poloparkeastgolf.com
SUMMARY:Men’s Golf Club
DESCRIPTION:
URL:https://www.poloparkeastgolf.com/event/mens-golf-club-2/2027-03-15/
END:VEVENT
BEGIN:VEVENT
DTSTART;TZID=UTC:20270316T080000
DTEND;TZID=UTC:20270316T100000
DTSTAMP:20260423T062426
CREATED:20260409T185214Z
LAST-MODIFIED:20260422T141754Z
UID:10002088-1805184000-1805191200@www.poloparkeastgolf.com
SUMMARY:Lady’s 18 Hole Scramble
DESCRIPTION:
URL:https://www.poloparkeastgolf.com/event/ladys-18-hole-scramble-2/2027-03-16/
END:VEVENT
BEGIN:VEVENT
DTSTART;TZID=UTC:20270316T080000
DTEND;TZID=UTC:20270316T100000
DTSTAMP:20260423T062426
CREATED:20260409T185459Z
LAST-MODIFIED:20260422T141643Z
UID:10001985-1805184000-1805191200@www.poloparkeastgolf.com
SUMMARY:Lady’s 9 Hole Scramble
DESCRIPTION:
URL:https://www.poloparkeastgolf.com/event/ladys-9-hole-scramble-2/2027-03-16/
END:VEVENT
BEGIN:VEVENT
DTSTART;TZID=UTC:20270318T080000
DTEND;TZID=UTC:20270318T100000
DTSTAMP:20260423T062426
CREATED:20260409T183647Z
LAST-MODIFIED:20260422T142334Z
UID:10001304-1805356800-1805364000@www.poloparkeastgolf.com
SUMMARY:Lady’s 18 Hole Scramble
DESCRIPTION:
URL:https://www.poloparkeastgolf.com/event/ladys-18-hole-scramble/2027-03-18/
END:VEVENT
BEGIN:VEVENT
DTSTART;TZID=UTC:20270318T080000
DTEND;TZID=UTC:20270318T100000
DTSTAMP:20260423T062426
CREATED:20260422T140605Z
LAST-MODIFIED:20260422T145513Z
UID:10001509-1805356800-1805364000@www.poloparkeastgolf.com
SUMMARY:Lady’s 9 Hole Scramble
DESCRIPTION:
URL:https://www.poloparkeastgolf.com/event/ladys-9-hole-scramble-3/2027-03-18/
END:VEVENT
BEGIN:VEVENT
DTSTART;TZID=UTC:20270319T074500
DTEND;TZID=UTC:20270319T113000
DTSTAMP:20260423T062426
CREATED:20260409T184241Z
LAST-MODIFIED:20260409T184246Z
UID:10000256-1805442300-1805455800@www.poloparkeastgolf.com
SUMMARY:Men’s Golf Club
DESCRIPTION:
URL:https://www.poloparkeastgolf.com/event/mens-golf-club/2027-03-19/
END:VEVENT
BEGIN:VEVENT
DTSTART;TZID=UTC:20270320T080000
DTEND;TZID=UTC:20270320T110000
DTSTAMP:20260423T062426
CREATED:20260409T184557Z
LAST-MODIFIED:20260422T142556Z
UID:10001879-1805529600-1805540400@www.poloparkeastgolf.com
SUMMARY:Men’s 18 Hole Scramble
DESCRIPTION:All are welcome. Teams picked by draw. Please arrive by 7:30AM.
URL:https://www.poloparkeastgolf.com/event/mens-golf-scramble/2027-03-20/
END:VEVENT
BEGIN:VEVENT
DTSTART;TZID=UTC:20270321T080000
DTEND;TZID=UTC:20270321T080000
DTSTAMP:20260423T062426
CREATED:20260409T190506Z
LAST-MODIFIED:20260409T190510Z
UID:10001159-1805616000-1805616000@www.poloparkeastgolf.com
SUMMARY:Mom and Pop Golf
DESCRIPTION:
URL:https://www.poloparkeastgolf.com/event/mom-and-pop-golf/2027-03-21/
END:VEVENT
BEGIN:VEVENT
DTSTART;TZID=UTC:20270322T074500
DTEND;TZID=UTC:20270322T100000
DTSTAMP:20260423T062426
CREATED:20260409T184922Z
LAST-MODIFIED:20260422T142915Z
UID:10000623-1805701500-1805709600@www.poloparkeastgolf.com
SUMMARY:Men’s Golf Club
DESCRIPTION:
URL:https://www.poloparkeastgolf.com/event/mens-golf-club-2/2027-03-22/
END:VEVENT
BEGIN:VEVENT
DTSTART;TZID=UTC:20270323T080000
DTEND;TZID=UTC:20270323T100000
DTSTAMP:20260423T062426
CREATED:20260409T185214Z
LAST-MODIFIED:20260422T141754Z
UID:10002089-1805788800-1805796000@www.poloparkeastgolf.com
SUMMARY:Lady’s 18 Hole Scramble
DESCRIPTION:
URL:https://www.poloparkeastgolf.com/event/ladys-18-hole-scramble-2/2027-03-23/
END:VEVENT
BEGIN:VEVENT
DTSTART;TZID=UTC:20270323T080000
DTEND;TZID=UTC:20270323T100000
DTSTAMP:20260423T062426
CREATED:20260409T185459Z
LAST-MODIFIED:20260422T141643Z
UID:10001986-1805788800-1805796000@www.poloparkeastgolf.com
SUMMARY:Lady’s 9 Hole Scramble
DESCRIPTION:
URL:https://www.poloparkeastgolf.com/event/ladys-9-hole-scramble-2/2027-03-23/
END:VEVENT
BEGIN:VEVENT
DTSTART;TZID=UTC:20270325T080000
DTEND;TZID=UTC:20270325T100000
DTSTAMP:20260423T062426
CREATED:20260409T183647Z
LAST-MODIFIED:20260422T142334Z
UID:10001306-1805961600-1805968800@www.poloparkeastgolf.com
SUMMARY:Lady’s 18 Hole Scramble
DESCRIPTION:
URL:https://www.poloparkeastgolf.com/event/ladys-18-hole-scramble/2027-03-25/
END:VEVENT
BEGIN:VEVENT
DTSTART;TZID=UTC:20270325T080000
DTEND;TZID=UTC:20270325T100000
DTSTAMP:20260423T062426
CREATED:20260422T140605Z
LAST-MODIFIED:20260422T145513Z
UID:10001511-1805961600-1805968800@www.poloparkeastgolf.com
SUMMARY:Lady’s 9 Hole Scramble
DESCRIPTION:
URL:https://www.poloparkeastgolf.com/event/ladys-9-hole-scramble-3/2027-03-25/
END:VEVENT
BEGIN:VEVENT
DTSTART;TZID=UTC:20270326T074500
DTEND;TZID=UTC:20270326T113000
DTSTAMP:20260423T062426
CREATED:20260409T184241Z
LAST-MODIFIED:20260409T184246Z
UID:10000257-1806047100-1806060600@www.poloparkeastgolf.com
SUMMARY:Men’s Golf Club
DESCRIPTION:
URL:https://www.poloparkeastgolf.com/event/mens-golf-club/2027-03-26/
END:VEVENT
BEGIN:VEVENT
DTSTART;TZID=UTC:20270327T080000
DTEND;TZID=UTC:20270327T110000
DTSTAMP:20260423T062426
CREATED:20260409T184557Z
LAST-MODIFIED:20260422T142556Z
UID:10001880-1806134400-1806145200@www.poloparkeastgolf.com
SUMMARY:Men’s 18 Hole Scramble
DESCRIPTION:All are welcome. Teams picked by draw. Please arrive by 7:30AM.
URL:https://www.poloparkeastgolf.com/event/mens-golf-scramble/2027-03-27/
END:VEVENT
BEGIN:VEVENT
DTSTART;TZID=UTC:20270329T074500
DTEND;TZID=UTC:20270329T100000
DTSTAMP:20260423T062426
CREATED:20260409T184922Z
LAST-MODIFIED:20260422T142915Z
UID:10000624-1806306300-1806314400@www.poloparkeastgolf.com
SUMMARY:Men’s Golf Club
DESCRIPTION:
URL:https://www.poloparkeastgolf.com/event/mens-golf-club-2/2027-03-29/
END:VEVENT
BEGIN:VEVENT
DTSTART;TZID=UTC:20270330T080000
DTEND;TZID=UTC:20270330T100000
DTSTAMP:20260423T062426
CREATED:20260409T185214Z
LAST-MODIFIED:20260422T141754Z
UID:10002090-1806393600-1806400800@www.poloparkeastgolf.com
SUMMARY:Lady’s 18 Hole Scramble
DESCRIPTION:
URL:https://www.poloparkeastgolf.com/event/ladys-18-hole-scramble-2/2027-03-30/
END:VEVENT
BEGIN:VEVENT
DTSTART;TZID=UTC:20270330T080000
DTEND;TZID=UTC:20270330T100000
DTSTAMP:20260423T062426
CREATED:20260409T185459Z
LAST-MODIFIED:20260422T141643Z
UID:10001987-1806393600-1806400800@www.poloparkeastgolf.com
SUMMARY:Lady’s 9 Hole Scramble
DESCRIPTION:
URL:https://www.poloparkeastgolf.com/event/ladys-9-hole-scramble-2/2027-03-30/
END:VEVENT
BEGIN:VEVENT
DTSTART;TZID=UTC:20270401T080000
DTEND;TZID=UTC:20270401T100000
DTSTAMP:20260423T062426
CREATED:20260409T183647Z
LAST-MODIFIED:20260422T142334Z
UID:10001308-1806566400-1806573600@www.poloparkeastgolf.com
SUMMARY:Lady’s 18 Hole Scramble
DESCRIPTION:
URL:https://www.poloparkeastgolf.com/event/ladys-18-hole-scramble/2027-04-01/
END:VEVENT
BEGIN:VEVENT
DTSTART;TZID=UTC:20270401T080000
DTEND;TZID=UTC:20270401T100000
DTSTAMP:20260423T062426
CREATED:20260422T140605Z
LAST-MODIFIED:20260422T145513Z
UID:10001513-1806566400-1806573600@www.poloparkeastgolf.com
SUMMARY:Lady’s 9 Hole Scramble
DESCRIPTION:
URL:https://www.poloparkeastgolf.com/event/ladys-9-hole-scramble-3/2027-04-01/
END:VEVENT
BEGIN:VEVENT
DTSTART;TZID=UTC:20270402T074500
DTEND;TZID=UTC:20270402T113000
DTSTAMP:20260423T062426
CREATED:20260409T184241Z
LAST-MODIFIED:20260409T184246Z
UID:10000258-1806651900-1806665400@www.poloparkeastgolf.com
SUMMARY:Men’s Golf Club
DESCRIPTION:
URL:https://www.poloparkeastgolf.com/event/mens-golf-club/2027-04-02/
END:VEVENT
BEGIN:VEVENT
DTSTART;TZID=UTC:20270403T080000
DTEND;TZID=UTC:20270403T110000
DTSTAMP:20260423T062426
CREATED:20260409T184557Z
LAST-MODIFIED:20260422T142556Z
UID:10001881-1806739200-1806750000@www.poloparkeastgolf.com
SUMMARY:Men’s 18 Hole Scramble
DESCRIPTION:All are welcome. Teams picked by draw. Please arrive by 7:30AM.
URL:https://www.poloparkeastgolf.com/event/mens-golf-scramble/2027-04-03/
END:VEVENT
BEGIN:VEVENT
DTSTART;TZID=UTC:20270405T074500
DTEND;TZID=UTC:20270405T100000
DTSTAMP:20260423T062426
CREATED:20260409T184922Z
LAST-MODIFIED:20260422T142915Z
UID:10000625-1806911100-1806919200@www.poloparkeastgolf.com
SUMMARY:Men’s Golf Club
DESCRIPTION:
URL:https://www.poloparkeastgolf.com/event/mens-golf-club-2/2027-04-05/
END:VEVENT
BEGIN:VEVENT
DTSTART;TZID=UTC:20270406T080000
DTEND;TZID=UTC:20270406T100000
DTSTAMP:20260423T062426
CREATED:20260409T185214Z
LAST-MODIFIED:20260422T141754Z
UID:10002091-1806998400-1807005600@www.poloparkeastgolf.com
SUMMARY:Lady’s 18 Hole Scramble
DESCRIPTION:
URL:https://www.poloparkeastgolf.com/event/ladys-18-hole-scramble-2/2027-04-06/
END:VEVENT
BEGIN:VEVENT
DTSTART;TZID=UTC:20270406T080000
DTEND;TZID=UTC:20270406T100000
DTSTAMP:20260423T062426
CREATED:20260409T185459Z
LAST-MODIFIED:20260422T141643Z
UID:10001988-1806998400-1807005600@www.poloparkeastgolf.com
SUMMARY:Lady’s 9 Hole Scramble
DESCRIPTION:
URL:https://www.poloparkeastgolf.com/event/ladys-9-hole-scramble-2/2027-04-06/
END:VEVENT
BEGIN:VEVENT
DTSTART;TZID=UTC:20270408T080000
DTEND;TZID=UTC:20270408T100000
DTSTAMP:20260423T062426
CREATED:20260409T183647Z
LAST-MODIFIED:20260422T142334Z
UID:10001310-1807171200-1807178400@www.poloparkeastgolf.com
SUMMARY:Lady’s 18 Hole Scramble
DESCRIPTION:
URL:https://www.poloparkeastgolf.com/event/ladys-18-hole-scramble/2027-04-08/
END:VEVENT
BEGIN:VEVENT
DTSTART;TZID=UTC:20270408T080000
DTEND;TZID=UTC:20270408T100000
DTSTAMP:20260423T062426
CREATED:20260422T140605Z
LAST-MODIFIED:20260422T145513Z
UID:10001515-1807171200-1807178400@www.poloparkeastgolf.com
SUMMARY:Lady’s 9 Hole Scramble
DESCRIPTION:
URL:https://www.poloparkeastgolf.com/event/ladys-9-hole-scramble-3/2027-04-08/
END:VEVENT
BEGIN:VEVENT
DTSTART;TZID=UTC:20270409T074500
DTEND;TZID=UTC:20270409T113000
DTSTAMP:20260423T062426
CREATED:20260409T184241Z
LAST-MODIFIED:20260409T184246Z
UID:10000259-1807256700-1807270200@www.poloparkeastgolf.com
SUMMARY:Men’s Golf Club
DESCRIPTION:
URL:https://www.poloparkeastgolf.com/event/mens-golf-club/2027-04-09/
END:VEVENT
END:VCALENDAR