BEGIN:VCALENDAR
VERSION:2.0
PRODID:-//Polo Park East - ECPv6.15.18//NONSGML v1.0//EN
CALSCALE:GREGORIAN
METHOD:PUBLISH
X-ORIGINAL-URL:https://www.poloparkeastgolf.com
X-WR-CALDESC:Events for Polo Park East
REFRESH-INTERVAL;VALUE=DURATION:PT1H
X-Robots-Tag:noindex
X-PUBLISHED-TTL:PT1H
BEGIN:VTIMEZONE
TZID:UTC
BEGIN:STANDARD
TZOFFSETFROM:+0000
TZOFFSETTO:+0000
TZNAME:UTC
DTSTART:20260101T000000
END:STANDARD
END:VTIMEZONE
BEGIN:VEVENT
DTSTART;TZID=UTC:20270622T080000
DTEND;TZID=UTC:20270622T100000
DTSTAMP:20260424T103336
CREATED:20260409T185214Z
LAST-MODIFIED:20260422T141754Z
UID:10002102-1813651200-1813658400@www.poloparkeastgolf.com
SUMMARY:Lady’s 18 Hole Scramble
DESCRIPTION:
URL:https://www.poloparkeastgolf.com/event/ladys-18-hole-scramble-2/2027-06-22/
END:VEVENT
BEGIN:VEVENT
DTSTART;TZID=UTC:20270629T080000
DTEND;TZID=UTC:20270629T100000
DTSTAMP:20260424T103336
CREATED:20260409T185214Z
LAST-MODIFIED:20260422T141754Z
UID:10002103-1814256000-1814263200@www.poloparkeastgolf.com
SUMMARY:Lady’s 18 Hole Scramble
DESCRIPTION:
URL:https://www.poloparkeastgolf.com/event/ladys-18-hole-scramble-2/2027-06-29/
END:VEVENT
BEGIN:VEVENT
DTSTART;TZID=UTC:20270706T080000
DTEND;TZID=UTC:20270706T100000
DTSTAMP:20260424T103336
CREATED:20260409T185214Z
LAST-MODIFIED:20260422T141754Z
UID:10002104-1814860800-1814868000@www.poloparkeastgolf.com
SUMMARY:Lady’s 18 Hole Scramble
DESCRIPTION:
URL:https://www.poloparkeastgolf.com/event/ladys-18-hole-scramble-2/2027-07-06/
END:VEVENT
BEGIN:VEVENT
DTSTART;TZID=UTC:20270713T080000
DTEND;TZID=UTC:20270713T100000
DTSTAMP:20260424T103336
CREATED:20260409T185214Z
LAST-MODIFIED:20260422T141754Z
UID:10002105-1815465600-1815472800@www.poloparkeastgolf.com
SUMMARY:Lady’s 18 Hole Scramble
DESCRIPTION:
URL:https://www.poloparkeastgolf.com/event/ladys-18-hole-scramble-2/2027-07-13/
END:VEVENT
BEGIN:VEVENT
DTSTART;TZID=UTC:20270720T080000
DTEND;TZID=UTC:20270720T100000
DTSTAMP:20260424T103336
CREATED:20260409T185214Z
LAST-MODIFIED:20260422T141754Z
UID:10002106-1816070400-1816077600@www.poloparkeastgolf.com
SUMMARY:Lady’s 18 Hole Scramble
DESCRIPTION:
URL:https://www.poloparkeastgolf.com/event/ladys-18-hole-scramble-2/2027-07-20/
END:VEVENT
BEGIN:VEVENT
DTSTART;TZID=UTC:20270727T080000
DTEND;TZID=UTC:20270727T100000
DTSTAMP:20260424T103336
CREATED:20260409T185214Z
LAST-MODIFIED:20260422T141754Z
UID:10002107-1816675200-1816682400@www.poloparkeastgolf.com
SUMMARY:Lady’s 18 Hole Scramble
DESCRIPTION:
URL:https://www.poloparkeastgolf.com/event/ladys-18-hole-scramble-2/2027-07-27/
END:VEVENT
BEGIN:VEVENT
DTSTART;TZID=UTC:20270803T080000
DTEND;TZID=UTC:20270803T100000
DTSTAMP:20260424T103336
CREATED:20260409T185214Z
LAST-MODIFIED:20260422T141754Z
UID:10002108-1817280000-1817287200@www.poloparkeastgolf.com
SUMMARY:Lady’s 18 Hole Scramble
DESCRIPTION:
URL:https://www.poloparkeastgolf.com/event/ladys-18-hole-scramble-2/2027-08-03/
END:VEVENT
BEGIN:VEVENT
DTSTART;TZID=UTC:20270810T080000
DTEND;TZID=UTC:20270810T100000
DTSTAMP:20260424T103336
CREATED:20260409T185214Z
LAST-MODIFIED:20260422T141754Z
UID:10002109-1817884800-1817892000@www.poloparkeastgolf.com
SUMMARY:Lady’s 18 Hole Scramble
DESCRIPTION:
URL:https://www.poloparkeastgolf.com/event/ladys-18-hole-scramble-2/2027-08-10/
END:VEVENT
BEGIN:VEVENT
DTSTART;TZID=UTC:20270817T080000
DTEND;TZID=UTC:20270817T100000
DTSTAMP:20260424T103336
CREATED:20260409T185214Z
LAST-MODIFIED:20260422T141754Z
UID:10002110-1818489600-1818496800@www.poloparkeastgolf.com
SUMMARY:Lady’s 18 Hole Scramble
DESCRIPTION:
URL:https://www.poloparkeastgolf.com/event/ladys-18-hole-scramble-2/2027-08-17/
END:VEVENT
BEGIN:VEVENT
DTSTART;TZID=UTC:20270824T080000
DTEND;TZID=UTC:20270824T100000
DTSTAMP:20260424T103336
CREATED:20260409T185214Z
LAST-MODIFIED:20260422T141754Z
UID:10002111-1819094400-1819101600@www.poloparkeastgolf.com
SUMMARY:Lady’s 18 Hole Scramble
DESCRIPTION:
URL:https://www.poloparkeastgolf.com/event/ladys-18-hole-scramble-2/2027-08-24/
END:VEVENT
BEGIN:VEVENT
DTSTART;TZID=UTC:20270831T080000
DTEND;TZID=UTC:20270831T100000
DTSTAMP:20260424T103336
CREATED:20260409T185214Z
LAST-MODIFIED:20260422T141754Z
UID:10002112-1819699200-1819706400@www.poloparkeastgolf.com
SUMMARY:Lady’s 18 Hole Scramble
DESCRIPTION:
URL:https://www.poloparkeastgolf.com/event/ladys-18-hole-scramble-2/2027-08-31/
END:VEVENT
BEGIN:VEVENT
DTSTART;TZID=UTC:20270907T080000
DTEND;TZID=UTC:20270907T100000
DTSTAMP:20260424T103336
CREATED:20260409T185214Z
LAST-MODIFIED:20260422T141754Z
UID:10002113-1820304000-1820311200@www.poloparkeastgolf.com
SUMMARY:Lady’s 18 Hole Scramble
DESCRIPTION:
URL:https://www.poloparkeastgolf.com/event/ladys-18-hole-scramble-2/2027-09-07/
END:VEVENT
BEGIN:VEVENT
DTSTART;TZID=UTC:20270914T080000
DTEND;TZID=UTC:20270914T100000
DTSTAMP:20260424T103336
CREATED:20260409T185214Z
LAST-MODIFIED:20260422T141754Z
UID:10002114-1820908800-1820916000@www.poloparkeastgolf.com
SUMMARY:Lady’s 18 Hole Scramble
DESCRIPTION:
URL:https://www.poloparkeastgolf.com/event/ladys-18-hole-scramble-2/2027-09-14/
END:VEVENT
BEGIN:VEVENT
DTSTART;TZID=UTC:20270921T080000
DTEND;TZID=UTC:20270921T100000
DTSTAMP:20260424T103336
CREATED:20260409T185214Z
LAST-MODIFIED:20260422T141754Z
UID:10002115-1821513600-1821520800@www.poloparkeastgolf.com
SUMMARY:Lady’s 18 Hole Scramble
DESCRIPTION:
URL:https://www.poloparkeastgolf.com/event/ladys-18-hole-scramble-2/2027-09-21/
END:VEVENT
BEGIN:VEVENT
DTSTART;TZID=UTC:20270928T080000
DTEND;TZID=UTC:20270928T100000
DTSTAMP:20260424T103336
CREATED:20260409T185214Z
LAST-MODIFIED:20260422T141754Z
UID:10002116-1822118400-1822125600@www.poloparkeastgolf.com
SUMMARY:Lady’s 18 Hole Scramble
DESCRIPTION:
URL:https://www.poloparkeastgolf.com/event/ladys-18-hole-scramble-2/2027-09-28/
END:VEVENT
BEGIN:VEVENT
DTSTART;TZID=UTC:20271005T080000
DTEND;TZID=UTC:20271005T100000
DTSTAMP:20260424T103336
CREATED:20260409T185214Z
LAST-MODIFIED:20260422T141754Z
UID:10002117-1822723200-1822730400@www.poloparkeastgolf.com
SUMMARY:Lady’s 18 Hole Scramble
DESCRIPTION:
URL:https://www.poloparkeastgolf.com/event/ladys-18-hole-scramble-2/2027-10-05/
END:VEVENT
BEGIN:VEVENT
DTSTART;TZID=UTC:20271012T080000
DTEND;TZID=UTC:20271012T100000
DTSTAMP:20260424T103336
CREATED:20260409T185214Z
LAST-MODIFIED:20260422T141754Z
UID:10002118-1823328000-1823335200@www.poloparkeastgolf.com
SUMMARY:Lady’s 18 Hole Scramble
DESCRIPTION:
URL:https://www.poloparkeastgolf.com/event/ladys-18-hole-scramble-2/2027-10-12/
END:VEVENT
BEGIN:VEVENT
DTSTART;TZID=UTC:20271019T080000
DTEND;TZID=UTC:20271019T100000
DTSTAMP:20260424T103336
CREATED:20260409T185214Z
LAST-MODIFIED:20260422T141754Z
UID:10002119-1823932800-1823940000@www.poloparkeastgolf.com
SUMMARY:Lady’s 18 Hole Scramble
DESCRIPTION:
URL:https://www.poloparkeastgolf.com/event/ladys-18-hole-scramble-2/2027-10-19/
END:VEVENT
BEGIN:VEVENT
DTSTART;TZID=UTC:20271026T080000
DTEND;TZID=UTC:20271026T100000
DTSTAMP:20260424T103336
CREATED:20260409T185214Z
LAST-MODIFIED:20260422T141754Z
UID:10002120-1824537600-1824544800@www.poloparkeastgolf.com
SUMMARY:Lady’s 18 Hole Scramble
DESCRIPTION:
URL:https://www.poloparkeastgolf.com/event/ladys-18-hole-scramble-2/2027-10-26/
END:VEVENT
BEGIN:VEVENT
DTSTART;TZID=UTC:20271102T080000
DTEND;TZID=UTC:20271102T100000
DTSTAMP:20260424T103336
CREATED:20260409T185214Z
LAST-MODIFIED:20260422T141754Z
UID:10002121-1825142400-1825149600@www.poloparkeastgolf.com
SUMMARY:Lady’s 18 Hole Scramble
DESCRIPTION:
URL:https://www.poloparkeastgolf.com/event/ladys-18-hole-scramble-2/2027-11-02/
END:VEVENT
BEGIN:VEVENT
DTSTART;TZID=UTC:20271109T080000
DTEND;TZID=UTC:20271109T100000
DTSTAMP:20260424T103336
CREATED:20260409T185214Z
LAST-MODIFIED:20260422T141754Z
UID:10002122-1825747200-1825754400@www.poloparkeastgolf.com
SUMMARY:Lady’s 18 Hole Scramble
DESCRIPTION:
URL:https://www.poloparkeastgolf.com/event/ladys-18-hole-scramble-2/2027-11-09/
END:VEVENT
BEGIN:VEVENT
DTSTART;TZID=UTC:20271116T080000
DTEND;TZID=UTC:20271116T100000
DTSTAMP:20260424T103336
CREATED:20260409T185214Z
LAST-MODIFIED:20260422T141754Z
UID:10002123-1826352000-1826359200@www.poloparkeastgolf.com
SUMMARY:Lady’s 18 Hole Scramble
DESCRIPTION:
URL:https://www.poloparkeastgolf.com/event/ladys-18-hole-scramble-2/2027-11-16/
END:VEVENT
BEGIN:VEVENT
DTSTART;TZID=UTC:20271123T080000
DTEND;TZID=UTC:20271123T100000
DTSTAMP:20260424T103336
CREATED:20260409T185214Z
LAST-MODIFIED:20260422T141754Z
UID:10002124-1826956800-1826964000@www.poloparkeastgolf.com
SUMMARY:Lady’s 18 Hole Scramble
DESCRIPTION:
URL:https://www.poloparkeastgolf.com/event/ladys-18-hole-scramble-2/2027-11-23/
END:VEVENT
BEGIN:VEVENT
DTSTART;TZID=UTC:20271130T080000
DTEND;TZID=UTC:20271130T100000
DTSTAMP:20260424T103336
CREATED:20260409T185214Z
LAST-MODIFIED:20260422T141754Z
UID:10002125-1827561600-1827568800@www.poloparkeastgolf.com
SUMMARY:Lady’s 18 Hole Scramble
DESCRIPTION:
URL:https://www.poloparkeastgolf.com/event/ladys-18-hole-scramble-2/2027-11-30/
END:VEVENT
BEGIN:VEVENT
DTSTART;TZID=UTC:20271207T080000
DTEND;TZID=UTC:20271207T100000
DTSTAMP:20260424T103336
CREATED:20260409T185214Z
LAST-MODIFIED:20260422T141754Z
UID:10002126-1828166400-1828173600@www.poloparkeastgolf.com
SUMMARY:Lady’s 18 Hole Scramble
DESCRIPTION:
URL:https://www.poloparkeastgolf.com/event/ladys-18-hole-scramble-2/2027-12-07/
END:VEVENT
BEGIN:VEVENT
DTSTART;TZID=UTC:20271214T080000
DTEND;TZID=UTC:20271214T100000
DTSTAMP:20260424T103336
CREATED:20260409T185214Z
LAST-MODIFIED:20260422T141754Z
UID:10002127-1828771200-1828778400@www.poloparkeastgolf.com
SUMMARY:Lady’s 18 Hole Scramble
DESCRIPTION:
URL:https://www.poloparkeastgolf.com/event/ladys-18-hole-scramble-2/2027-12-14/
END:VEVENT
BEGIN:VEVENT
DTSTART;TZID=UTC:20271221T080000
DTEND;TZID=UTC:20271221T100000
DTSTAMP:20260424T103336
CREATED:20260409T185214Z
LAST-MODIFIED:20260422T141754Z
UID:10002128-1829376000-1829383200@www.poloparkeastgolf.com
SUMMARY:Lady’s 18 Hole Scramble
DESCRIPTION:
URL:https://www.poloparkeastgolf.com/event/ladys-18-hole-scramble-2/2027-12-21/
END:VEVENT
BEGIN:VEVENT
DTSTART;TZID=UTC:20271228T080000
DTEND;TZID=UTC:20271228T100000
DTSTAMP:20260424T103336
CREATED:20260409T185214Z
LAST-MODIFIED:20260422T141754Z
UID:10002129-1829980800-1829988000@www.poloparkeastgolf.com
SUMMARY:Lady’s 18 Hole Scramble
DESCRIPTION:
URL:https://www.poloparkeastgolf.com/event/ladys-18-hole-scramble-2/2027-12-28/
END:VEVENT
BEGIN:VEVENT
DTSTART;TZID=UTC:20280104T080000
DTEND;TZID=UTC:20280104T100000
DTSTAMP:20260424T103336
CREATED:20260409T185214Z
LAST-MODIFIED:20260422T141754Z
UID:10002130-1830585600-1830592800@www.poloparkeastgolf.com
SUMMARY:Lady’s 18 Hole Scramble
DESCRIPTION:
URL:https://www.poloparkeastgolf.com/event/ladys-18-hole-scramble-2/2028-01-04/
END:VEVENT
BEGIN:VEVENT
DTSTART;TZID=UTC:20280111T080000
DTEND;TZID=UTC:20280111T100000
DTSTAMP:20260424T103336
CREATED:20260409T185214Z
LAST-MODIFIED:20260422T141754Z
UID:10002131-1831190400-1831197600@www.poloparkeastgolf.com
SUMMARY:Lady’s 18 Hole Scramble
DESCRIPTION:
URL:https://www.poloparkeastgolf.com/event/ladys-18-hole-scramble-2/2028-01-11/
END:VEVENT
END:VCALENDAR