BEGIN:VCALENDAR
VERSION:2.0
PRODID:-//Polo Park East - ECPv6.15.18//NONSGML v1.0//EN
CALSCALE:GREGORIAN
METHOD:PUBLISH
X-WR-CALNAME:Polo Park East
X-ORIGINAL-URL:https://www.poloparkeastgolf.com
X-WR-CALDESC:Events for Polo Park East
REFRESH-INTERVAL;VALUE=DURATION:PT1H
X-Robots-Tag:noindex
X-PUBLISHED-TTL:PT1H
BEGIN:VTIMEZONE
TZID:UTC
BEGIN:STANDARD
TZOFFSETFROM:+0000
TZOFFSETTO:+0000
TZNAME:UTC
DTSTART:20260101T000000
END:STANDARD
END:VTIMEZONE
BEGIN:VEVENT
DTSTART;TZID=UTC:20270113T074500
DTEND;TZID=UTC:20270113T113000
DTSTAMP:20260421T230438
CREATED:20260409T150102Z
LAST-MODIFIED:20260409T150259Z
UID:10001080-1799826300-1799839800@www.poloparkeastgolf.com
SUMMARY:Men’s Golf Scramble
DESCRIPTION:All are welcome. Teams picked by draw.
URL:https://www.poloparkeastgolf.com/event/mens-golf-scramble-2/2027-01-13/
END:VEVENT
BEGIN:VEVENT
DTSTART;TZID=UTC:20270114T074500
DTEND;TZID=UTC:20270114T074500
DTSTAMP:20260421T230438
CREATED:20260409T143647Z
LAST-MODIFIED:20260409T143652Z
UID:10000040-1799912700-1799912700@www.poloparkeastgolf.com
SUMMARY:Lady’s 18 Hole Scramble
DESCRIPTION:
URL:https://www.poloparkeastgolf.com/event/ladys-18-hole-scramble/2027-01-14/
END:VEVENT
BEGIN:VEVENT
DTSTART;TZID=UTC:20270114T074500
DTEND;TZID=UTC:20270114T074500
DTSTAMP:20260421T230438
CREATED:20260409T143828Z
LAST-MODIFIED:20260409T143832Z
UID:10000143-1799912700-1799912700@www.poloparkeastgolf.com
SUMMARY:Lady’s 9 Hole Scramble
DESCRIPTION:
URL:https://www.poloparkeastgolf.com/event/ladys-9-hole-scramble/2027-01-14/
END:VEVENT
BEGIN:VEVENT
DTSTART;TZID=UTC:20270115T074500
DTEND;TZID=UTC:20270115T113000
DTSTAMP:20260421T230438
CREATED:20260409T144241Z
LAST-MODIFIED:20260409T144246Z
UID:10000247-1799999100-1800012600@www.poloparkeastgolf.com
SUMMARY:Men’s Golf Club
DESCRIPTION:
URL:https://www.poloparkeastgolf.com/event/mens-golf-club/2027-01-15/
END:VEVENT
BEGIN:VEVENT
DTSTART;TZID=UTC:20270116T074500
DTEND;TZID=UTC:20270116T113000
DTSTAMP:20260421T230438
CREATED:20260409T144557Z
LAST-MODIFIED:20260409T144726Z
UID:10000508-1800085500-1800099000@www.poloparkeastgolf.com
SUMMARY:Men’s Golf Scramble
DESCRIPTION:All are welcome. Teams picked by draw.
URL:https://www.poloparkeastgolf.com/event/mens-golf-scramble/2027-01-16/
END:VEVENT
BEGIN:VEVENT
DTSTART;TZID=UTC:20270117T080000
DTEND;TZID=UTC:20270117T080000
DTSTAMP:20260421T230438
CREATED:20260409T150506Z
LAST-MODIFIED:20260409T150510Z
UID:10001157-1800172800-1800172800@www.poloparkeastgolf.com
SUMMARY:Mom and Pop Golf
DESCRIPTION:
URL:https://www.poloparkeastgolf.com/event/mom-and-pop-golf/2027-01-17/
END:VEVENT
BEGIN:VEVENT
DTSTART;TZID=UTC:20270118T074500
DTEND;TZID=UTC:20270118T113000
DTSTAMP:20260421T230438
CREATED:20260409T144922Z
LAST-MODIFIED:20260409T144925Z
UID:10000614-1800258300-1800271800@www.poloparkeastgolf.com
SUMMARY:Men’s Golf Club
DESCRIPTION:
URL:https://www.poloparkeastgolf.com/event/mens-golf-club-2/2027-01-18/
END:VEVENT
BEGIN:VEVENT
DTSTART;TZID=UTC:20270119T074500
DTEND;TZID=UTC:20270119T074500
DTSTAMP:20260421T230438
CREATED:20260409T145214Z
LAST-MODIFIED:20260409T145219Z
UID:10000875-1800344700-1800344700@www.poloparkeastgolf.com
SUMMARY:Lady’s 18 Hole Scramble
DESCRIPTION:
URL:https://www.poloparkeastgolf.com/event/ladys-18-hole-scramble-2/2027-01-19/
END:VEVENT
BEGIN:VEVENT
DTSTART;TZID=UTC:20270119T074500
DTEND;TZID=UTC:20270119T074500
DTSTAMP:20260421T230438
CREATED:20260409T145459Z
LAST-MODIFIED:20260409T145503Z
UID:10000978-1800344700-1800344700@www.poloparkeastgolf.com
SUMMARY:Lady’s 9 Hole Scramble
DESCRIPTION:
URL:https://www.poloparkeastgolf.com/event/ladys-9-hole-scramble-2/2027-01-19/
END:VEVENT
BEGIN:VEVENT
DTSTART;TZID=UTC:20270120T074500
DTEND;TZID=UTC:20270120T113000
DTSTAMP:20260421T230438
CREATED:20260409T150102Z
LAST-MODIFIED:20260409T150259Z
UID:10001081-1800431100-1800444600@www.poloparkeastgolf.com
SUMMARY:Men’s Golf Scramble
DESCRIPTION:All are welcome. Teams picked by draw.
URL:https://www.poloparkeastgolf.com/event/mens-golf-scramble-2/2027-01-20/
END:VEVENT
BEGIN:VEVENT
DTSTART;TZID=UTC:20270121T074500
DTEND;TZID=UTC:20270121T074500
DTSTAMP:20260421T230438
CREATED:20260409T143647Z
LAST-MODIFIED:20260409T143652Z
UID:10000041-1800517500-1800517500@www.poloparkeastgolf.com
SUMMARY:Lady’s 18 Hole Scramble
DESCRIPTION:
URL:https://www.poloparkeastgolf.com/event/ladys-18-hole-scramble/2027-01-21/
END:VEVENT
BEGIN:VEVENT
DTSTART;TZID=UTC:20270121T074500
DTEND;TZID=UTC:20270121T074500
DTSTAMP:20260421T230438
CREATED:20260409T143828Z
LAST-MODIFIED:20260409T143832Z
UID:10000144-1800517500-1800517500@www.poloparkeastgolf.com
SUMMARY:Lady’s 9 Hole Scramble
DESCRIPTION:
URL:https://www.poloparkeastgolf.com/event/ladys-9-hole-scramble/2027-01-21/
END:VEVENT
BEGIN:VEVENT
DTSTART;TZID=UTC:20270122T074500
DTEND;TZID=UTC:20270122T113000
DTSTAMP:20260421T230438
CREATED:20260409T144241Z
LAST-MODIFIED:20260409T144246Z
UID:10000248-1800603900-1800617400@www.poloparkeastgolf.com
SUMMARY:Men’s Golf Club
DESCRIPTION:
URL:https://www.poloparkeastgolf.com/event/mens-golf-club/2027-01-22/
END:VEVENT
BEGIN:VEVENT
DTSTART;TZID=UTC:20270123T074500
DTEND;TZID=UTC:20270123T113000
DTSTAMP:20260421T230438
CREATED:20260409T144557Z
LAST-MODIFIED:20260409T144726Z
UID:10000509-1800690300-1800703800@www.poloparkeastgolf.com
SUMMARY:Men’s Golf Scramble
DESCRIPTION:All are welcome. Teams picked by draw.
URL:https://www.poloparkeastgolf.com/event/mens-golf-scramble/2027-01-23/
END:VEVENT
BEGIN:VEVENT
DTSTART;TZID=UTC:20270125T074500
DTEND;TZID=UTC:20270125T113000
DTSTAMP:20260421T230438
CREATED:20260409T144922Z
LAST-MODIFIED:20260409T144925Z
UID:10000615-1800863100-1800876600@www.poloparkeastgolf.com
SUMMARY:Men’s Golf Club
DESCRIPTION:
URL:https://www.poloparkeastgolf.com/event/mens-golf-club-2/2027-01-25/
END:VEVENT
BEGIN:VEVENT
DTSTART;TZID=UTC:20270126T074500
DTEND;TZID=UTC:20270126T074500
DTSTAMP:20260421T230438
CREATED:20260409T145214Z
LAST-MODIFIED:20260409T145219Z
UID:10000876-1800949500-1800949500@www.poloparkeastgolf.com
SUMMARY:Lady’s 18 Hole Scramble
DESCRIPTION:
URL:https://www.poloparkeastgolf.com/event/ladys-18-hole-scramble-2/2027-01-26/
END:VEVENT
BEGIN:VEVENT
DTSTART;TZID=UTC:20270126T074500
DTEND;TZID=UTC:20270126T074500
DTSTAMP:20260421T230438
CREATED:20260409T145459Z
LAST-MODIFIED:20260409T145503Z
UID:10000979-1800949500-1800949500@www.poloparkeastgolf.com
SUMMARY:Lady’s 9 Hole Scramble
DESCRIPTION:
URL:https://www.poloparkeastgolf.com/event/ladys-9-hole-scramble-2/2027-01-26/
END:VEVENT
BEGIN:VEVENT
DTSTART;TZID=UTC:20270127T074500
DTEND;TZID=UTC:20270127T113000
DTSTAMP:20260421T230438
CREATED:20260409T150102Z
LAST-MODIFIED:20260409T150259Z
UID:10001082-1801035900-1801049400@www.poloparkeastgolf.com
SUMMARY:Men’s Golf Scramble
DESCRIPTION:All are welcome. Teams picked by draw.
URL:https://www.poloparkeastgolf.com/event/mens-golf-scramble-2/2027-01-27/
END:VEVENT
BEGIN:VEVENT
DTSTART;TZID=UTC:20270128T074500
DTEND;TZID=UTC:20270128T074500
DTSTAMP:20260421T230438
CREATED:20260409T143647Z
LAST-MODIFIED:20260409T143652Z
UID:10000042-1801122300-1801122300@www.poloparkeastgolf.com
SUMMARY:Lady’s 18 Hole Scramble
DESCRIPTION:
URL:https://www.poloparkeastgolf.com/event/ladys-18-hole-scramble/2027-01-28/
END:VEVENT
BEGIN:VEVENT
DTSTART;TZID=UTC:20270128T074500
DTEND;TZID=UTC:20270128T074500
DTSTAMP:20260421T230438
CREATED:20260409T143828Z
LAST-MODIFIED:20260409T143832Z
UID:10000145-1801122300-1801122300@www.poloparkeastgolf.com
SUMMARY:Lady’s 9 Hole Scramble
DESCRIPTION:
URL:https://www.poloparkeastgolf.com/event/ladys-9-hole-scramble/2027-01-28/
END:VEVENT
BEGIN:VEVENT
DTSTART;TZID=UTC:20270129T074500
DTEND;TZID=UTC:20270129T113000
DTSTAMP:20260421T230438
CREATED:20260409T144241Z
LAST-MODIFIED:20260409T144246Z
UID:10000249-1801208700-1801222200@www.poloparkeastgolf.com
SUMMARY:Men’s Golf Club
DESCRIPTION:
URL:https://www.poloparkeastgolf.com/event/mens-golf-club/2027-01-29/
END:VEVENT
BEGIN:VEVENT
DTSTART;TZID=UTC:20270130T074500
DTEND;TZID=UTC:20270130T113000
DTSTAMP:20260421T230438
CREATED:20260409T144557Z
LAST-MODIFIED:20260409T144726Z
UID:10000510-1801295100-1801308600@www.poloparkeastgolf.com
SUMMARY:Men’s Golf Scramble
DESCRIPTION:All are welcome. Teams picked by draw.
URL:https://www.poloparkeastgolf.com/event/mens-golf-scramble/2027-01-30/
END:VEVENT
BEGIN:VEVENT
DTSTART;TZID=UTC:20270201T074500
DTEND;TZID=UTC:20270201T113000
DTSTAMP:20260421T230438
CREATED:20260409T144922Z
LAST-MODIFIED:20260409T144925Z
UID:10000616-1801467900-1801481400@www.poloparkeastgolf.com
SUMMARY:Men’s Golf Club
DESCRIPTION:
URL:https://www.poloparkeastgolf.com/event/mens-golf-club-2/2027-02-01/
END:VEVENT
BEGIN:VEVENT
DTSTART;TZID=UTC:20270202T074500
DTEND;TZID=UTC:20270202T074500
DTSTAMP:20260421T230438
CREATED:20260409T145214Z
LAST-MODIFIED:20260409T145219Z
UID:10000877-1801554300-1801554300@www.poloparkeastgolf.com
SUMMARY:Lady’s 18 Hole Scramble
DESCRIPTION:
URL:https://www.poloparkeastgolf.com/event/ladys-18-hole-scramble-2/2027-02-02/
END:VEVENT
BEGIN:VEVENT
DTSTART;TZID=UTC:20270202T074500
DTEND;TZID=UTC:20270202T074500
DTSTAMP:20260421T230438
CREATED:20260409T145459Z
LAST-MODIFIED:20260409T145503Z
UID:10000980-1801554300-1801554300@www.poloparkeastgolf.com
SUMMARY:Lady’s 9 Hole Scramble
DESCRIPTION:
URL:https://www.poloparkeastgolf.com/event/ladys-9-hole-scramble-2/2027-02-02/
END:VEVENT
BEGIN:VEVENT
DTSTART;TZID=UTC:20270203T074500
DTEND;TZID=UTC:20270203T113000
DTSTAMP:20260421T230438
CREATED:20260409T150102Z
LAST-MODIFIED:20260409T150259Z
UID:10001083-1801640700-1801654200@www.poloparkeastgolf.com
SUMMARY:Men’s Golf Scramble
DESCRIPTION:All are welcome. Teams picked by draw.
URL:https://www.poloparkeastgolf.com/event/mens-golf-scramble-2/2027-02-03/
END:VEVENT
BEGIN:VEVENT
DTSTART;TZID=UTC:20270204T074500
DTEND;TZID=UTC:20270204T074500
DTSTAMP:20260421T230438
CREATED:20260409T143647Z
LAST-MODIFIED:20260409T143652Z
UID:10000043-1801727100-1801727100@www.poloparkeastgolf.com
SUMMARY:Lady’s 18 Hole Scramble
DESCRIPTION:
URL:https://www.poloparkeastgolf.com/event/ladys-18-hole-scramble/2027-02-04/
END:VEVENT
BEGIN:VEVENT
DTSTART;TZID=UTC:20270204T074500
DTEND;TZID=UTC:20270204T074500
DTSTAMP:20260421T230438
CREATED:20260409T143828Z
LAST-MODIFIED:20260409T143832Z
UID:10000146-1801727100-1801727100@www.poloparkeastgolf.com
SUMMARY:Lady’s 9 Hole Scramble
DESCRIPTION:
URL:https://www.poloparkeastgolf.com/event/ladys-9-hole-scramble/2027-02-04/
END:VEVENT
BEGIN:VEVENT
DTSTART;TZID=UTC:20270205T074500
DTEND;TZID=UTC:20270205T113000
DTSTAMP:20260421T230438
CREATED:20260409T144241Z
LAST-MODIFIED:20260409T144246Z
UID:10000250-1801813500-1801827000@www.poloparkeastgolf.com
SUMMARY:Men’s Golf Club
DESCRIPTION:
URL:https://www.poloparkeastgolf.com/event/mens-golf-club/2027-02-05/
END:VEVENT
BEGIN:VEVENT
DTSTART;TZID=UTC:20270206T074500
DTEND;TZID=UTC:20270206T113000
DTSTAMP:20260421T230438
CREATED:20260409T144557Z
LAST-MODIFIED:20260409T144726Z
UID:10000511-1801899900-1801913400@www.poloparkeastgolf.com
SUMMARY:Men’s Golf Scramble
DESCRIPTION:All are welcome. Teams picked by draw.
URL:https://www.poloparkeastgolf.com/event/mens-golf-scramble/2027-02-06/
END:VEVENT
END:VCALENDAR