BEGIN:VCALENDAR
VERSION:2.0
PRODID:-//Polo Park East - ECPv6.15.18//NONSGML v1.0//EN
CALSCALE:GREGORIAN
METHOD:PUBLISH
X-ORIGINAL-URL:https://www.poloparkeastgolf.com
X-WR-CALDESC:Events for Polo Park East
REFRESH-INTERVAL;VALUE=DURATION:PT1H
X-Robots-Tag:noindex
X-PUBLISHED-TTL:PT1H
BEGIN:VTIMEZONE
TZID:UTC
BEGIN:STANDARD
TZOFFSETFROM:+0000
TZOFFSETTO:+0000
TZNAME:UTC
DTSTART:20250101T000000
END:STANDARD
END:VTIMEZONE
BEGIN:VEVENT
DTSTART;TZID=UTC:20260622T074500
DTEND;TZID=UTC:20260622T100000
DTSTAMP:20260423T080507
CREATED:20260409T184922Z
LAST-MODIFIED:20260422T142915Z
UID:10000584-1782114300-1782122400@www.poloparkeastgolf.com
SUMMARY:Men’s Golf Club
DESCRIPTION:
URL:https://www.poloparkeastgolf.com/event/mens-golf-club-2/2026-06-22/
END:VEVENT
BEGIN:VEVENT
DTSTART;TZID=UTC:20260623T080000
DTEND;TZID=UTC:20260623T100000
DTSTAMP:20260423T080507
CREATED:20260409T185214Z
LAST-MODIFIED:20260422T141754Z
UID:10002050-1782201600-1782208800@www.poloparkeastgolf.com
SUMMARY:Lady’s 18 Hole Scramble
DESCRIPTION:
URL:https://www.poloparkeastgolf.com/event/ladys-18-hole-scramble-2/2026-06-23/
END:VEVENT
BEGIN:VEVENT
DTSTART;TZID=UTC:20260623T080000
DTEND;TZID=UTC:20260623T100000
DTSTAMP:20260423T080507
CREATED:20260409T185459Z
LAST-MODIFIED:20260422T141643Z
UID:10001947-1782201600-1782208800@www.poloparkeastgolf.com
SUMMARY:Lady’s 9 Hole Scramble
DESCRIPTION:
URL:https://www.poloparkeastgolf.com/event/ladys-9-hole-scramble-2/2026-06-23/
END:VEVENT
BEGIN:VEVENT
DTSTART;TZID=UTC:20260625T080000
DTEND;TZID=UTC:20260625T100000
DTSTAMP:20260423T080507
CREATED:20260409T183647Z
LAST-MODIFIED:20260422T142334Z
UID:10001228-1782374400-1782381600@www.poloparkeastgolf.com
SUMMARY:Lady’s 18 Hole Scramble
DESCRIPTION:
URL:https://www.poloparkeastgolf.com/event/ladys-18-hole-scramble/2026-06-25/
END:VEVENT
BEGIN:VEVENT
DTSTART;TZID=UTC:20260625T080000
DTEND;TZID=UTC:20260625T100000
DTSTAMP:20260423T080507
CREATED:20260422T140605Z
LAST-MODIFIED:20260422T145513Z
UID:10001433-1782374400-1782381600@www.poloparkeastgolf.com
SUMMARY:Lady’s 9 Hole Scramble
DESCRIPTION:
URL:https://www.poloparkeastgolf.com/event/ladys-9-hole-scramble-3/2026-06-25/
END:VEVENT
BEGIN:VEVENT
DTSTART;TZID=UTC:20260626T074500
DTEND;TZID=UTC:20260626T113000
DTSTAMP:20260423T080507
CREATED:20260409T184241Z
LAST-MODIFIED:20260409T184246Z
UID:10000218-1782459900-1782473400@www.poloparkeastgolf.com
SUMMARY:Men’s Golf Club
DESCRIPTION:
URL:https://www.poloparkeastgolf.com/event/mens-golf-club/2026-06-26/
END:VEVENT
BEGIN:VEVENT
DTSTART;TZID=UTC:20260627T080000
DTEND;TZID=UTC:20260627T110000
DTSTAMP:20260423T080507
CREATED:20260409T184557Z
LAST-MODIFIED:20260422T142556Z
UID:10001841-1782547200-1782558000@www.poloparkeastgolf.com
SUMMARY:Men’s 18 Hole Scramble
DESCRIPTION:All are welcome. Teams picked by draw. Please arrive by 7:30AM.
URL:https://www.poloparkeastgolf.com/event/mens-golf-scramble/2026-06-27/
END:VEVENT
BEGIN:VEVENT
DTSTART;TZID=UTC:20260629T074500
DTEND;TZID=UTC:20260629T100000
DTSTAMP:20260423T080507
CREATED:20260409T184922Z
LAST-MODIFIED:20260422T142915Z
UID:10000585-1782719100-1782727200@www.poloparkeastgolf.com
SUMMARY:Men’s Golf Club
DESCRIPTION:
URL:https://www.poloparkeastgolf.com/event/mens-golf-club-2/2026-06-29/
END:VEVENT
BEGIN:VEVENT
DTSTART;TZID=UTC:20260630T080000
DTEND;TZID=UTC:20260630T100000
DTSTAMP:20260423T080507
CREATED:20260409T185214Z
LAST-MODIFIED:20260422T141754Z
UID:10002051-1782806400-1782813600@www.poloparkeastgolf.com
SUMMARY:Lady’s 18 Hole Scramble
DESCRIPTION:
URL:https://www.poloparkeastgolf.com/event/ladys-18-hole-scramble-2/2026-06-30/
END:VEVENT
BEGIN:VEVENT
DTSTART;TZID=UTC:20260630T080000
DTEND;TZID=UTC:20260630T100000
DTSTAMP:20260423T080507
CREATED:20260409T185459Z
LAST-MODIFIED:20260422T141643Z
UID:10001948-1782806400-1782813600@www.poloparkeastgolf.com
SUMMARY:Lady’s 9 Hole Scramble
DESCRIPTION:
URL:https://www.poloparkeastgolf.com/event/ladys-9-hole-scramble-2/2026-06-30/
END:VEVENT
BEGIN:VEVENT
DTSTART;TZID=UTC:20260702T080000
DTEND;TZID=UTC:20260702T100000
DTSTAMP:20260423T080507
CREATED:20260409T183647Z
LAST-MODIFIED:20260422T142334Z
UID:10001230-1782979200-1782986400@www.poloparkeastgolf.com
SUMMARY:Lady’s 18 Hole Scramble
DESCRIPTION:
URL:https://www.poloparkeastgolf.com/event/ladys-18-hole-scramble/2026-07-02/
END:VEVENT
BEGIN:VEVENT
DTSTART;TZID=UTC:20260702T080000
DTEND;TZID=UTC:20260702T100000
DTSTAMP:20260423T080507
CREATED:20260422T140605Z
LAST-MODIFIED:20260422T145513Z
UID:10001435-1782979200-1782986400@www.poloparkeastgolf.com
SUMMARY:Lady’s 9 Hole Scramble
DESCRIPTION:
URL:https://www.poloparkeastgolf.com/event/ladys-9-hole-scramble-3/2026-07-02/
END:VEVENT
BEGIN:VEVENT
DTSTART;TZID=UTC:20260703T074500
DTEND;TZID=UTC:20260703T113000
DTSTAMP:20260423T080507
CREATED:20260409T184241Z
LAST-MODIFIED:20260409T184246Z
UID:10000219-1783064700-1783078200@www.poloparkeastgolf.com
SUMMARY:Men’s Golf Club
DESCRIPTION:
URL:https://www.poloparkeastgolf.com/event/mens-golf-club/2026-07-03/
END:VEVENT
BEGIN:VEVENT
DTSTART;TZID=UTC:20260704T080000
DTEND;TZID=UTC:20260704T110000
DTSTAMP:20260423T080507
CREATED:20260409T184557Z
LAST-MODIFIED:20260422T142556Z
UID:10001842-1783152000-1783162800@www.poloparkeastgolf.com
SUMMARY:Men’s 18 Hole Scramble
DESCRIPTION:All are welcome. Teams picked by draw. Please arrive by 7:30AM.
URL:https://www.poloparkeastgolf.com/event/mens-golf-scramble/2026-07-04/
END:VEVENT
BEGIN:VEVENT
DTSTART;TZID=UTC:20260706T074500
DTEND;TZID=UTC:20260706T100000
DTSTAMP:20260423T080507
CREATED:20260409T184922Z
LAST-MODIFIED:20260422T142915Z
UID:10000586-1783323900-1783332000@www.poloparkeastgolf.com
SUMMARY:Men’s Golf Club
DESCRIPTION:
URL:https://www.poloparkeastgolf.com/event/mens-golf-club-2/2026-07-06/
END:VEVENT
BEGIN:VEVENT
DTSTART;TZID=UTC:20260707T080000
DTEND;TZID=UTC:20260707T100000
DTSTAMP:20260423T080507
CREATED:20260409T185214Z
LAST-MODIFIED:20260422T141754Z
UID:10002052-1783411200-1783418400@www.poloparkeastgolf.com
SUMMARY:Lady’s 18 Hole Scramble
DESCRIPTION:
URL:https://www.poloparkeastgolf.com/event/ladys-18-hole-scramble-2/2026-07-07/
END:VEVENT
BEGIN:VEVENT
DTSTART;TZID=UTC:20260707T080000
DTEND;TZID=UTC:20260707T100000
DTSTAMP:20260423T080507
CREATED:20260409T185459Z
LAST-MODIFIED:20260422T141643Z
UID:10001949-1783411200-1783418400@www.poloparkeastgolf.com
SUMMARY:Lady’s 9 Hole Scramble
DESCRIPTION:
URL:https://www.poloparkeastgolf.com/event/ladys-9-hole-scramble-2/2026-07-07/
END:VEVENT
BEGIN:VEVENT
DTSTART;TZID=UTC:20260709T080000
DTEND;TZID=UTC:20260709T100000
DTSTAMP:20260423T080507
CREATED:20260409T183647Z
LAST-MODIFIED:20260422T142334Z
UID:10001232-1783584000-1783591200@www.poloparkeastgolf.com
SUMMARY:Lady’s 18 Hole Scramble
DESCRIPTION:
URL:https://www.poloparkeastgolf.com/event/ladys-18-hole-scramble/2026-07-09/
END:VEVENT
BEGIN:VEVENT
DTSTART;TZID=UTC:20260709T080000
DTEND;TZID=UTC:20260709T100000
DTSTAMP:20260423T080507
CREATED:20260422T140605Z
LAST-MODIFIED:20260422T145513Z
UID:10001437-1783584000-1783591200@www.poloparkeastgolf.com
SUMMARY:Lady’s 9 Hole Scramble
DESCRIPTION:
URL:https://www.poloparkeastgolf.com/event/ladys-9-hole-scramble-3/2026-07-09/
END:VEVENT
BEGIN:VEVENT
DTSTART;TZID=UTC:20260710T074500
DTEND;TZID=UTC:20260710T113000
DTSTAMP:20260423T080507
CREATED:20260409T184241Z
LAST-MODIFIED:20260409T184246Z
UID:10000220-1783669500-1783683000@www.poloparkeastgolf.com
SUMMARY:Men’s Golf Club
DESCRIPTION:
URL:https://www.poloparkeastgolf.com/event/mens-golf-club/2026-07-10/
END:VEVENT
BEGIN:VEVENT
DTSTART;TZID=UTC:20260711T080000
DTEND;TZID=UTC:20260711T110000
DTSTAMP:20260423T080507
CREATED:20260409T184557Z
LAST-MODIFIED:20260422T142556Z
UID:10001843-1783756800-1783767600@www.poloparkeastgolf.com
SUMMARY:Men’s 18 Hole Scramble
DESCRIPTION:All are welcome. Teams picked by draw. Please arrive by 7:30AM.
URL:https://www.poloparkeastgolf.com/event/mens-golf-scramble/2026-07-11/
END:VEVENT
BEGIN:VEVENT
DTSTART;TZID=UTC:20260713T074500
DTEND;TZID=UTC:20260713T100000
DTSTAMP:20260423T080507
CREATED:20260409T184922Z
LAST-MODIFIED:20260422T142915Z
UID:10000587-1783928700-1783936800@www.poloparkeastgolf.com
SUMMARY:Men’s Golf Club
DESCRIPTION:
URL:https://www.poloparkeastgolf.com/event/mens-golf-club-2/2026-07-13/
END:VEVENT
BEGIN:VEVENT
DTSTART;TZID=UTC:20260714T080000
DTEND;TZID=UTC:20260714T100000
DTSTAMP:20260423T080507
CREATED:20260409T185214Z
LAST-MODIFIED:20260422T141754Z
UID:10002053-1784016000-1784023200@www.poloparkeastgolf.com
SUMMARY:Lady’s 18 Hole Scramble
DESCRIPTION:
URL:https://www.poloparkeastgolf.com/event/ladys-18-hole-scramble-2/2026-07-14/
END:VEVENT
BEGIN:VEVENT
DTSTART;TZID=UTC:20260714T080000
DTEND;TZID=UTC:20260714T100000
DTSTAMP:20260423T080507
CREATED:20260409T185459Z
LAST-MODIFIED:20260422T141643Z
UID:10001950-1784016000-1784023200@www.poloparkeastgolf.com
SUMMARY:Lady’s 9 Hole Scramble
DESCRIPTION:
URL:https://www.poloparkeastgolf.com/event/ladys-9-hole-scramble-2/2026-07-14/
END:VEVENT
BEGIN:VEVENT
DTSTART;TZID=UTC:20260716T080000
DTEND;TZID=UTC:20260716T100000
DTSTAMP:20260423T080507
CREATED:20260409T183647Z
LAST-MODIFIED:20260422T142334Z
UID:10001234-1784188800-1784196000@www.poloparkeastgolf.com
SUMMARY:Lady’s 18 Hole Scramble
DESCRIPTION:
URL:https://www.poloparkeastgolf.com/event/ladys-18-hole-scramble/2026-07-16/
END:VEVENT
BEGIN:VEVENT
DTSTART;TZID=UTC:20260716T080000
DTEND;TZID=UTC:20260716T100000
DTSTAMP:20260423T080507
CREATED:20260422T140605Z
LAST-MODIFIED:20260422T145513Z
UID:10001439-1784188800-1784196000@www.poloparkeastgolf.com
SUMMARY:Lady’s 9 Hole Scramble
DESCRIPTION:
URL:https://www.poloparkeastgolf.com/event/ladys-9-hole-scramble-3/2026-07-16/
END:VEVENT
BEGIN:VEVENT
DTSTART;TZID=UTC:20260717T074500
DTEND;TZID=UTC:20260717T113000
DTSTAMP:20260423T080507
CREATED:20260409T184241Z
LAST-MODIFIED:20260409T184246Z
UID:10000221-1784274300-1784287800@www.poloparkeastgolf.com
SUMMARY:Men’s Golf Club
DESCRIPTION:
URL:https://www.poloparkeastgolf.com/event/mens-golf-club/2026-07-17/
END:VEVENT
BEGIN:VEVENT
DTSTART;TZID=UTC:20260718T080000
DTEND;TZID=UTC:20260718T110000
DTSTAMP:20260423T080507
CREATED:20260409T184557Z
LAST-MODIFIED:20260422T142556Z
UID:10001844-1784361600-1784372400@www.poloparkeastgolf.com
SUMMARY:Men’s 18 Hole Scramble
DESCRIPTION:All are welcome. Teams picked by draw. Please arrive by 7:30AM.
URL:https://www.poloparkeastgolf.com/event/mens-golf-scramble/2026-07-18/
END:VEVENT
BEGIN:VEVENT
DTSTART;TZID=UTC:20260719T080000
DTEND;TZID=UTC:20260719T080000
DTSTAMP:20260423T080507
CREATED:20260409T190506Z
LAST-MODIFIED:20260409T190510Z
UID:10001151-1784448000-1784448000@www.poloparkeastgolf.com
SUMMARY:Mom and Pop Golf
DESCRIPTION:
URL:https://www.poloparkeastgolf.com/event/mom-and-pop-golf/2026-07-19/
END:VEVENT
BEGIN:VEVENT
DTSTART;TZID=UTC:20260720T074500
DTEND;TZID=UTC:20260720T100000
DTSTAMP:20260423T080507
CREATED:20260409T184922Z
LAST-MODIFIED:20260422T142915Z
UID:10000588-1784533500-1784541600@www.poloparkeastgolf.com
SUMMARY:Men’s Golf Club
DESCRIPTION:
URL:https://www.poloparkeastgolf.com/event/mens-golf-club-2/2026-07-20/
END:VEVENT
END:VCALENDAR