BEGIN:VCALENDAR
VERSION:2.0
PRODID:-//Polo Park East - ECPv6.15.18//NONSGML v1.0//EN
CALSCALE:GREGORIAN
METHOD:PUBLISH
X-WR-CALNAME:Polo Park East
X-ORIGINAL-URL:https://www.poloparkeastgolf.com
X-WR-CALDESC:Events for Polo Park East
REFRESH-INTERVAL;VALUE=DURATION:PT1H
X-Robots-Tag:noindex
X-PUBLISHED-TTL:PT1H
BEGIN:VTIMEZONE
TZID:UTC
BEGIN:STANDARD
TZOFFSETFROM:+0000
TZOFFSETTO:+0000
TZNAME:UTC
DTSTART:20250101T000000
END:STANDARD
END:VTIMEZONE
BEGIN:VEVENT
DTSTART;TZID=UTC:20260612T074500
DTEND;TZID=UTC:20260612T113000
DTSTAMP:20260423T075255
CREATED:20260409T184241Z
LAST-MODIFIED:20260409T184246Z
UID:10000216-1781250300-1781263800@www.poloparkeastgolf.com
SUMMARY:Men’s Golf Club
DESCRIPTION:
URL:https://www.poloparkeastgolf.com/event/mens-golf-club/2026-06-12/
END:VEVENT
BEGIN:VEVENT
DTSTART;TZID=UTC:20260611T080000
DTEND;TZID=UTC:20260611T100000
DTSTAMP:20260423T075255
CREATED:20260422T140605Z
LAST-MODIFIED:20260422T145513Z
UID:10001429-1781164800-1781172000@www.poloparkeastgolf.com
SUMMARY:Lady’s 9 Hole Scramble
DESCRIPTION:
URL:https://www.poloparkeastgolf.com/event/ladys-9-hole-scramble-3/2026-06-11/
END:VEVENT
BEGIN:VEVENT
DTSTART;TZID=UTC:20260611T080000
DTEND;TZID=UTC:20260611T100000
DTSTAMP:20260423T075255
CREATED:20260409T183647Z
LAST-MODIFIED:20260422T142334Z
UID:10001224-1781164800-1781172000@www.poloparkeastgolf.com
SUMMARY:Lady’s 18 Hole Scramble
DESCRIPTION:
URL:https://www.poloparkeastgolf.com/event/ladys-18-hole-scramble/2026-06-11/
END:VEVENT
BEGIN:VEVENT
DTSTART;TZID=UTC:20260609T080000
DTEND;TZID=UTC:20260609T100000
DTSTAMP:20260423T075255
CREATED:20260409T185459Z
LAST-MODIFIED:20260422T141643Z
UID:10001945-1780992000-1780999200@www.poloparkeastgolf.com
SUMMARY:Lady’s 9 Hole Scramble
DESCRIPTION:
URL:https://www.poloparkeastgolf.com/event/ladys-9-hole-scramble-2/2026-06-09/
END:VEVENT
BEGIN:VEVENT
DTSTART;TZID=UTC:20260609T080000
DTEND;TZID=UTC:20260609T100000
DTSTAMP:20260423T075255
CREATED:20260409T185214Z
LAST-MODIFIED:20260422T141754Z
UID:10002048-1780992000-1780999200@www.poloparkeastgolf.com
SUMMARY:Lady’s 18 Hole Scramble
DESCRIPTION:
URL:https://www.poloparkeastgolf.com/event/ladys-18-hole-scramble-2/2026-06-09/
END:VEVENT
BEGIN:VEVENT
DTSTART;TZID=UTC:20260608T074500
DTEND;TZID=UTC:20260608T100000
DTSTAMP:20260423T075255
CREATED:20260409T184922Z
LAST-MODIFIED:20260422T142915Z
UID:10000582-1780904700-1780912800@www.poloparkeastgolf.com
SUMMARY:Men’s Golf Club
DESCRIPTION:
URL:https://www.poloparkeastgolf.com/event/mens-golf-club-2/2026-06-08/
END:VEVENT
BEGIN:VEVENT
DTSTART;TZID=UTC:20260606T080000
DTEND;TZID=UTC:20260606T110000
DTSTAMP:20260423T075255
CREATED:20260409T184557Z
LAST-MODIFIED:20260422T142556Z
UID:10001838-1780732800-1780743600@www.poloparkeastgolf.com
SUMMARY:Men’s 18 Hole Scramble
DESCRIPTION:All are welcome. Teams picked by draw. Please arrive by 7:30AM.
URL:https://www.poloparkeastgolf.com/event/mens-golf-scramble/2026-06-06/
END:VEVENT
BEGIN:VEVENT
DTSTART;TZID=UTC:20260605T074500
DTEND;TZID=UTC:20260605T113000
DTSTAMP:20260423T075255
CREATED:20260409T184241Z
LAST-MODIFIED:20260409T184246Z
UID:10000215-1780645500-1780659000@www.poloparkeastgolf.com
SUMMARY:Men’s Golf Club
DESCRIPTION:
URL:https://www.poloparkeastgolf.com/event/mens-golf-club/2026-06-05/
END:VEVENT
BEGIN:VEVENT
DTSTART;TZID=UTC:20260604T080000
DTEND;TZID=UTC:20260604T100000
DTSTAMP:20260423T075255
CREATED:20260422T140605Z
LAST-MODIFIED:20260422T145513Z
UID:10001427-1780560000-1780567200@www.poloparkeastgolf.com
SUMMARY:Lady’s 9 Hole Scramble
DESCRIPTION:
URL:https://www.poloparkeastgolf.com/event/ladys-9-hole-scramble-3/2026-06-04/
END:VEVENT
BEGIN:VEVENT
DTSTART;TZID=UTC:20260604T080000
DTEND;TZID=UTC:20260604T100000
DTSTAMP:20260423T075255
CREATED:20260409T183647Z
LAST-MODIFIED:20260422T142334Z
UID:10001222-1780560000-1780567200@www.poloparkeastgolf.com
SUMMARY:Lady’s 18 Hole Scramble
DESCRIPTION:
URL:https://www.poloparkeastgolf.com/event/ladys-18-hole-scramble/2026-06-04/
END:VEVENT
BEGIN:VEVENT
DTSTART;TZID=UTC:20260602T080000
DTEND;TZID=UTC:20260602T100000
DTSTAMP:20260423T075255
CREATED:20260409T185459Z
LAST-MODIFIED:20260422T141643Z
UID:10001944-1780387200-1780394400@www.poloparkeastgolf.com
SUMMARY:Lady’s 9 Hole Scramble
DESCRIPTION:
URL:https://www.poloparkeastgolf.com/event/ladys-9-hole-scramble-2/2026-06-02/
END:VEVENT
BEGIN:VEVENT
DTSTART;TZID=UTC:20260602T080000
DTEND;TZID=UTC:20260602T100000
DTSTAMP:20260423T075255
CREATED:20260409T185214Z
LAST-MODIFIED:20260422T141754Z
UID:10002047-1780387200-1780394400@www.poloparkeastgolf.com
SUMMARY:Lady’s 18 Hole Scramble
DESCRIPTION:
URL:https://www.poloparkeastgolf.com/event/ladys-18-hole-scramble-2/2026-06-02/
END:VEVENT
BEGIN:VEVENT
DTSTART;TZID=UTC:20260601T074500
DTEND;TZID=UTC:20260601T100000
DTSTAMP:20260423T075255
CREATED:20260409T184922Z
LAST-MODIFIED:20260422T142915Z
UID:10000581-1780299900-1780308000@www.poloparkeastgolf.com
SUMMARY:Men’s Golf Club
DESCRIPTION:
URL:https://www.poloparkeastgolf.com/event/mens-golf-club-2/2026-06-01/
END:VEVENT
BEGIN:VEVENT
DTSTART;TZID=UTC:20260530T080000
DTEND;TZID=UTC:20260530T110000
DTSTAMP:20260423T075255
CREATED:20260409T184557Z
LAST-MODIFIED:20260422T142556Z
UID:10001837-1780128000-1780138800@www.poloparkeastgolf.com
SUMMARY:Men’s 18 Hole Scramble
DESCRIPTION:All are welcome. Teams picked by draw. Please arrive by 7:30AM.
URL:https://www.poloparkeastgolf.com/event/mens-golf-scramble/2026-05-30/
END:VEVENT
BEGIN:VEVENT
DTSTART;TZID=UTC:20260529T074500
DTEND;TZID=UTC:20260529T113000
DTSTAMP:20260423T075255
CREATED:20260409T184241Z
LAST-MODIFIED:20260409T184246Z
UID:10000214-1780040700-1780054200@www.poloparkeastgolf.com
SUMMARY:Men’s Golf Club
DESCRIPTION:
URL:https://www.poloparkeastgolf.com/event/mens-golf-club/2026-05-29/
END:VEVENT
BEGIN:VEVENT
DTSTART;TZID=UTC:20260528T080000
DTEND;TZID=UTC:20260528T100000
DTSTAMP:20260423T075255
CREATED:20260422T140605Z
LAST-MODIFIED:20260422T145513Z
UID:10001425-1779955200-1779962400@www.poloparkeastgolf.com
SUMMARY:Lady’s 9 Hole Scramble
DESCRIPTION:
URL:https://www.poloparkeastgolf.com/event/ladys-9-hole-scramble-3/2026-05-28/
END:VEVENT
BEGIN:VEVENT
DTSTART;TZID=UTC:20260528T080000
DTEND;TZID=UTC:20260528T100000
DTSTAMP:20260423T075255
CREATED:20260409T183647Z
LAST-MODIFIED:20260422T142334Z
UID:10001220-1779955200-1779962400@www.poloparkeastgolf.com
SUMMARY:Lady’s 18 Hole Scramble
DESCRIPTION:
URL:https://www.poloparkeastgolf.com/event/ladys-18-hole-scramble/2026-05-28/
END:VEVENT
BEGIN:VEVENT
DTSTART;TZID=UTC:20260526T080000
DTEND;TZID=UTC:20260526T100000
DTSTAMP:20260423T075255
CREATED:20260409T185459Z
LAST-MODIFIED:20260422T141643Z
UID:10001943-1779782400-1779789600@www.poloparkeastgolf.com
SUMMARY:Lady’s 9 Hole Scramble
DESCRIPTION:
URL:https://www.poloparkeastgolf.com/event/ladys-9-hole-scramble-2/2026-05-26/
END:VEVENT
BEGIN:VEVENT
DTSTART;TZID=UTC:20260526T080000
DTEND;TZID=UTC:20260526T100000
DTSTAMP:20260423T075255
CREATED:20260409T185214Z
LAST-MODIFIED:20260422T141754Z
UID:10002046-1779782400-1779789600@www.poloparkeastgolf.com
SUMMARY:Lady’s 18 Hole Scramble
DESCRIPTION:
URL:https://www.poloparkeastgolf.com/event/ladys-18-hole-scramble-2/2026-05-26/
END:VEVENT
BEGIN:VEVENT
DTSTART;TZID=UTC:20260525T074500
DTEND;TZID=UTC:20260525T100000
DTSTAMP:20260423T075255
CREATED:20260409T184922Z
LAST-MODIFIED:20260422T142915Z
UID:10000580-1779695100-1779703200@www.poloparkeastgolf.com
SUMMARY:Men’s Golf Club
DESCRIPTION:
URL:https://www.poloparkeastgolf.com/event/mens-golf-club-2/2026-05-25/
END:VEVENT
BEGIN:VEVENT
DTSTART;TZID=UTC:20260523T080000
DTEND;TZID=UTC:20260523T110000
DTSTAMP:20260423T075255
CREATED:20260409T184557Z
LAST-MODIFIED:20260422T142556Z
UID:10001836-1779523200-1779534000@www.poloparkeastgolf.com
SUMMARY:Men’s 18 Hole Scramble
DESCRIPTION:All are welcome. Teams picked by draw. Please arrive by 7:30AM.
URL:https://www.poloparkeastgolf.com/event/mens-golf-scramble/2026-05-23/
END:VEVENT
BEGIN:VEVENT
DTSTART;TZID=UTC:20260522T074500
DTEND;TZID=UTC:20260522T113000
DTSTAMP:20260423T075255
CREATED:20260409T184241Z
LAST-MODIFIED:20260409T184246Z
UID:10000213-1779435900-1779449400@www.poloparkeastgolf.com
SUMMARY:Men’s Golf Club
DESCRIPTION:
URL:https://www.poloparkeastgolf.com/event/mens-golf-club/2026-05-22/
END:VEVENT
BEGIN:VEVENT
DTSTART;TZID=UTC:20260521T080000
DTEND;TZID=UTC:20260521T100000
DTSTAMP:20260423T075255
CREATED:20260422T140605Z
LAST-MODIFIED:20260422T145513Z
UID:10001423-1779350400-1779357600@www.poloparkeastgolf.com
SUMMARY:Lady’s 9 Hole Scramble
DESCRIPTION:
URL:https://www.poloparkeastgolf.com/event/ladys-9-hole-scramble-3/2026-05-21/
END:VEVENT
BEGIN:VEVENT
DTSTART;TZID=UTC:20260521T080000
DTEND;TZID=UTC:20260521T100000
DTSTAMP:20260423T075255
CREATED:20260409T183647Z
LAST-MODIFIED:20260422T142334Z
UID:10001218-1779350400-1779357600@www.poloparkeastgolf.com
SUMMARY:Lady’s 18 Hole Scramble
DESCRIPTION:
URL:https://www.poloparkeastgolf.com/event/ladys-18-hole-scramble/2026-05-21/
END:VEVENT
BEGIN:VEVENT
DTSTART;TZID=UTC:20260519T080000
DTEND;TZID=UTC:20260519T100000
DTSTAMP:20260423T075255
CREATED:20260409T185459Z
LAST-MODIFIED:20260422T141643Z
UID:10001942-1779177600-1779184800@www.poloparkeastgolf.com
SUMMARY:Lady’s 9 Hole Scramble
DESCRIPTION:
URL:https://www.poloparkeastgolf.com/event/ladys-9-hole-scramble-2/2026-05-19/
END:VEVENT
BEGIN:VEVENT
DTSTART;TZID=UTC:20260519T080000
DTEND;TZID=UTC:20260519T100000
DTSTAMP:20260423T075255
CREATED:20260409T185214Z
LAST-MODIFIED:20260422T141754Z
UID:10002045-1779177600-1779184800@www.poloparkeastgolf.com
SUMMARY:Lady’s 18 Hole Scramble
DESCRIPTION:
URL:https://www.poloparkeastgolf.com/event/ladys-18-hole-scramble-2/2026-05-19/
END:VEVENT
BEGIN:VEVENT
DTSTART;TZID=UTC:20260518T074500
DTEND;TZID=UTC:20260518T100000
DTSTAMP:20260423T075255
CREATED:20260409T184922Z
LAST-MODIFIED:20260422T142915Z
UID:10000579-1779090300-1779098400@www.poloparkeastgolf.com
SUMMARY:Men’s Golf Club
DESCRIPTION:
URL:https://www.poloparkeastgolf.com/event/mens-golf-club-2/2026-05-18/
END:VEVENT
BEGIN:VEVENT
DTSTART;TZID=UTC:20260517T080000
DTEND;TZID=UTC:20260517T080000
DTSTAMP:20260423T075255
CREATED:20260409T190506Z
LAST-MODIFIED:20260409T190510Z
UID:10001149-1779004800-1779004800@www.poloparkeastgolf.com
SUMMARY:Mom and Pop Golf
DESCRIPTION:
URL:https://www.poloparkeastgolf.com/event/mom-and-pop-golf/2026-05-17/
END:VEVENT
BEGIN:VEVENT
DTSTART;TZID=UTC:20260516T080000
DTEND;TZID=UTC:20260516T110000
DTSTAMP:20260423T075255
CREATED:20260409T184557Z
LAST-MODIFIED:20260422T142556Z
UID:10001835-1778918400-1778929200@www.poloparkeastgolf.com
SUMMARY:Men’s 18 Hole Scramble
DESCRIPTION:All are welcome. Teams picked by draw. Please arrive by 7:30AM.
URL:https://www.poloparkeastgolf.com/event/mens-golf-scramble/2026-05-16/
END:VEVENT
BEGIN:VEVENT
DTSTART;TZID=UTC:20260515T074500
DTEND;TZID=UTC:20260515T113000
DTSTAMP:20260423T075255
CREATED:20260409T184241Z
LAST-MODIFIED:20260409T184246Z
UID:10000212-1778831100-1778844600@www.poloparkeastgolf.com
SUMMARY:Men’s Golf Club
DESCRIPTION:
URL:https://www.poloparkeastgolf.com/event/mens-golf-club/2026-05-15/
END:VEVENT
END:VCALENDAR