BEGIN:VCALENDAR
VERSION:2.0
PRODID:-//Polo Park East - ECPv6.15.18//NONSGML v1.0//EN
CALSCALE:GREGORIAN
METHOD:PUBLISH
X-ORIGINAL-URL:https://www.poloparkeastgolf.com
X-WR-CALDESC:Events for Polo Park East
REFRESH-INTERVAL;VALUE=DURATION:PT1H
X-Robots-Tag:noindex
X-PUBLISHED-TTL:PT1H
BEGIN:VTIMEZONE
TZID:UTC
BEGIN:STANDARD
TZOFFSETFROM:+0000
TZOFFSETTO:+0000
TZNAME:UTC
DTSTART:20250101T000000
END:STANDARD
END:VTIMEZONE
BEGIN:VEVENT
DTSTART;TZID=UTC:20261009T074500
DTEND;TZID=UTC:20261009T113000
DTSTAMP:20260423T045409
CREATED:20260409T184241Z
LAST-MODIFIED:20260409T184246Z
UID:10000233-1791531900-1791545400@www.poloparkeastgolf.com
SUMMARY:Men’s Golf Club
DESCRIPTION:
URL:https://www.poloparkeastgolf.com/event/mens-golf-club/2026-10-09/
END:VEVENT
BEGIN:VEVENT
DTSTART;TZID=UTC:20261010T080000
DTEND;TZID=UTC:20261010T110000
DTSTAMP:20260423T045409
CREATED:20260409T184557Z
LAST-MODIFIED:20260422T142556Z
UID:10001856-1791619200-1791630000@www.poloparkeastgolf.com
SUMMARY:Men’s 18 Hole Scramble
DESCRIPTION:All are welcome. Teams picked by draw. Please arrive by 7:30AM.
URL:https://www.poloparkeastgolf.com/event/mens-golf-scramble/2026-10-10/
END:VEVENT
BEGIN:VEVENT
DTSTART;TZID=UTC:20261012T074500
DTEND;TZID=UTC:20261012T100000
DTSTAMP:20260423T045409
CREATED:20260409T184922Z
LAST-MODIFIED:20260422T142915Z
UID:10000600-1791791100-1791799200@www.poloparkeastgolf.com
SUMMARY:Men’s Golf Club
DESCRIPTION:
URL:https://www.poloparkeastgolf.com/event/mens-golf-club-2/2026-10-12/
END:VEVENT
BEGIN:VEVENT
DTSTART;TZID=UTC:20261013T080000
DTEND;TZID=UTC:20261013T100000
DTSTAMP:20260423T045409
CREATED:20260409T185214Z
LAST-MODIFIED:20260422T141754Z
UID:10002066-1791878400-1791885600@www.poloparkeastgolf.com
SUMMARY:Lady’s 18 Hole Scramble
DESCRIPTION:
URL:https://www.poloparkeastgolf.com/event/ladys-18-hole-scramble-2/2026-10-13/
END:VEVENT
BEGIN:VEVENT
DTSTART;TZID=UTC:20261013T080000
DTEND;TZID=UTC:20261013T100000
DTSTAMP:20260423T045409
CREATED:20260409T185459Z
LAST-MODIFIED:20260422T141643Z
UID:10001963-1791878400-1791885600@www.poloparkeastgolf.com
SUMMARY:Lady’s 9 Hole Scramble
DESCRIPTION:
URL:https://www.poloparkeastgolf.com/event/ladys-9-hole-scramble-2/2026-10-13/
END:VEVENT
BEGIN:VEVENT
DTSTART;TZID=UTC:20261015T080000
DTEND;TZID=UTC:20261015T100000
DTSTAMP:20260423T045409
CREATED:20260409T183647Z
LAST-MODIFIED:20260422T142334Z
UID:10001260-1792051200-1792058400@www.poloparkeastgolf.com
SUMMARY:Lady’s 18 Hole Scramble
DESCRIPTION:
URL:https://www.poloparkeastgolf.com/event/ladys-18-hole-scramble/2026-10-15/
END:VEVENT
BEGIN:VEVENT
DTSTART;TZID=UTC:20261015T080000
DTEND;TZID=UTC:20261015T100000
DTSTAMP:20260423T045409
CREATED:20260422T140605Z
LAST-MODIFIED:20260422T145513Z
UID:10001465-1792051200-1792058400@www.poloparkeastgolf.com
SUMMARY:Lady’s 9 Hole Scramble
DESCRIPTION:
URL:https://www.poloparkeastgolf.com/event/ladys-9-hole-scramble-3/2026-10-15/
END:VEVENT
BEGIN:VEVENT
DTSTART;TZID=UTC:20261016T074500
DTEND;TZID=UTC:20261016T113000
DTSTAMP:20260423T045409
CREATED:20260409T184241Z
LAST-MODIFIED:20260409T184246Z
UID:10000234-1792136700-1792150200@www.poloparkeastgolf.com
SUMMARY:Men’s Golf Club
DESCRIPTION:
URL:https://www.poloparkeastgolf.com/event/mens-golf-club/2026-10-16/
END:VEVENT
BEGIN:VEVENT
DTSTART;TZID=UTC:20261017T080000
DTEND;TZID=UTC:20261017T110000
DTSTAMP:20260423T045409
CREATED:20260409T184557Z
LAST-MODIFIED:20260422T142556Z
UID:10001857-1792224000-1792234800@www.poloparkeastgolf.com
SUMMARY:Men’s 18 Hole Scramble
DESCRIPTION:All are welcome. Teams picked by draw. Please arrive by 7:30AM.
URL:https://www.poloparkeastgolf.com/event/mens-golf-scramble/2026-10-17/
END:VEVENT
BEGIN:VEVENT
DTSTART;TZID=UTC:20261018T080000
DTEND;TZID=UTC:20261018T080000
DTSTAMP:20260423T045409
CREATED:20260409T190506Z
LAST-MODIFIED:20260409T190510Z
UID:10001154-1792310400-1792310400@www.poloparkeastgolf.com
SUMMARY:Mom and Pop Golf
DESCRIPTION:
URL:https://www.poloparkeastgolf.com/event/mom-and-pop-golf/2026-10-18/
END:VEVENT
BEGIN:VEVENT
DTSTART;TZID=UTC:20261019T074500
DTEND;TZID=UTC:20261019T100000
DTSTAMP:20260423T045409
CREATED:20260409T184922Z
LAST-MODIFIED:20260422T142915Z
UID:10000601-1792395900-1792404000@www.poloparkeastgolf.com
SUMMARY:Men’s Golf Club
DESCRIPTION:
URL:https://www.poloparkeastgolf.com/event/mens-golf-club-2/2026-10-19/
END:VEVENT
BEGIN:VEVENT
DTSTART;TZID=UTC:20261020T080000
DTEND;TZID=UTC:20261020T100000
DTSTAMP:20260423T045409
CREATED:20260409T185214Z
LAST-MODIFIED:20260422T141754Z
UID:10002067-1792483200-1792490400@www.poloparkeastgolf.com
SUMMARY:Lady’s 18 Hole Scramble
DESCRIPTION:
URL:https://www.poloparkeastgolf.com/event/ladys-18-hole-scramble-2/2026-10-20/
END:VEVENT
BEGIN:VEVENT
DTSTART;TZID=UTC:20261020T080000
DTEND;TZID=UTC:20261020T100000
DTSTAMP:20260423T045409
CREATED:20260409T185459Z
LAST-MODIFIED:20260422T141643Z
UID:10001964-1792483200-1792490400@www.poloparkeastgolf.com
SUMMARY:Lady’s 9 Hole Scramble
DESCRIPTION:
URL:https://www.poloparkeastgolf.com/event/ladys-9-hole-scramble-2/2026-10-20/
END:VEVENT
BEGIN:VEVENT
DTSTART;TZID=UTC:20261022T080000
DTEND;TZID=UTC:20261022T100000
DTSTAMP:20260423T045409
CREATED:20260409T183647Z
LAST-MODIFIED:20260422T142334Z
UID:10001262-1792656000-1792663200@www.poloparkeastgolf.com
SUMMARY:Lady’s 18 Hole Scramble
DESCRIPTION:
URL:https://www.poloparkeastgolf.com/event/ladys-18-hole-scramble/2026-10-22/
END:VEVENT
BEGIN:VEVENT
DTSTART;TZID=UTC:20261022T080000
DTEND;TZID=UTC:20261022T100000
DTSTAMP:20260423T045409
CREATED:20260422T140605Z
LAST-MODIFIED:20260422T145513Z
UID:10001467-1792656000-1792663200@www.poloparkeastgolf.com
SUMMARY:Lady’s 9 Hole Scramble
DESCRIPTION:
URL:https://www.poloparkeastgolf.com/event/ladys-9-hole-scramble-3/2026-10-22/
END:VEVENT
BEGIN:VEVENT
DTSTART;TZID=UTC:20261023T074500
DTEND;TZID=UTC:20261023T113000
DTSTAMP:20260423T045409
CREATED:20260409T184241Z
LAST-MODIFIED:20260409T184246Z
UID:10000235-1792741500-1792755000@www.poloparkeastgolf.com
SUMMARY:Men’s Golf Club
DESCRIPTION:
URL:https://www.poloparkeastgolf.com/event/mens-golf-club/2026-10-23/
END:VEVENT
BEGIN:VEVENT
DTSTART;TZID=UTC:20261024T080000
DTEND;TZID=UTC:20261024T110000
DTSTAMP:20260423T045409
CREATED:20260409T184557Z
LAST-MODIFIED:20260422T142556Z
UID:10001858-1792828800-1792839600@www.poloparkeastgolf.com
SUMMARY:Men’s 18 Hole Scramble
DESCRIPTION:All are welcome. Teams picked by draw. Please arrive by 7:30AM.
URL:https://www.poloparkeastgolf.com/event/mens-golf-scramble/2026-10-24/
END:VEVENT
BEGIN:VEVENT
DTSTART;TZID=UTC:20261026T074500
DTEND;TZID=UTC:20261026T100000
DTSTAMP:20260423T045409
CREATED:20260409T184922Z
LAST-MODIFIED:20260422T142915Z
UID:10000602-1793000700-1793008800@www.poloparkeastgolf.com
SUMMARY:Men’s Golf Club
DESCRIPTION:
URL:https://www.poloparkeastgolf.com/event/mens-golf-club-2/2026-10-26/
END:VEVENT
BEGIN:VEVENT
DTSTART;TZID=UTC:20261027T080000
DTEND;TZID=UTC:20261027T100000
DTSTAMP:20260423T045409
CREATED:20260409T185214Z
LAST-MODIFIED:20260422T141754Z
UID:10002068-1793088000-1793095200@www.poloparkeastgolf.com
SUMMARY:Lady’s 18 Hole Scramble
DESCRIPTION:
URL:https://www.poloparkeastgolf.com/event/ladys-18-hole-scramble-2/2026-10-27/
END:VEVENT
BEGIN:VEVENT
DTSTART;TZID=UTC:20261027T080000
DTEND;TZID=UTC:20261027T100000
DTSTAMP:20260423T045409
CREATED:20260409T185459Z
LAST-MODIFIED:20260422T141643Z
UID:10001965-1793088000-1793095200@www.poloparkeastgolf.com
SUMMARY:Lady’s 9 Hole Scramble
DESCRIPTION:
URL:https://www.poloparkeastgolf.com/event/ladys-9-hole-scramble-2/2026-10-27/
END:VEVENT
BEGIN:VEVENT
DTSTART;TZID=UTC:20261029T080000
DTEND;TZID=UTC:20261029T100000
DTSTAMP:20260423T045409
CREATED:20260409T183647Z
LAST-MODIFIED:20260422T142334Z
UID:10001264-1793260800-1793268000@www.poloparkeastgolf.com
SUMMARY:Lady’s 18 Hole Scramble
DESCRIPTION:
URL:https://www.poloparkeastgolf.com/event/ladys-18-hole-scramble/2026-10-29/
END:VEVENT
BEGIN:VEVENT
DTSTART;TZID=UTC:20261029T080000
DTEND;TZID=UTC:20261029T100000
DTSTAMP:20260423T045409
CREATED:20260422T140605Z
LAST-MODIFIED:20260422T145513Z
UID:10001469-1793260800-1793268000@www.poloparkeastgolf.com
SUMMARY:Lady’s 9 Hole Scramble
DESCRIPTION:
URL:https://www.poloparkeastgolf.com/event/ladys-9-hole-scramble-3/2026-10-29/
END:VEVENT
BEGIN:VEVENT
DTSTART;TZID=UTC:20261030T074500
DTEND;TZID=UTC:20261030T113000
DTSTAMP:20260423T045409
CREATED:20260409T184241Z
LAST-MODIFIED:20260409T184246Z
UID:10000236-1793346300-1793359800@www.poloparkeastgolf.com
SUMMARY:Men’s Golf Club
DESCRIPTION:
URL:https://www.poloparkeastgolf.com/event/mens-golf-club/2026-10-30/
END:VEVENT
BEGIN:VEVENT
DTSTART;TZID=UTC:20261031T080000
DTEND;TZID=UTC:20261031T110000
DTSTAMP:20260423T045409
CREATED:20260409T184557Z
LAST-MODIFIED:20260422T142556Z
UID:10001859-1793433600-1793444400@www.poloparkeastgolf.com
SUMMARY:Men’s 18 Hole Scramble
DESCRIPTION:All are welcome. Teams picked by draw. Please arrive by 7:30AM.
URL:https://www.poloparkeastgolf.com/event/mens-golf-scramble/2026-10-31/
END:VEVENT
BEGIN:VEVENT
DTSTART;TZID=UTC:20261102T074500
DTEND;TZID=UTC:20261102T100000
DTSTAMP:20260423T045409
CREATED:20260409T184922Z
LAST-MODIFIED:20260422T142915Z
UID:10000603-1793605500-1793613600@www.poloparkeastgolf.com
SUMMARY:Men’s Golf Club
DESCRIPTION:
URL:https://www.poloparkeastgolf.com/event/mens-golf-club-2/2026-11-02/
END:VEVENT
BEGIN:VEVENT
DTSTART;TZID=UTC:20261103T080000
DTEND;TZID=UTC:20261103T100000
DTSTAMP:20260423T045409
CREATED:20260409T185214Z
LAST-MODIFIED:20260422T141754Z
UID:10002069-1793692800-1793700000@www.poloparkeastgolf.com
SUMMARY:Lady’s 18 Hole Scramble
DESCRIPTION:
URL:https://www.poloparkeastgolf.com/event/ladys-18-hole-scramble-2/2026-11-03/
END:VEVENT
BEGIN:VEVENT
DTSTART;TZID=UTC:20261103T080000
DTEND;TZID=UTC:20261103T100000
DTSTAMP:20260423T045409
CREATED:20260409T185459Z
LAST-MODIFIED:20260422T141643Z
UID:10001966-1793692800-1793700000@www.poloparkeastgolf.com
SUMMARY:Lady’s 9 Hole Scramble
DESCRIPTION:
URL:https://www.poloparkeastgolf.com/event/ladys-9-hole-scramble-2/2026-11-03/
END:VEVENT
BEGIN:VEVENT
DTSTART;TZID=UTC:20261105T080000
DTEND;TZID=UTC:20261105T100000
DTSTAMP:20260423T045409
CREATED:20260409T183647Z
LAST-MODIFIED:20260422T142334Z
UID:10001266-1793865600-1793872800@www.poloparkeastgolf.com
SUMMARY:Lady’s 18 Hole Scramble
DESCRIPTION:
URL:https://www.poloparkeastgolf.com/event/ladys-18-hole-scramble/2026-11-05/
END:VEVENT
BEGIN:VEVENT
DTSTART;TZID=UTC:20261105T080000
DTEND;TZID=UTC:20261105T100000
DTSTAMP:20260423T045409
CREATED:20260422T140605Z
LAST-MODIFIED:20260422T145513Z
UID:10001471-1793865600-1793872800@www.poloparkeastgolf.com
SUMMARY:Lady’s 9 Hole Scramble
DESCRIPTION:
URL:https://www.poloparkeastgolf.com/event/ladys-9-hole-scramble-3/2026-11-05/
END:VEVENT
BEGIN:VEVENT
DTSTART;TZID=UTC:20261106T074500
DTEND;TZID=UTC:20261106T113000
DTSTAMP:20260423T045409
CREATED:20260409T184241Z
LAST-MODIFIED:20260409T184246Z
UID:10000237-1793951100-1793964600@www.poloparkeastgolf.com
SUMMARY:Men’s Golf Club
DESCRIPTION:
URL:https://www.poloparkeastgolf.com/event/mens-golf-club/2026-11-06/
END:VEVENT
END:VCALENDAR