BEGIN:VCALENDAR
VERSION:2.0
PRODID:-//Polo Park East - ECPv6.15.18//NONSGML v1.0//EN
CALSCALE:GREGORIAN
METHOD:PUBLISH
X-ORIGINAL-URL:https://www.poloparkeastgolf.com
X-WR-CALDESC:Events for Polo Park East
REFRESH-INTERVAL;VALUE=DURATION:PT1H
X-Robots-Tag:noindex
X-PUBLISHED-TTL:PT1H
BEGIN:VTIMEZONE
TZID:UTC
BEGIN:STANDARD
TZOFFSETFROM:+0000
TZOFFSETTO:+0000
TZNAME:UTC
DTSTART:20250101T000000
END:STANDARD
END:VTIMEZONE
BEGIN:VEVENT
DTSTART;TZID=UTC:20260907T074500
DTEND;TZID=UTC:20260907T100000
DTSTAMP:20260423T075310
CREATED:20260409T184922Z
LAST-MODIFIED:20260422T142915Z
UID:10000595-1788767100-1788775200@www.poloparkeastgolf.com
SUMMARY:Men’s Golf Club
DESCRIPTION:
URL:https://www.poloparkeastgolf.com/event/mens-golf-club-2/2026-09-07/
END:VEVENT
BEGIN:VEVENT
DTSTART;TZID=UTC:20260908T080000
DTEND;TZID=UTC:20260908T100000
DTSTAMP:20260423T075310
CREATED:20260409T185214Z
LAST-MODIFIED:20260422T141754Z
UID:10002061-1788854400-1788861600@www.poloparkeastgolf.com
SUMMARY:Lady’s 18 Hole Scramble
DESCRIPTION:
URL:https://www.poloparkeastgolf.com/event/ladys-18-hole-scramble-2/2026-09-08/
END:VEVENT
BEGIN:VEVENT
DTSTART;TZID=UTC:20260908T080000
DTEND;TZID=UTC:20260908T100000
DTSTAMP:20260423T075310
CREATED:20260409T185459Z
LAST-MODIFIED:20260422T141643Z
UID:10001958-1788854400-1788861600@www.poloparkeastgolf.com
SUMMARY:Lady’s 9 Hole Scramble
DESCRIPTION:
URL:https://www.poloparkeastgolf.com/event/ladys-9-hole-scramble-2/2026-09-08/
END:VEVENT
BEGIN:VEVENT
DTSTART;TZID=UTC:20260910T080000
DTEND;TZID=UTC:20260910T100000
DTSTAMP:20260423T075310
CREATED:20260409T183647Z
LAST-MODIFIED:20260422T142334Z
UID:10001250-1789027200-1789034400@www.poloparkeastgolf.com
SUMMARY:Lady’s 18 Hole Scramble
DESCRIPTION:
URL:https://www.poloparkeastgolf.com/event/ladys-18-hole-scramble/2026-09-10/
END:VEVENT
BEGIN:VEVENT
DTSTART;TZID=UTC:20260910T080000
DTEND;TZID=UTC:20260910T100000
DTSTAMP:20260423T075310
CREATED:20260422T140605Z
LAST-MODIFIED:20260422T145513Z
UID:10001455-1789027200-1789034400@www.poloparkeastgolf.com
SUMMARY:Lady’s 9 Hole Scramble
DESCRIPTION:
URL:https://www.poloparkeastgolf.com/event/ladys-9-hole-scramble-3/2026-09-10/
END:VEVENT
BEGIN:VEVENT
DTSTART;TZID=UTC:20260911T074500
DTEND;TZID=UTC:20260911T113000
DTSTAMP:20260423T075310
CREATED:20260409T184241Z
LAST-MODIFIED:20260409T184246Z
UID:10000229-1789112700-1789126200@www.poloparkeastgolf.com
SUMMARY:Men’s Golf Club
DESCRIPTION:
URL:https://www.poloparkeastgolf.com/event/mens-golf-club/2026-09-11/
END:VEVENT
BEGIN:VEVENT
DTSTART;TZID=UTC:20260912T080000
DTEND;TZID=UTC:20260912T110000
DTSTAMP:20260423T075310
CREATED:20260409T184557Z
LAST-MODIFIED:20260422T142556Z
UID:10001852-1789200000-1789210800@www.poloparkeastgolf.com
SUMMARY:Men’s 18 Hole Scramble
DESCRIPTION:All are welcome. Teams picked by draw. Please arrive by 7:30AM.
URL:https://www.poloparkeastgolf.com/event/mens-golf-scramble/2026-09-12/
END:VEVENT
BEGIN:VEVENT
DTSTART;TZID=UTC:20260914T074500
DTEND;TZID=UTC:20260914T100000
DTSTAMP:20260423T075310
CREATED:20260409T184922Z
LAST-MODIFIED:20260422T142915Z
UID:10000596-1789371900-1789380000@www.poloparkeastgolf.com
SUMMARY:Men’s Golf Club
DESCRIPTION:
URL:https://www.poloparkeastgolf.com/event/mens-golf-club-2/2026-09-14/
END:VEVENT
BEGIN:VEVENT
DTSTART;TZID=UTC:20260915T080000
DTEND;TZID=UTC:20260915T100000
DTSTAMP:20260423T075310
CREATED:20260409T185214Z
LAST-MODIFIED:20260422T141754Z
UID:10002062-1789459200-1789466400@www.poloparkeastgolf.com
SUMMARY:Lady’s 18 Hole Scramble
DESCRIPTION:
URL:https://www.poloparkeastgolf.com/event/ladys-18-hole-scramble-2/2026-09-15/
END:VEVENT
BEGIN:VEVENT
DTSTART;TZID=UTC:20260915T080000
DTEND;TZID=UTC:20260915T100000
DTSTAMP:20260423T075310
CREATED:20260409T185459Z
LAST-MODIFIED:20260422T141643Z
UID:10001959-1789459200-1789466400@www.poloparkeastgolf.com
SUMMARY:Lady’s 9 Hole Scramble
DESCRIPTION:
URL:https://www.poloparkeastgolf.com/event/ladys-9-hole-scramble-2/2026-09-15/
END:VEVENT
BEGIN:VEVENT
DTSTART;TZID=UTC:20260917T080000
DTEND;TZID=UTC:20260917T100000
DTSTAMP:20260423T075310
CREATED:20260409T183647Z
LAST-MODIFIED:20260422T142334Z
UID:10001252-1789632000-1789639200@www.poloparkeastgolf.com
SUMMARY:Lady’s 18 Hole Scramble
DESCRIPTION:
URL:https://www.poloparkeastgolf.com/event/ladys-18-hole-scramble/2026-09-17/
END:VEVENT
BEGIN:VEVENT
DTSTART;TZID=UTC:20260917T080000
DTEND;TZID=UTC:20260917T100000
DTSTAMP:20260423T075310
CREATED:20260422T140605Z
LAST-MODIFIED:20260422T145513Z
UID:10001457-1789632000-1789639200@www.poloparkeastgolf.com
SUMMARY:Lady’s 9 Hole Scramble
DESCRIPTION:
URL:https://www.poloparkeastgolf.com/event/ladys-9-hole-scramble-3/2026-09-17/
END:VEVENT
BEGIN:VEVENT
DTSTART;TZID=UTC:20260918T074500
DTEND;TZID=UTC:20260918T113000
DTSTAMP:20260423T075310
CREATED:20260409T184241Z
LAST-MODIFIED:20260409T184246Z
UID:10000230-1789717500-1789731000@www.poloparkeastgolf.com
SUMMARY:Men’s Golf Club
DESCRIPTION:
URL:https://www.poloparkeastgolf.com/event/mens-golf-club/2026-09-18/
END:VEVENT
BEGIN:VEVENT
DTSTART;TZID=UTC:20260919T080000
DTEND;TZID=UTC:20260919T110000
DTSTAMP:20260423T075310
CREATED:20260409T184557Z
LAST-MODIFIED:20260422T142556Z
UID:10001853-1789804800-1789815600@www.poloparkeastgolf.com
SUMMARY:Men’s 18 Hole Scramble
DESCRIPTION:All are welcome. Teams picked by draw. Please arrive by 7:30AM.
URL:https://www.poloparkeastgolf.com/event/mens-golf-scramble/2026-09-19/
END:VEVENT
BEGIN:VEVENT
DTSTART;TZID=UTC:20260920T080000
DTEND;TZID=UTC:20260920T080000
DTSTAMP:20260423T075310
CREATED:20260409T190506Z
LAST-MODIFIED:20260409T190510Z
UID:10001153-1789891200-1789891200@www.poloparkeastgolf.com
SUMMARY:Mom and Pop Golf
DESCRIPTION:
URL:https://www.poloparkeastgolf.com/event/mom-and-pop-golf/2026-09-20/
END:VEVENT
BEGIN:VEVENT
DTSTART;TZID=UTC:20260921T074500
DTEND;TZID=UTC:20260921T100000
DTSTAMP:20260423T075310
CREATED:20260409T184922Z
LAST-MODIFIED:20260422T142915Z
UID:10000597-1789976700-1789984800@www.poloparkeastgolf.com
SUMMARY:Men’s Golf Club
DESCRIPTION:
URL:https://www.poloparkeastgolf.com/event/mens-golf-club-2/2026-09-21/
END:VEVENT
BEGIN:VEVENT
DTSTART;TZID=UTC:20260922T080000
DTEND;TZID=UTC:20260922T100000
DTSTAMP:20260423T075310
CREATED:20260409T185214Z
LAST-MODIFIED:20260422T141754Z
UID:10002063-1790064000-1790071200@www.poloparkeastgolf.com
SUMMARY:Lady’s 18 Hole Scramble
DESCRIPTION:
URL:https://www.poloparkeastgolf.com/event/ladys-18-hole-scramble-2/2026-09-22/
END:VEVENT
BEGIN:VEVENT
DTSTART;TZID=UTC:20260922T080000
DTEND;TZID=UTC:20260922T100000
DTSTAMP:20260423T075310
CREATED:20260409T185459Z
LAST-MODIFIED:20260422T141643Z
UID:10001960-1790064000-1790071200@www.poloparkeastgolf.com
SUMMARY:Lady’s 9 Hole Scramble
DESCRIPTION:
URL:https://www.poloparkeastgolf.com/event/ladys-9-hole-scramble-2/2026-09-22/
END:VEVENT
BEGIN:VEVENT
DTSTART;TZID=UTC:20260924T080000
DTEND;TZID=UTC:20260924T100000
DTSTAMP:20260423T075310
CREATED:20260409T183647Z
LAST-MODIFIED:20260422T142334Z
UID:10001254-1790236800-1790244000@www.poloparkeastgolf.com
SUMMARY:Lady’s 18 Hole Scramble
DESCRIPTION:
URL:https://www.poloparkeastgolf.com/event/ladys-18-hole-scramble/2026-09-24/
END:VEVENT
BEGIN:VEVENT
DTSTART;TZID=UTC:20260924T080000
DTEND;TZID=UTC:20260924T100000
DTSTAMP:20260423T075310
CREATED:20260422T140605Z
LAST-MODIFIED:20260422T145513Z
UID:10001459-1790236800-1790244000@www.poloparkeastgolf.com
SUMMARY:Lady’s 9 Hole Scramble
DESCRIPTION:
URL:https://www.poloparkeastgolf.com/event/ladys-9-hole-scramble-3/2026-09-24/
END:VEVENT
BEGIN:VEVENT
DTSTART;TZID=UTC:20260925T074500
DTEND;TZID=UTC:20260925T113000
DTSTAMP:20260423T075310
CREATED:20260409T184241Z
LAST-MODIFIED:20260409T184246Z
UID:10000231-1790322300-1790335800@www.poloparkeastgolf.com
SUMMARY:Men’s Golf Club
DESCRIPTION:
URL:https://www.poloparkeastgolf.com/event/mens-golf-club/2026-09-25/
END:VEVENT
BEGIN:VEVENT
DTSTART;TZID=UTC:20260926T080000
DTEND;TZID=UTC:20260926T110000
DTSTAMP:20260423T075310
CREATED:20260409T184557Z
LAST-MODIFIED:20260422T142556Z
UID:10001854-1790409600-1790420400@www.poloparkeastgolf.com
SUMMARY:Men’s 18 Hole Scramble
DESCRIPTION:All are welcome. Teams picked by draw. Please arrive by 7:30AM.
URL:https://www.poloparkeastgolf.com/event/mens-golf-scramble/2026-09-26/
END:VEVENT
BEGIN:VEVENT
DTSTART;TZID=UTC:20260928T074500
DTEND;TZID=UTC:20260928T100000
DTSTAMP:20260423T075310
CREATED:20260409T184922Z
LAST-MODIFIED:20260422T142915Z
UID:10000598-1790581500-1790589600@www.poloparkeastgolf.com
SUMMARY:Men’s Golf Club
DESCRIPTION:
URL:https://www.poloparkeastgolf.com/event/mens-golf-club-2/2026-09-28/
END:VEVENT
BEGIN:VEVENT
DTSTART;TZID=UTC:20260929T080000
DTEND;TZID=UTC:20260929T100000
DTSTAMP:20260423T075310
CREATED:20260409T185214Z
LAST-MODIFIED:20260422T141754Z
UID:10002064-1790668800-1790676000@www.poloparkeastgolf.com
SUMMARY:Lady’s 18 Hole Scramble
DESCRIPTION:
URL:https://www.poloparkeastgolf.com/event/ladys-18-hole-scramble-2/2026-09-29/
END:VEVENT
BEGIN:VEVENT
DTSTART;TZID=UTC:20260929T080000
DTEND;TZID=UTC:20260929T100000
DTSTAMP:20260423T075310
CREATED:20260409T185459Z
LAST-MODIFIED:20260422T141643Z
UID:10001961-1790668800-1790676000@www.poloparkeastgolf.com
SUMMARY:Lady’s 9 Hole Scramble
DESCRIPTION:
URL:https://www.poloparkeastgolf.com/event/ladys-9-hole-scramble-2/2026-09-29/
END:VEVENT
BEGIN:VEVENT
DTSTART;TZID=UTC:20261001T080000
DTEND;TZID=UTC:20261001T100000
DTSTAMP:20260423T075310
CREATED:20260409T183647Z
LAST-MODIFIED:20260422T142334Z
UID:10001256-1790841600-1790848800@www.poloparkeastgolf.com
SUMMARY:Lady’s 18 Hole Scramble
DESCRIPTION:
URL:https://www.poloparkeastgolf.com/event/ladys-18-hole-scramble/2026-10-01/
END:VEVENT
BEGIN:VEVENT
DTSTART;TZID=UTC:20261001T080000
DTEND;TZID=UTC:20261001T100000
DTSTAMP:20260423T075310
CREATED:20260422T140605Z
LAST-MODIFIED:20260422T145513Z
UID:10001461-1790841600-1790848800@www.poloparkeastgolf.com
SUMMARY:Lady’s 9 Hole Scramble
DESCRIPTION:
URL:https://www.poloparkeastgolf.com/event/ladys-9-hole-scramble-3/2026-10-01/
END:VEVENT
BEGIN:VEVENT
DTSTART;TZID=UTC:20261002T074500
DTEND;TZID=UTC:20261002T113000
DTSTAMP:20260423T075310
CREATED:20260409T184241Z
LAST-MODIFIED:20260409T184246Z
UID:10000232-1790927100-1790940600@www.poloparkeastgolf.com
SUMMARY:Men’s Golf Club
DESCRIPTION:
URL:https://www.poloparkeastgolf.com/event/mens-golf-club/2026-10-02/
END:VEVENT
BEGIN:VEVENT
DTSTART;TZID=UTC:20261003T080000
DTEND;TZID=UTC:20261003T110000
DTSTAMP:20260423T075310
CREATED:20260409T184557Z
LAST-MODIFIED:20260422T142556Z
UID:10001855-1791014400-1791025200@www.poloparkeastgolf.com
SUMMARY:Men’s 18 Hole Scramble
DESCRIPTION:All are welcome. Teams picked by draw. Please arrive by 7:30AM.
URL:https://www.poloparkeastgolf.com/event/mens-golf-scramble/2026-10-03/
END:VEVENT
BEGIN:VEVENT
DTSTART;TZID=UTC:20261005T074500
DTEND;TZID=UTC:20261005T100000
DTSTAMP:20260423T075310
CREATED:20260409T184922Z
LAST-MODIFIED:20260422T142915Z
UID:10000599-1791186300-1791194400@www.poloparkeastgolf.com
SUMMARY:Men’s Golf Club
DESCRIPTION:
URL:https://www.poloparkeastgolf.com/event/mens-golf-club-2/2026-10-05/
END:VEVENT
END:VCALENDAR