BEGIN:VCALENDAR
VERSION:2.0
PRODID:-//Polo Park East - ECPv6.15.18//NONSGML v1.0//EN
CALSCALE:GREGORIAN
METHOD:PUBLISH
X-ORIGINAL-URL:https://www.poloparkeastgolf.com
X-WR-CALDESC:Events for Polo Park East
REFRESH-INTERVAL;VALUE=DURATION:PT1H
X-Robots-Tag:noindex
X-PUBLISHED-TTL:PT1H
BEGIN:VTIMEZONE
TZID:UTC
BEGIN:STANDARD
TZOFFSETFROM:+0000
TZOFFSETTO:+0000
TZNAME:UTC
DTSTART:20250101T000000
END:STANDARD
END:VTIMEZONE
BEGIN:VEVENT
DTSTART;TZID=UTC:20261027T080000
DTEND;TZID=UTC:20261027T100000
DTSTAMP:20260423T045215
CREATED:20260409T185459Z
LAST-MODIFIED:20260422T141643Z
UID:10001965-1793088000-1793095200@www.poloparkeastgolf.com
SUMMARY:Lady’s 9 Hole Scramble
DESCRIPTION:
URL:https://www.poloparkeastgolf.com/event/ladys-9-hole-scramble-2/2026-10-27/
END:VEVENT
BEGIN:VEVENT
DTSTART;TZID=UTC:20261029T080000
DTEND;TZID=UTC:20261029T100000
DTSTAMP:20260423T045215
CREATED:20260409T183647Z
LAST-MODIFIED:20260422T142334Z
UID:10001264-1793260800-1793268000@www.poloparkeastgolf.com
SUMMARY:Lady’s 18 Hole Scramble
DESCRIPTION:
URL:https://www.poloparkeastgolf.com/event/ladys-18-hole-scramble/2026-10-29/
END:VEVENT
BEGIN:VEVENT
DTSTART;TZID=UTC:20261029T080000
DTEND;TZID=UTC:20261029T100000
DTSTAMP:20260423T045215
CREATED:20260422T140605Z
LAST-MODIFIED:20260422T145513Z
UID:10001469-1793260800-1793268000@www.poloparkeastgolf.com
SUMMARY:Lady’s 9 Hole Scramble
DESCRIPTION:
URL:https://www.poloparkeastgolf.com/event/ladys-9-hole-scramble-3/2026-10-29/
END:VEVENT
BEGIN:VEVENT
DTSTART;TZID=UTC:20261030T074500
DTEND;TZID=UTC:20261030T113000
DTSTAMP:20260423T045215
CREATED:20260409T184241Z
LAST-MODIFIED:20260409T184246Z
UID:10000236-1793346300-1793359800@www.poloparkeastgolf.com
SUMMARY:Men’s Golf Club
DESCRIPTION:
URL:https://www.poloparkeastgolf.com/event/mens-golf-club/2026-10-30/
END:VEVENT
BEGIN:VEVENT
DTSTART;TZID=UTC:20261031T080000
DTEND;TZID=UTC:20261031T110000
DTSTAMP:20260423T045215
CREATED:20260409T184557Z
LAST-MODIFIED:20260422T142556Z
UID:10001859-1793433600-1793444400@www.poloparkeastgolf.com
SUMMARY:Men’s 18 Hole Scramble
DESCRIPTION:All are welcome. Teams picked by draw. Please arrive by 7:30AM.
URL:https://www.poloparkeastgolf.com/event/mens-golf-scramble/2026-10-31/
END:VEVENT
BEGIN:VEVENT
DTSTART;TZID=UTC:20261102T074500
DTEND;TZID=UTC:20261102T100000
DTSTAMP:20260423T045215
CREATED:20260409T184922Z
LAST-MODIFIED:20260422T142915Z
UID:10000603-1793605500-1793613600@www.poloparkeastgolf.com
SUMMARY:Men’s Golf Club
DESCRIPTION:
URL:https://www.poloparkeastgolf.com/event/mens-golf-club-2/2026-11-02/
END:VEVENT
BEGIN:VEVENT
DTSTART;TZID=UTC:20261103T080000
DTEND;TZID=UTC:20261103T100000
DTSTAMP:20260423T045215
CREATED:20260409T185214Z
LAST-MODIFIED:20260422T141754Z
UID:10002069-1793692800-1793700000@www.poloparkeastgolf.com
SUMMARY:Lady’s 18 Hole Scramble
DESCRIPTION:
URL:https://www.poloparkeastgolf.com/event/ladys-18-hole-scramble-2/2026-11-03/
END:VEVENT
BEGIN:VEVENT
DTSTART;TZID=UTC:20261103T080000
DTEND;TZID=UTC:20261103T100000
DTSTAMP:20260423T045215
CREATED:20260409T185459Z
LAST-MODIFIED:20260422T141643Z
UID:10001966-1793692800-1793700000@www.poloparkeastgolf.com
SUMMARY:Lady’s 9 Hole Scramble
DESCRIPTION:
URL:https://www.poloparkeastgolf.com/event/ladys-9-hole-scramble-2/2026-11-03/
END:VEVENT
BEGIN:VEVENT
DTSTART;TZID=UTC:20261105T080000
DTEND;TZID=UTC:20261105T100000
DTSTAMP:20260423T045215
CREATED:20260409T183647Z
LAST-MODIFIED:20260422T142334Z
UID:10001266-1793865600-1793872800@www.poloparkeastgolf.com
SUMMARY:Lady’s 18 Hole Scramble
DESCRIPTION:
URL:https://www.poloparkeastgolf.com/event/ladys-18-hole-scramble/2026-11-05/
END:VEVENT
BEGIN:VEVENT
DTSTART;TZID=UTC:20261105T080000
DTEND;TZID=UTC:20261105T100000
DTSTAMP:20260423T045215
CREATED:20260422T140605Z
LAST-MODIFIED:20260422T145513Z
UID:10001471-1793865600-1793872800@www.poloparkeastgolf.com
SUMMARY:Lady’s 9 Hole Scramble
DESCRIPTION:
URL:https://www.poloparkeastgolf.com/event/ladys-9-hole-scramble-3/2026-11-05/
END:VEVENT
BEGIN:VEVENT
DTSTART;TZID=UTC:20261106T074500
DTEND;TZID=UTC:20261106T113000
DTSTAMP:20260423T045215
CREATED:20260409T184241Z
LAST-MODIFIED:20260409T184246Z
UID:10000237-1793951100-1793964600@www.poloparkeastgolf.com
SUMMARY:Men’s Golf Club
DESCRIPTION:
URL:https://www.poloparkeastgolf.com/event/mens-golf-club/2026-11-06/
END:VEVENT
BEGIN:VEVENT
DTSTART;TZID=UTC:20261107T080000
DTEND;TZID=UTC:20261107T110000
DTSTAMP:20260423T045215
CREATED:20260409T184557Z
LAST-MODIFIED:20260422T142556Z
UID:10001860-1794038400-1794049200@www.poloparkeastgolf.com
SUMMARY:Men’s 18 Hole Scramble
DESCRIPTION:All are welcome. Teams picked by draw. Please arrive by 7:30AM.
URL:https://www.poloparkeastgolf.com/event/mens-golf-scramble/2026-11-07/
END:VEVENT
BEGIN:VEVENT
DTSTART;TZID=UTC:20261109T074500
DTEND;TZID=UTC:20261109T100000
DTSTAMP:20260423T045215
CREATED:20260409T184922Z
LAST-MODIFIED:20260422T142915Z
UID:10000604-1794210300-1794218400@www.poloparkeastgolf.com
SUMMARY:Men’s Golf Club
DESCRIPTION:
URL:https://www.poloparkeastgolf.com/event/mens-golf-club-2/2026-11-09/
END:VEVENT
BEGIN:VEVENT
DTSTART;TZID=UTC:20261110T080000
DTEND;TZID=UTC:20261110T100000
DTSTAMP:20260423T045215
CREATED:20260409T185214Z
LAST-MODIFIED:20260422T141754Z
UID:10002070-1794297600-1794304800@www.poloparkeastgolf.com
SUMMARY:Lady’s 18 Hole Scramble
DESCRIPTION:
URL:https://www.poloparkeastgolf.com/event/ladys-18-hole-scramble-2/2026-11-10/
END:VEVENT
BEGIN:VEVENT
DTSTART;TZID=UTC:20261110T080000
DTEND;TZID=UTC:20261110T100000
DTSTAMP:20260423T045215
CREATED:20260409T185459Z
LAST-MODIFIED:20260422T141643Z
UID:10001967-1794297600-1794304800@www.poloparkeastgolf.com
SUMMARY:Lady’s 9 Hole Scramble
DESCRIPTION:
URL:https://www.poloparkeastgolf.com/event/ladys-9-hole-scramble-2/2026-11-10/
END:VEVENT
BEGIN:VEVENT
DTSTART;TZID=UTC:20261112T080000
DTEND;TZID=UTC:20261112T100000
DTSTAMP:20260423T045215
CREATED:20260409T183647Z
LAST-MODIFIED:20260422T142334Z
UID:10001268-1794470400-1794477600@www.poloparkeastgolf.com
SUMMARY:Lady’s 18 Hole Scramble
DESCRIPTION:
URL:https://www.poloparkeastgolf.com/event/ladys-18-hole-scramble/2026-11-12/
END:VEVENT
BEGIN:VEVENT
DTSTART;TZID=UTC:20261112T080000
DTEND;TZID=UTC:20261112T100000
DTSTAMP:20260423T045215
CREATED:20260422T140605Z
LAST-MODIFIED:20260422T145513Z
UID:10001473-1794470400-1794477600@www.poloparkeastgolf.com
SUMMARY:Lady’s 9 Hole Scramble
DESCRIPTION:
URL:https://www.poloparkeastgolf.com/event/ladys-9-hole-scramble-3/2026-11-12/
END:VEVENT
BEGIN:VEVENT
DTSTART;TZID=UTC:20261113T074500
DTEND;TZID=UTC:20261113T113000
DTSTAMP:20260423T045215
CREATED:20260409T184241Z
LAST-MODIFIED:20260409T184246Z
UID:10000238-1794555900-1794569400@www.poloparkeastgolf.com
SUMMARY:Men’s Golf Club
DESCRIPTION:
URL:https://www.poloparkeastgolf.com/event/mens-golf-club/2026-11-13/
END:VEVENT
BEGIN:VEVENT
DTSTART;TZID=UTC:20261114T080000
DTEND;TZID=UTC:20261114T110000
DTSTAMP:20260423T045215
CREATED:20260409T184557Z
LAST-MODIFIED:20260422T142556Z
UID:10001861-1794643200-1794654000@www.poloparkeastgolf.com
SUMMARY:Men’s 18 Hole Scramble
DESCRIPTION:All are welcome. Teams picked by draw. Please arrive by 7:30AM.
URL:https://www.poloparkeastgolf.com/event/mens-golf-scramble/2026-11-14/
END:VEVENT
BEGIN:VEVENT
DTSTART;TZID=UTC:20261115T080000
DTEND;TZID=UTC:20261115T080000
DTSTAMP:20260423T045215
CREATED:20260409T190506Z
LAST-MODIFIED:20260409T190510Z
UID:10001155-1794729600-1794729600@www.poloparkeastgolf.com
SUMMARY:Mom and Pop Golf
DESCRIPTION:
URL:https://www.poloparkeastgolf.com/event/mom-and-pop-golf/2026-11-15/
END:VEVENT
BEGIN:VEVENT
DTSTART;TZID=UTC:20261116T074500
DTEND;TZID=UTC:20261116T100000
DTSTAMP:20260423T045215
CREATED:20260409T184922Z
LAST-MODIFIED:20260422T142915Z
UID:10000605-1794815100-1794823200@www.poloparkeastgolf.com
SUMMARY:Men’s Golf Club
DESCRIPTION:
URL:https://www.poloparkeastgolf.com/event/mens-golf-club-2/2026-11-16/
END:VEVENT
BEGIN:VEVENT
DTSTART;TZID=UTC:20261117T080000
DTEND;TZID=UTC:20261117T100000
DTSTAMP:20260423T045215
CREATED:20260409T185214Z
LAST-MODIFIED:20260422T141754Z
UID:10002071-1794902400-1794909600@www.poloparkeastgolf.com
SUMMARY:Lady’s 18 Hole Scramble
DESCRIPTION:
URL:https://www.poloparkeastgolf.com/event/ladys-18-hole-scramble-2/2026-11-17/
END:VEVENT
BEGIN:VEVENT
DTSTART;TZID=UTC:20261117T080000
DTEND;TZID=UTC:20261117T100000
DTSTAMP:20260423T045215
CREATED:20260409T185459Z
LAST-MODIFIED:20260422T141643Z
UID:10001968-1794902400-1794909600@www.poloparkeastgolf.com
SUMMARY:Lady’s 9 Hole Scramble
DESCRIPTION:
URL:https://www.poloparkeastgolf.com/event/ladys-9-hole-scramble-2/2026-11-17/
END:VEVENT
BEGIN:VEVENT
DTSTART;TZID=UTC:20261119T080000
DTEND;TZID=UTC:20261119T100000
DTSTAMP:20260423T045215
CREATED:20260409T183647Z
LAST-MODIFIED:20260422T142334Z
UID:10001270-1795075200-1795082400@www.poloparkeastgolf.com
SUMMARY:Lady’s 18 Hole Scramble
DESCRIPTION:
URL:https://www.poloparkeastgolf.com/event/ladys-18-hole-scramble/2026-11-19/
END:VEVENT
BEGIN:VEVENT
DTSTART;TZID=UTC:20261119T080000
DTEND;TZID=UTC:20261119T100000
DTSTAMP:20260423T045215
CREATED:20260422T140605Z
LAST-MODIFIED:20260422T145513Z
UID:10001475-1795075200-1795082400@www.poloparkeastgolf.com
SUMMARY:Lady’s 9 Hole Scramble
DESCRIPTION:
URL:https://www.poloparkeastgolf.com/event/ladys-9-hole-scramble-3/2026-11-19/
END:VEVENT
BEGIN:VEVENT
DTSTART;TZID=UTC:20261120T074500
DTEND;TZID=UTC:20261120T113000
DTSTAMP:20260423T045215
CREATED:20260409T184241Z
LAST-MODIFIED:20260409T184246Z
UID:10000239-1795160700-1795174200@www.poloparkeastgolf.com
SUMMARY:Men’s Golf Club
DESCRIPTION:
URL:https://www.poloparkeastgolf.com/event/mens-golf-club/2026-11-20/
END:VEVENT
BEGIN:VEVENT
DTSTART;TZID=UTC:20261121T080000
DTEND;TZID=UTC:20261121T110000
DTSTAMP:20260423T045215
CREATED:20260409T184557Z
LAST-MODIFIED:20260422T142556Z
UID:10001862-1795248000-1795258800@www.poloparkeastgolf.com
SUMMARY:Men’s 18 Hole Scramble
DESCRIPTION:All are welcome. Teams picked by draw. Please arrive by 7:30AM.
URL:https://www.poloparkeastgolf.com/event/mens-golf-scramble/2026-11-21/
END:VEVENT
BEGIN:VEVENT
DTSTART;TZID=UTC:20261123T074500
DTEND;TZID=UTC:20261123T100000
DTSTAMP:20260423T045215
CREATED:20260409T184922Z
LAST-MODIFIED:20260422T142915Z
UID:10000606-1795419900-1795428000@www.poloparkeastgolf.com
SUMMARY:Men’s Golf Club
DESCRIPTION:
URL:https://www.poloparkeastgolf.com/event/mens-golf-club-2/2026-11-23/
END:VEVENT
BEGIN:VEVENT
DTSTART;TZID=UTC:20261124T080000
DTEND;TZID=UTC:20261124T100000
DTSTAMP:20260423T045215
CREATED:20260409T185214Z
LAST-MODIFIED:20260422T141754Z
UID:10002072-1795507200-1795514400@www.poloparkeastgolf.com
SUMMARY:Lady’s 18 Hole Scramble
DESCRIPTION:
URL:https://www.poloparkeastgolf.com/event/ladys-18-hole-scramble-2/2026-11-24/
END:VEVENT
BEGIN:VEVENT
DTSTART;TZID=UTC:20261124T080000
DTEND;TZID=UTC:20261124T100000
DTSTAMP:20260423T045215
CREATED:20260409T185459Z
LAST-MODIFIED:20260422T141643Z
UID:10001969-1795507200-1795514400@www.poloparkeastgolf.com
SUMMARY:Lady’s 9 Hole Scramble
DESCRIPTION:
URL:https://www.poloparkeastgolf.com/event/ladys-9-hole-scramble-2/2026-11-24/
END:VEVENT
END:VCALENDAR