BEGIN:VCALENDAR
VERSION:2.0
PRODID:-//Polo Park East - ECPv6.15.18//NONSGML v1.0//EN
CALSCALE:GREGORIAN
METHOD:PUBLISH
X-ORIGINAL-URL:https://www.poloparkeastgolf.com
X-WR-CALDESC:Events for Polo Park East
REFRESH-INTERVAL;VALUE=DURATION:PT1H
X-Robots-Tag:noindex
X-PUBLISHED-TTL:PT1H
BEGIN:VTIMEZONE
TZID:UTC
BEGIN:STANDARD
TZOFFSETFROM:+0000
TZOFFSETTO:+0000
TZNAME:UTC
DTSTART:20250101T000000
END:STANDARD
END:VTIMEZONE
BEGIN:VEVENT
DTSTART;TZID=UTC:20261010T080000
DTEND;TZID=UTC:20261010T110000
DTSTAMP:20260424T082018
CREATED:20260409T184557Z
LAST-MODIFIED:20260422T142556Z
UID:10001856-1791619200-1791630000@www.poloparkeastgolf.com
SUMMARY:Men’s 18 Hole Scramble
DESCRIPTION:All are welcome. Teams picked by draw. Please arrive by 7:30AM.
URL:https://www.poloparkeastgolf.com/event/mens-golf-scramble/2026-10-10/
END:VEVENT
BEGIN:VEVENT
DTSTART;TZID=UTC:20261017T080000
DTEND;TZID=UTC:20261017T110000
DTSTAMP:20260424T082018
CREATED:20260409T184557Z
LAST-MODIFIED:20260422T142556Z
UID:10001857-1792224000-1792234800@www.poloparkeastgolf.com
SUMMARY:Men’s 18 Hole Scramble
DESCRIPTION:All are welcome. Teams picked by draw. Please arrive by 7:30AM.
URL:https://www.poloparkeastgolf.com/event/mens-golf-scramble/2026-10-17/
END:VEVENT
BEGIN:VEVENT
DTSTART;TZID=UTC:20261024T080000
DTEND;TZID=UTC:20261024T110000
DTSTAMP:20260424T082018
CREATED:20260409T184557Z
LAST-MODIFIED:20260422T142556Z
UID:10001858-1792828800-1792839600@www.poloparkeastgolf.com
SUMMARY:Men’s 18 Hole Scramble
DESCRIPTION:All are welcome. Teams picked by draw. Please arrive by 7:30AM.
URL:https://www.poloparkeastgolf.com/event/mens-golf-scramble/2026-10-24/
END:VEVENT
BEGIN:VEVENT
DTSTART;TZID=UTC:20261031T080000
DTEND;TZID=UTC:20261031T110000
DTSTAMP:20260424T082018
CREATED:20260409T184557Z
LAST-MODIFIED:20260422T142556Z
UID:10001859-1793433600-1793444400@www.poloparkeastgolf.com
SUMMARY:Men’s 18 Hole Scramble
DESCRIPTION:All are welcome. Teams picked by draw. Please arrive by 7:30AM.
URL:https://www.poloparkeastgolf.com/event/mens-golf-scramble/2026-10-31/
END:VEVENT
BEGIN:VEVENT
DTSTART;TZID=UTC:20261107T080000
DTEND;TZID=UTC:20261107T110000
DTSTAMP:20260424T082018
CREATED:20260409T184557Z
LAST-MODIFIED:20260422T142556Z
UID:10001860-1794038400-1794049200@www.poloparkeastgolf.com
SUMMARY:Men’s 18 Hole Scramble
DESCRIPTION:All are welcome. Teams picked by draw. Please arrive by 7:30AM.
URL:https://www.poloparkeastgolf.com/event/mens-golf-scramble/2026-11-07/
END:VEVENT
BEGIN:VEVENT
DTSTART;TZID=UTC:20261114T080000
DTEND;TZID=UTC:20261114T110000
DTSTAMP:20260424T082018
CREATED:20260409T184557Z
LAST-MODIFIED:20260422T142556Z
UID:10001861-1794643200-1794654000@www.poloparkeastgolf.com
SUMMARY:Men’s 18 Hole Scramble
DESCRIPTION:All are welcome. Teams picked by draw. Please arrive by 7:30AM.
URL:https://www.poloparkeastgolf.com/event/mens-golf-scramble/2026-11-14/
END:VEVENT
BEGIN:VEVENT
DTSTART;TZID=UTC:20261121T080000
DTEND;TZID=UTC:20261121T110000
DTSTAMP:20260424T082018
CREATED:20260409T184557Z
LAST-MODIFIED:20260422T142556Z
UID:10001862-1795248000-1795258800@www.poloparkeastgolf.com
SUMMARY:Men’s 18 Hole Scramble
DESCRIPTION:All are welcome. Teams picked by draw. Please arrive by 7:30AM.
URL:https://www.poloparkeastgolf.com/event/mens-golf-scramble/2026-11-21/
END:VEVENT
BEGIN:VEVENT
DTSTART;TZID=UTC:20261128T080000
DTEND;TZID=UTC:20261128T110000
DTSTAMP:20260424T082018
CREATED:20260409T184557Z
LAST-MODIFIED:20260422T142556Z
UID:10001863-1795852800-1795863600@www.poloparkeastgolf.com
SUMMARY:Men’s 18 Hole Scramble
DESCRIPTION:All are welcome. Teams picked by draw. Please arrive by 7:30AM.
URL:https://www.poloparkeastgolf.com/event/mens-golf-scramble/2026-11-28/
END:VEVENT
BEGIN:VEVENT
DTSTART;TZID=UTC:20261205T080000
DTEND;TZID=UTC:20261205T110000
DTSTAMP:20260424T082018
CREATED:20260409T184557Z
LAST-MODIFIED:20260422T142556Z
UID:10001864-1796457600-1796468400@www.poloparkeastgolf.com
SUMMARY:Men’s 18 Hole Scramble
DESCRIPTION:All are welcome. Teams picked by draw. Please arrive by 7:30AM.
URL:https://www.poloparkeastgolf.com/event/mens-golf-scramble/2026-12-05/
END:VEVENT
BEGIN:VEVENT
DTSTART;TZID=UTC:20261212T080000
DTEND;TZID=UTC:20261212T110000
DTSTAMP:20260424T082018
CREATED:20260409T184557Z
LAST-MODIFIED:20260422T142556Z
UID:10001865-1797062400-1797073200@www.poloparkeastgolf.com
SUMMARY:Men’s 18 Hole Scramble
DESCRIPTION:All are welcome. Teams picked by draw. Please arrive by 7:30AM.
URL:https://www.poloparkeastgolf.com/event/mens-golf-scramble/2026-12-12/
END:VEVENT
BEGIN:VEVENT
DTSTART;TZID=UTC:20261219T080000
DTEND;TZID=UTC:20261219T110000
DTSTAMP:20260424T082018
CREATED:20260409T184557Z
LAST-MODIFIED:20260422T142556Z
UID:10001866-1797667200-1797678000@www.poloparkeastgolf.com
SUMMARY:Men’s 18 Hole Scramble
DESCRIPTION:All are welcome. Teams picked by draw. Please arrive by 7:30AM.
URL:https://www.poloparkeastgolf.com/event/mens-golf-scramble/2026-12-19/
END:VEVENT
BEGIN:VEVENT
DTSTART;TZID=UTC:20261226T080000
DTEND;TZID=UTC:20261226T110000
DTSTAMP:20260424T082018
CREATED:20260409T184557Z
LAST-MODIFIED:20260422T142556Z
UID:10001867-1798272000-1798282800@www.poloparkeastgolf.com
SUMMARY:Men’s 18 Hole Scramble
DESCRIPTION:All are welcome. Teams picked by draw. Please arrive by 7:30AM.
URL:https://www.poloparkeastgolf.com/event/mens-golf-scramble/2026-12-26/
END:VEVENT
BEGIN:VEVENT
DTSTART;TZID=UTC:20270102T080000
DTEND;TZID=UTC:20270102T110000
DTSTAMP:20260424T082018
CREATED:20260409T184557Z
LAST-MODIFIED:20260422T142556Z
UID:10001868-1798876800-1798887600@www.poloparkeastgolf.com
SUMMARY:Men’s 18 Hole Scramble
DESCRIPTION:All are welcome. Teams picked by draw. Please arrive by 7:30AM.
URL:https://www.poloparkeastgolf.com/event/mens-golf-scramble/2027-01-02/
END:VEVENT
BEGIN:VEVENT
DTSTART;TZID=UTC:20270109T080000
DTEND;TZID=UTC:20270109T110000
DTSTAMP:20260424T082018
CREATED:20260409T184557Z
LAST-MODIFIED:20260422T142556Z
UID:10001869-1799481600-1799492400@www.poloparkeastgolf.com
SUMMARY:Men’s 18 Hole Scramble
DESCRIPTION:All are welcome. Teams picked by draw. Please arrive by 7:30AM.
URL:https://www.poloparkeastgolf.com/event/mens-golf-scramble/2027-01-09/
END:VEVENT
BEGIN:VEVENT
DTSTART;TZID=UTC:20270116T080000
DTEND;TZID=UTC:20270116T110000
DTSTAMP:20260424T082018
CREATED:20260409T184557Z
LAST-MODIFIED:20260422T142556Z
UID:10001870-1800086400-1800097200@www.poloparkeastgolf.com
SUMMARY:Men’s 18 Hole Scramble
DESCRIPTION:All are welcome. Teams picked by draw. Please arrive by 7:30AM.
URL:https://www.poloparkeastgolf.com/event/mens-golf-scramble/2027-01-16/
END:VEVENT
BEGIN:VEVENT
DTSTART;TZID=UTC:20270123T080000
DTEND;TZID=UTC:20270123T110000
DTSTAMP:20260424T082018
CREATED:20260409T184557Z
LAST-MODIFIED:20260422T142556Z
UID:10001871-1800691200-1800702000@www.poloparkeastgolf.com
SUMMARY:Men’s 18 Hole Scramble
DESCRIPTION:All are welcome. Teams picked by draw. Please arrive by 7:30AM.
URL:https://www.poloparkeastgolf.com/event/mens-golf-scramble/2027-01-23/
END:VEVENT
BEGIN:VEVENT
DTSTART;TZID=UTC:20270130T080000
DTEND;TZID=UTC:20270130T110000
DTSTAMP:20260424T082018
CREATED:20260409T184557Z
LAST-MODIFIED:20260422T142556Z
UID:10001872-1801296000-1801306800@www.poloparkeastgolf.com
SUMMARY:Men’s 18 Hole Scramble
DESCRIPTION:All are welcome. Teams picked by draw. Please arrive by 7:30AM.
URL:https://www.poloparkeastgolf.com/event/mens-golf-scramble/2027-01-30/
END:VEVENT
BEGIN:VEVENT
DTSTART;TZID=UTC:20270206T080000
DTEND;TZID=UTC:20270206T110000
DTSTAMP:20260424T082018
CREATED:20260409T184557Z
LAST-MODIFIED:20260422T142556Z
UID:10001873-1801900800-1801911600@www.poloparkeastgolf.com
SUMMARY:Men’s 18 Hole Scramble
DESCRIPTION:All are welcome. Teams picked by draw. Please arrive by 7:30AM.
URL:https://www.poloparkeastgolf.com/event/mens-golf-scramble/2027-02-06/
END:VEVENT
BEGIN:VEVENT
DTSTART;TZID=UTC:20270213T080000
DTEND;TZID=UTC:20270213T110000
DTSTAMP:20260424T082018
CREATED:20260409T184557Z
LAST-MODIFIED:20260422T142556Z
UID:10001874-1802505600-1802516400@www.poloparkeastgolf.com
SUMMARY:Men’s 18 Hole Scramble
DESCRIPTION:All are welcome. Teams picked by draw. Please arrive by 7:30AM.
URL:https://www.poloparkeastgolf.com/event/mens-golf-scramble/2027-02-13/
END:VEVENT
BEGIN:VEVENT
DTSTART;TZID=UTC:20270220T080000
DTEND;TZID=UTC:20270220T110000
DTSTAMP:20260424T082018
CREATED:20260409T184557Z
LAST-MODIFIED:20260422T142556Z
UID:10001875-1803110400-1803121200@www.poloparkeastgolf.com
SUMMARY:Men’s 18 Hole Scramble
DESCRIPTION:All are welcome. Teams picked by draw. Please arrive by 7:30AM.
URL:https://www.poloparkeastgolf.com/event/mens-golf-scramble/2027-02-20/
END:VEVENT
BEGIN:VEVENT
DTSTART;TZID=UTC:20270227T080000
DTEND;TZID=UTC:20270227T110000
DTSTAMP:20260424T082018
CREATED:20260409T184557Z
LAST-MODIFIED:20260422T142556Z
UID:10001876-1803715200-1803726000@www.poloparkeastgolf.com
SUMMARY:Men’s 18 Hole Scramble
DESCRIPTION:All are welcome. Teams picked by draw. Please arrive by 7:30AM.
URL:https://www.poloparkeastgolf.com/event/mens-golf-scramble/2027-02-27/
END:VEVENT
BEGIN:VEVENT
DTSTART;TZID=UTC:20270306T080000
DTEND;TZID=UTC:20270306T110000
DTSTAMP:20260424T082018
CREATED:20260409T184557Z
LAST-MODIFIED:20260422T142556Z
UID:10001877-1804320000-1804330800@www.poloparkeastgolf.com
SUMMARY:Men’s 18 Hole Scramble
DESCRIPTION:All are welcome. Teams picked by draw. Please arrive by 7:30AM.
URL:https://www.poloparkeastgolf.com/event/mens-golf-scramble/2027-03-06/
END:VEVENT
BEGIN:VEVENT
DTSTART;TZID=UTC:20270313T080000
DTEND;TZID=UTC:20270313T110000
DTSTAMP:20260424T082018
CREATED:20260409T184557Z
LAST-MODIFIED:20260422T142556Z
UID:10001878-1804924800-1804935600@www.poloparkeastgolf.com
SUMMARY:Men’s 18 Hole Scramble
DESCRIPTION:All are welcome. Teams picked by draw. Please arrive by 7:30AM.
URL:https://www.poloparkeastgolf.com/event/mens-golf-scramble/2027-03-13/
END:VEVENT
BEGIN:VEVENT
DTSTART;TZID=UTC:20270320T080000
DTEND;TZID=UTC:20270320T110000
DTSTAMP:20260424T082018
CREATED:20260409T184557Z
LAST-MODIFIED:20260422T142556Z
UID:10001879-1805529600-1805540400@www.poloparkeastgolf.com
SUMMARY:Men’s 18 Hole Scramble
DESCRIPTION:All are welcome. Teams picked by draw. Please arrive by 7:30AM.
URL:https://www.poloparkeastgolf.com/event/mens-golf-scramble/2027-03-20/
END:VEVENT
BEGIN:VEVENT
DTSTART;TZID=UTC:20270327T080000
DTEND;TZID=UTC:20270327T110000
DTSTAMP:20260424T082018
CREATED:20260409T184557Z
LAST-MODIFIED:20260422T142556Z
UID:10001880-1806134400-1806145200@www.poloparkeastgolf.com
SUMMARY:Men’s 18 Hole Scramble
DESCRIPTION:All are welcome. Teams picked by draw. Please arrive by 7:30AM.
URL:https://www.poloparkeastgolf.com/event/mens-golf-scramble/2027-03-27/
END:VEVENT
BEGIN:VEVENT
DTSTART;TZID=UTC:20270403T080000
DTEND;TZID=UTC:20270403T110000
DTSTAMP:20260424T082018
CREATED:20260409T184557Z
LAST-MODIFIED:20260422T142556Z
UID:10001881-1806739200-1806750000@www.poloparkeastgolf.com
SUMMARY:Men’s 18 Hole Scramble
DESCRIPTION:All are welcome. Teams picked by draw. Please arrive by 7:30AM.
URL:https://www.poloparkeastgolf.com/event/mens-golf-scramble/2027-04-03/
END:VEVENT
BEGIN:VEVENT
DTSTART;TZID=UTC:20270410T080000
DTEND;TZID=UTC:20270410T110000
DTSTAMP:20260424T082018
CREATED:20260409T184557Z
LAST-MODIFIED:20260422T142556Z
UID:10001882-1807344000-1807354800@www.poloparkeastgolf.com
SUMMARY:Men’s 18 Hole Scramble
DESCRIPTION:All are welcome. Teams picked by draw. Please arrive by 7:30AM.
URL:https://www.poloparkeastgolf.com/event/mens-golf-scramble/2027-04-10/
END:VEVENT
BEGIN:VEVENT
DTSTART;TZID=UTC:20270417T080000
DTEND;TZID=UTC:20270417T110000
DTSTAMP:20260424T082018
CREATED:20260409T184557Z
LAST-MODIFIED:20260422T142556Z
UID:10001883-1807948800-1807959600@www.poloparkeastgolf.com
SUMMARY:Men’s 18 Hole Scramble
DESCRIPTION:All are welcome. Teams picked by draw. Please arrive by 7:30AM.
URL:https://www.poloparkeastgolf.com/event/mens-golf-scramble/2027-04-17/
END:VEVENT
BEGIN:VEVENT
DTSTART;TZID=UTC:20270424T080000
DTEND;TZID=UTC:20270424T110000
DTSTAMP:20260424T082018
CREATED:20260409T184557Z
LAST-MODIFIED:20260422T142556Z
UID:10001884-1808553600-1808564400@www.poloparkeastgolf.com
SUMMARY:Men’s 18 Hole Scramble
DESCRIPTION:All are welcome. Teams picked by draw. Please arrive by 7:30AM.
URL:https://www.poloparkeastgolf.com/event/mens-golf-scramble/2027-04-24/
END:VEVENT
BEGIN:VEVENT
DTSTART;TZID=UTC:20270501T080000
DTEND;TZID=UTC:20270501T110000
DTSTAMP:20260424T082018
CREATED:20260409T184557Z
LAST-MODIFIED:20260422T142556Z
UID:10001885-1809158400-1809169200@www.poloparkeastgolf.com
SUMMARY:Men’s 18 Hole Scramble
DESCRIPTION:All are welcome. Teams picked by draw. Please arrive by 7:30AM.
URL:https://www.poloparkeastgolf.com/event/mens-golf-scramble/2027-05-01/
END:VEVENT
END:VCALENDAR