BEGIN:VCALENDAR
VERSION:2.0
PRODID:-//Polo Park East - ECPv6.15.18//NONSGML v1.0//EN
CALSCALE:GREGORIAN
METHOD:PUBLISH
X-ORIGINAL-URL:https://www.poloparkeastgolf.com
X-WR-CALDESC:Events for Polo Park East
REFRESH-INTERVAL;VALUE=DURATION:PT1H
X-Robots-Tag:noindex
X-PUBLISHED-TTL:PT1H
BEGIN:VTIMEZONE
TZID:UTC
BEGIN:STANDARD
TZOFFSETFROM:+0000
TZOFFSETTO:+0000
TZNAME:UTC
DTSTART:20250101T000000
END:STANDARD
END:VTIMEZONE
BEGIN:VEVENT
DTSTART;TZID=UTC:20261008T080000
DTEND;TZID=UTC:20261008T100000
DTSTAMP:20260423T061221
CREATED:20260409T183647Z
LAST-MODIFIED:20260422T142334Z
UID:10001258-1791446400-1791453600@www.poloparkeastgolf.com
SUMMARY:Lady’s 18 Hole Scramble
DESCRIPTION:
URL:https://www.poloparkeastgolf.com/event/ladys-18-hole-scramble/2026-10-08/
END:VEVENT
BEGIN:VEVENT
DTSTART;TZID=UTC:20261015T080000
DTEND;TZID=UTC:20261015T100000
DTSTAMP:20260423T061221
CREATED:20260409T183647Z
LAST-MODIFIED:20260422T142334Z
UID:10001260-1792051200-1792058400@www.poloparkeastgolf.com
SUMMARY:Lady’s 18 Hole Scramble
DESCRIPTION:
URL:https://www.poloparkeastgolf.com/event/ladys-18-hole-scramble/2026-10-15/
END:VEVENT
BEGIN:VEVENT
DTSTART;TZID=UTC:20261022T080000
DTEND;TZID=UTC:20261022T100000
DTSTAMP:20260423T061221
CREATED:20260409T183647Z
LAST-MODIFIED:20260422T142334Z
UID:10001262-1792656000-1792663200@www.poloparkeastgolf.com
SUMMARY:Lady’s 18 Hole Scramble
DESCRIPTION:
URL:https://www.poloparkeastgolf.com/event/ladys-18-hole-scramble/2026-10-22/
END:VEVENT
BEGIN:VEVENT
DTSTART;TZID=UTC:20261029T080000
DTEND;TZID=UTC:20261029T100000
DTSTAMP:20260423T061222
CREATED:20260409T183647Z
LAST-MODIFIED:20260422T142334Z
UID:10001264-1793260800-1793268000@www.poloparkeastgolf.com
SUMMARY:Lady’s 18 Hole Scramble
DESCRIPTION:
URL:https://www.poloparkeastgolf.com/event/ladys-18-hole-scramble/2026-10-29/
END:VEVENT
BEGIN:VEVENT
DTSTART;TZID=UTC:20261105T080000
DTEND;TZID=UTC:20261105T100000
DTSTAMP:20260423T061222
CREATED:20260409T183647Z
LAST-MODIFIED:20260422T142334Z
UID:10001266-1793865600-1793872800@www.poloparkeastgolf.com
SUMMARY:Lady’s 18 Hole Scramble
DESCRIPTION:
URL:https://www.poloparkeastgolf.com/event/ladys-18-hole-scramble/2026-11-05/
END:VEVENT
BEGIN:VEVENT
DTSTART;TZID=UTC:20261112T080000
DTEND;TZID=UTC:20261112T100000
DTSTAMP:20260423T061222
CREATED:20260409T183647Z
LAST-MODIFIED:20260422T142334Z
UID:10001268-1794470400-1794477600@www.poloparkeastgolf.com
SUMMARY:Lady’s 18 Hole Scramble
DESCRIPTION:
URL:https://www.poloparkeastgolf.com/event/ladys-18-hole-scramble/2026-11-12/
END:VEVENT
BEGIN:VEVENT
DTSTART;TZID=UTC:20261119T080000
DTEND;TZID=UTC:20261119T100000
DTSTAMP:20260423T061222
CREATED:20260409T183647Z
LAST-MODIFIED:20260422T142334Z
UID:10001270-1795075200-1795082400@www.poloparkeastgolf.com
SUMMARY:Lady’s 18 Hole Scramble
DESCRIPTION:
URL:https://www.poloparkeastgolf.com/event/ladys-18-hole-scramble/2026-11-19/
END:VEVENT
BEGIN:VEVENT
DTSTART;TZID=UTC:20261126T080000
DTEND;TZID=UTC:20261126T100000
DTSTAMP:20260423T061222
CREATED:20260409T183647Z
LAST-MODIFIED:20260422T142334Z
UID:10001272-1795680000-1795687200@www.poloparkeastgolf.com
SUMMARY:Lady’s 18 Hole Scramble
DESCRIPTION:
URL:https://www.poloparkeastgolf.com/event/ladys-18-hole-scramble/2026-11-26/
END:VEVENT
BEGIN:VEVENT
DTSTART;TZID=UTC:20261203T080000
DTEND;TZID=UTC:20261203T100000
DTSTAMP:20260423T061222
CREATED:20260409T183647Z
LAST-MODIFIED:20260422T142334Z
UID:10001274-1796284800-1796292000@www.poloparkeastgolf.com
SUMMARY:Lady’s 18 Hole Scramble
DESCRIPTION:
URL:https://www.poloparkeastgolf.com/event/ladys-18-hole-scramble/2026-12-03/
END:VEVENT
BEGIN:VEVENT
DTSTART;TZID=UTC:20261210T080000
DTEND;TZID=UTC:20261210T100000
DTSTAMP:20260423T061222
CREATED:20260409T183647Z
LAST-MODIFIED:20260422T142334Z
UID:10001276-1796889600-1796896800@www.poloparkeastgolf.com
SUMMARY:Lady’s 18 Hole Scramble
DESCRIPTION:
URL:https://www.poloparkeastgolf.com/event/ladys-18-hole-scramble/2026-12-10/
END:VEVENT
BEGIN:VEVENT
DTSTART;TZID=UTC:20261217T080000
DTEND;TZID=UTC:20261217T100000
DTSTAMP:20260423T061222
CREATED:20260409T183647Z
LAST-MODIFIED:20260422T142334Z
UID:10001278-1797494400-1797501600@www.poloparkeastgolf.com
SUMMARY:Lady’s 18 Hole Scramble
DESCRIPTION:
URL:https://www.poloparkeastgolf.com/event/ladys-18-hole-scramble/2026-12-17/
END:VEVENT
BEGIN:VEVENT
DTSTART;TZID=UTC:20261224T080000
DTEND;TZID=UTC:20261224T100000
DTSTAMP:20260423T061222
CREATED:20260409T183647Z
LAST-MODIFIED:20260422T142334Z
UID:10001280-1798099200-1798106400@www.poloparkeastgolf.com
SUMMARY:Lady’s 18 Hole Scramble
DESCRIPTION:
URL:https://www.poloparkeastgolf.com/event/ladys-18-hole-scramble/2026-12-24/
END:VEVENT
BEGIN:VEVENT
DTSTART;TZID=UTC:20261231T080000
DTEND;TZID=UTC:20261231T100000
DTSTAMP:20260423T061222
CREATED:20260409T183647Z
LAST-MODIFIED:20260422T142334Z
UID:10001282-1798704000-1798711200@www.poloparkeastgolf.com
SUMMARY:Lady’s 18 Hole Scramble
DESCRIPTION:
URL:https://www.poloparkeastgolf.com/event/ladys-18-hole-scramble/2026-12-31/
END:VEVENT
BEGIN:VEVENT
DTSTART;TZID=UTC:20270107T080000
DTEND;TZID=UTC:20270107T100000
DTSTAMP:20260423T061222
CREATED:20260409T183647Z
LAST-MODIFIED:20260422T142334Z
UID:10001284-1799308800-1799316000@www.poloparkeastgolf.com
SUMMARY:Lady’s 18 Hole Scramble
DESCRIPTION:
URL:https://www.poloparkeastgolf.com/event/ladys-18-hole-scramble/2027-01-07/
END:VEVENT
BEGIN:VEVENT
DTSTART;TZID=UTC:20270114T080000
DTEND;TZID=UTC:20270114T100000
DTSTAMP:20260423T061222
CREATED:20260409T183647Z
LAST-MODIFIED:20260422T142334Z
UID:10001286-1799913600-1799920800@www.poloparkeastgolf.com
SUMMARY:Lady’s 18 Hole Scramble
DESCRIPTION:
URL:https://www.poloparkeastgolf.com/event/ladys-18-hole-scramble/2027-01-14/
END:VEVENT
BEGIN:VEVENT
DTSTART;TZID=UTC:20270121T080000
DTEND;TZID=UTC:20270121T100000
DTSTAMP:20260423T061222
CREATED:20260409T183647Z
LAST-MODIFIED:20260422T142334Z
UID:10001288-1800518400-1800525600@www.poloparkeastgolf.com
SUMMARY:Lady’s 18 Hole Scramble
DESCRIPTION:
URL:https://www.poloparkeastgolf.com/event/ladys-18-hole-scramble/2027-01-21/
END:VEVENT
BEGIN:VEVENT
DTSTART;TZID=UTC:20270128T080000
DTEND;TZID=UTC:20270128T100000
DTSTAMP:20260423T061222
CREATED:20260409T183647Z
LAST-MODIFIED:20260422T142334Z
UID:10001290-1801123200-1801130400@www.poloparkeastgolf.com
SUMMARY:Lady’s 18 Hole Scramble
DESCRIPTION:
URL:https://www.poloparkeastgolf.com/event/ladys-18-hole-scramble/2027-01-28/
END:VEVENT
BEGIN:VEVENT
DTSTART;TZID=UTC:20270204T080000
DTEND;TZID=UTC:20270204T100000
DTSTAMP:20260423T061222
CREATED:20260409T183647Z
LAST-MODIFIED:20260422T142334Z
UID:10001292-1801728000-1801735200@www.poloparkeastgolf.com
SUMMARY:Lady’s 18 Hole Scramble
DESCRIPTION:
URL:https://www.poloparkeastgolf.com/event/ladys-18-hole-scramble/2027-02-04/
END:VEVENT
BEGIN:VEVENT
DTSTART;TZID=UTC:20270211T080000
DTEND;TZID=UTC:20270211T100000
DTSTAMP:20260423T061222
CREATED:20260409T183647Z
LAST-MODIFIED:20260422T142334Z
UID:10001294-1802332800-1802340000@www.poloparkeastgolf.com
SUMMARY:Lady’s 18 Hole Scramble
DESCRIPTION:
URL:https://www.poloparkeastgolf.com/event/ladys-18-hole-scramble/2027-02-11/
END:VEVENT
BEGIN:VEVENT
DTSTART;TZID=UTC:20270218T080000
DTEND;TZID=UTC:20270218T100000
DTSTAMP:20260423T061222
CREATED:20260409T183647Z
LAST-MODIFIED:20260422T142334Z
UID:10001296-1802937600-1802944800@www.poloparkeastgolf.com
SUMMARY:Lady’s 18 Hole Scramble
DESCRIPTION:
URL:https://www.poloparkeastgolf.com/event/ladys-18-hole-scramble/2027-02-18/
END:VEVENT
BEGIN:VEVENT
DTSTART;TZID=UTC:20270225T080000
DTEND;TZID=UTC:20270225T100000
DTSTAMP:20260423T061222
CREATED:20260409T183647Z
LAST-MODIFIED:20260422T142334Z
UID:10001298-1803542400-1803549600@www.poloparkeastgolf.com
SUMMARY:Lady’s 18 Hole Scramble
DESCRIPTION:
URL:https://www.poloparkeastgolf.com/event/ladys-18-hole-scramble/2027-02-25/
END:VEVENT
BEGIN:VEVENT
DTSTART;TZID=UTC:20270304T080000
DTEND;TZID=UTC:20270304T100000
DTSTAMP:20260423T061222
CREATED:20260409T183647Z
LAST-MODIFIED:20260422T142334Z
UID:10001300-1804147200-1804154400@www.poloparkeastgolf.com
SUMMARY:Lady’s 18 Hole Scramble
DESCRIPTION:
URL:https://www.poloparkeastgolf.com/event/ladys-18-hole-scramble/2027-03-04/
END:VEVENT
BEGIN:VEVENT
DTSTART;TZID=UTC:20270311T080000
DTEND;TZID=UTC:20270311T100000
DTSTAMP:20260423T061222
CREATED:20260409T183647Z
LAST-MODIFIED:20260422T142334Z
UID:10001302-1804752000-1804759200@www.poloparkeastgolf.com
SUMMARY:Lady’s 18 Hole Scramble
DESCRIPTION:
URL:https://www.poloparkeastgolf.com/event/ladys-18-hole-scramble/2027-03-11/
END:VEVENT
BEGIN:VEVENT
DTSTART;TZID=UTC:20270318T080000
DTEND;TZID=UTC:20270318T100000
DTSTAMP:20260423T061222
CREATED:20260409T183647Z
LAST-MODIFIED:20260422T142334Z
UID:10001304-1805356800-1805364000@www.poloparkeastgolf.com
SUMMARY:Lady’s 18 Hole Scramble
DESCRIPTION:
URL:https://www.poloparkeastgolf.com/event/ladys-18-hole-scramble/2027-03-18/
END:VEVENT
BEGIN:VEVENT
DTSTART;TZID=UTC:20270325T080000
DTEND;TZID=UTC:20270325T100000
DTSTAMP:20260423T061222
CREATED:20260409T183647Z
LAST-MODIFIED:20260422T142334Z
UID:10001306-1805961600-1805968800@www.poloparkeastgolf.com
SUMMARY:Lady’s 18 Hole Scramble
DESCRIPTION:
URL:https://www.poloparkeastgolf.com/event/ladys-18-hole-scramble/2027-03-25/
END:VEVENT
BEGIN:VEVENT
DTSTART;TZID=UTC:20270401T080000
DTEND;TZID=UTC:20270401T100000
DTSTAMP:20260423T061222
CREATED:20260409T183647Z
LAST-MODIFIED:20260422T142334Z
UID:10001308-1806566400-1806573600@www.poloparkeastgolf.com
SUMMARY:Lady’s 18 Hole Scramble
DESCRIPTION:
URL:https://www.poloparkeastgolf.com/event/ladys-18-hole-scramble/2027-04-01/
END:VEVENT
BEGIN:VEVENT
DTSTART;TZID=UTC:20270408T080000
DTEND;TZID=UTC:20270408T100000
DTSTAMP:20260423T061222
CREATED:20260409T183647Z
LAST-MODIFIED:20260422T142334Z
UID:10001310-1807171200-1807178400@www.poloparkeastgolf.com
SUMMARY:Lady’s 18 Hole Scramble
DESCRIPTION:
URL:https://www.poloparkeastgolf.com/event/ladys-18-hole-scramble/2027-04-08/
END:VEVENT
BEGIN:VEVENT
DTSTART;TZID=UTC:20270415T080000
DTEND;TZID=UTC:20270415T100000
DTSTAMP:20260423T061222
CREATED:20260409T183647Z
LAST-MODIFIED:20260422T142334Z
UID:10001312-1807776000-1807783200@www.poloparkeastgolf.com
SUMMARY:Lady’s 18 Hole Scramble
DESCRIPTION:
URL:https://www.poloparkeastgolf.com/event/ladys-18-hole-scramble/2027-04-15/
END:VEVENT
BEGIN:VEVENT
DTSTART;TZID=UTC:20270422T080000
DTEND;TZID=UTC:20270422T100000
DTSTAMP:20260423T061222
CREATED:20260409T183647Z
LAST-MODIFIED:20260422T142334Z
UID:10001314-1808380800-1808388000@www.poloparkeastgolf.com
SUMMARY:Lady’s 18 Hole Scramble
DESCRIPTION:
URL:https://www.poloparkeastgolf.com/event/ladys-18-hole-scramble/2027-04-22/
END:VEVENT
BEGIN:VEVENT
DTSTART;TZID=UTC:20270429T080000
DTEND;TZID=UTC:20270429T100000
DTSTAMP:20260423T061222
CREATED:20260409T183647Z
LAST-MODIFIED:20260422T142334Z
UID:10001316-1808985600-1808992800@www.poloparkeastgolf.com
SUMMARY:Lady’s 18 Hole Scramble
DESCRIPTION:
URL:https://www.poloparkeastgolf.com/event/ladys-18-hole-scramble/2027-04-29/
END:VEVENT
END:VCALENDAR