BEGIN:VCALENDAR
VERSION:2.0
PRODID:-//Polo Park East - ECPv6.15.18//NONSGML v1.0//EN
CALSCALE:GREGORIAN
METHOD:PUBLISH
X-ORIGINAL-URL:https://www.poloparkeastgolf.com
X-WR-CALDESC:Events for Polo Park East
REFRESH-INTERVAL;VALUE=DURATION:PT1H
X-Robots-Tag:noindex
X-PUBLISHED-TTL:PT1H
BEGIN:VTIMEZONE
TZID:UTC
BEGIN:STANDARD
TZOFFSETFROM:+0000
TZOFFSETTO:+0000
TZNAME:UTC
DTSTART:20260101T000000
END:STANDARD
END:VTIMEZONE
BEGIN:VEVENT
DTSTART;TZID=UTC:20270817T080000
DTEND;TZID=UTC:20270817T100000
DTSTAMP:20260425T090627
CREATED:20260409T185214Z
LAST-MODIFIED:20260422T141754Z
UID:10002110-1818489600-1818496800@www.poloparkeastgolf.com
SUMMARY:Lady’s 18 Hole Scramble
DESCRIPTION:
URL:https://www.poloparkeastgolf.com/event/ladys-18-hole-scramble-2/2027-08-17/
END:VEVENT
BEGIN:VEVENT
DTSTART;TZID=UTC:20270817T080000
DTEND;TZID=UTC:20270817T100000
DTSTAMP:20260425T090627
CREATED:20260409T185459Z
LAST-MODIFIED:20260422T141643Z
UID:10002007-1818489600-1818496800@www.poloparkeastgolf.com
SUMMARY:Lady’s 9 Hole Scramble
DESCRIPTION:
URL:https://www.poloparkeastgolf.com/event/ladys-9-hole-scramble-2/2027-08-17/
END:VEVENT
BEGIN:VEVENT
DTSTART;TZID=UTC:20270819T080000
DTEND;TZID=UTC:20270819T100000
DTSTAMP:20260425T090627
CREATED:20260409T183647Z
LAST-MODIFIED:20260422T142334Z
UID:10001348-1818662400-1818669600@www.poloparkeastgolf.com
SUMMARY:Lady’s 18 Hole Scramble
DESCRIPTION:
URL:https://www.poloparkeastgolf.com/event/ladys-18-hole-scramble/2027-08-19/
END:VEVENT
BEGIN:VEVENT
DTSTART;TZID=UTC:20270819T080000
DTEND;TZID=UTC:20270819T100000
DTSTAMP:20260425T090627
CREATED:20260422T140605Z
LAST-MODIFIED:20260422T145513Z
UID:10001553-1818662400-1818669600@www.poloparkeastgolf.com
SUMMARY:Lady’s 9 Hole Scramble
DESCRIPTION:
URL:https://www.poloparkeastgolf.com/event/ladys-9-hole-scramble-3/2027-08-19/
END:VEVENT
BEGIN:VEVENT
DTSTART;TZID=UTC:20270820T074500
DTEND;TZID=UTC:20270820T113000
DTSTAMP:20260425T090627
CREATED:20260409T184241Z
LAST-MODIFIED:20260409T184246Z
UID:10000278-1818747900-1818761400@www.poloparkeastgolf.com
SUMMARY:Men’s Golf Club
DESCRIPTION:
URL:https://www.poloparkeastgolf.com/event/mens-golf-club/2027-08-20/
END:VEVENT
BEGIN:VEVENT
DTSTART;TZID=UTC:20270821T080000
DTEND;TZID=UTC:20270821T110000
DTSTAMP:20260425T090627
CREATED:20260409T184557Z
LAST-MODIFIED:20260422T142556Z
UID:10001901-1818835200-1818846000@www.poloparkeastgolf.com
SUMMARY:Men’s 18 Hole Scramble
DESCRIPTION:All are welcome. Teams picked by draw. Please arrive by 7:30AM.
URL:https://www.poloparkeastgolf.com/event/mens-golf-scramble/2027-08-21/
END:VEVENT
BEGIN:VEVENT
DTSTART;TZID=UTC:20270823T074500
DTEND;TZID=UTC:20270823T100000
DTSTAMP:20260425T090627
CREATED:20260409T184922Z
LAST-MODIFIED:20260422T142915Z
UID:10000645-1819007100-1819015200@www.poloparkeastgolf.com
SUMMARY:Men’s Golf Club
DESCRIPTION:
URL:https://www.poloparkeastgolf.com/event/mens-golf-club-2/2027-08-23/
END:VEVENT
BEGIN:VEVENT
DTSTART;TZID=UTC:20270824T080000
DTEND;TZID=UTC:20270824T100000
DTSTAMP:20260425T090627
CREATED:20260409T185214Z
LAST-MODIFIED:20260422T141754Z
UID:10002111-1819094400-1819101600@www.poloparkeastgolf.com
SUMMARY:Lady’s 18 Hole Scramble
DESCRIPTION:
URL:https://www.poloparkeastgolf.com/event/ladys-18-hole-scramble-2/2027-08-24/
END:VEVENT
BEGIN:VEVENT
DTSTART;TZID=UTC:20270824T080000
DTEND;TZID=UTC:20270824T100000
DTSTAMP:20260425T090627
CREATED:20260409T185459Z
LAST-MODIFIED:20260422T141643Z
UID:10002008-1819094400-1819101600@www.poloparkeastgolf.com
SUMMARY:Lady’s 9 Hole Scramble
DESCRIPTION:
URL:https://www.poloparkeastgolf.com/event/ladys-9-hole-scramble-2/2027-08-24/
END:VEVENT
BEGIN:VEVENT
DTSTART;TZID=UTC:20270826T080000
DTEND;TZID=UTC:20270826T100000
DTSTAMP:20260425T090627
CREATED:20260409T183647Z
LAST-MODIFIED:20260422T142334Z
UID:10001350-1819267200-1819274400@www.poloparkeastgolf.com
SUMMARY:Lady’s 18 Hole Scramble
DESCRIPTION:
URL:https://www.poloparkeastgolf.com/event/ladys-18-hole-scramble/2027-08-26/
END:VEVENT
BEGIN:VEVENT
DTSTART;TZID=UTC:20270826T080000
DTEND;TZID=UTC:20270826T100000
DTSTAMP:20260425T090627
CREATED:20260422T140605Z
LAST-MODIFIED:20260422T145513Z
UID:10001555-1819267200-1819274400@www.poloparkeastgolf.com
SUMMARY:Lady’s 9 Hole Scramble
DESCRIPTION:
URL:https://www.poloparkeastgolf.com/event/ladys-9-hole-scramble-3/2027-08-26/
END:VEVENT
BEGIN:VEVENT
DTSTART;TZID=UTC:20270827T074500
DTEND;TZID=UTC:20270827T113000
DTSTAMP:20260425T090627
CREATED:20260409T184241Z
LAST-MODIFIED:20260409T184246Z
UID:10000279-1819352700-1819366200@www.poloparkeastgolf.com
SUMMARY:Men’s Golf Club
DESCRIPTION:
URL:https://www.poloparkeastgolf.com/event/mens-golf-club/2027-08-27/
END:VEVENT
BEGIN:VEVENT
DTSTART;TZID=UTC:20270828T080000
DTEND;TZID=UTC:20270828T110000
DTSTAMP:20260425T090627
CREATED:20260409T184557Z
LAST-MODIFIED:20260422T142556Z
UID:10001902-1819440000-1819450800@www.poloparkeastgolf.com
SUMMARY:Men’s 18 Hole Scramble
DESCRIPTION:All are welcome. Teams picked by draw. Please arrive by 7:30AM.
URL:https://www.poloparkeastgolf.com/event/mens-golf-scramble/2027-08-28/
END:VEVENT
BEGIN:VEVENT
DTSTART;TZID=UTC:20270830T074500
DTEND;TZID=UTC:20270830T100000
DTSTAMP:20260425T090627
CREATED:20260409T184922Z
LAST-MODIFIED:20260422T142915Z
UID:10000646-1819611900-1819620000@www.poloparkeastgolf.com
SUMMARY:Men’s Golf Club
DESCRIPTION:
URL:https://www.poloparkeastgolf.com/event/mens-golf-club-2/2027-08-30/
END:VEVENT
BEGIN:VEVENT
DTSTART;TZID=UTC:20270831T080000
DTEND;TZID=UTC:20270831T100000
DTSTAMP:20260425T090627
CREATED:20260409T185214Z
LAST-MODIFIED:20260422T141754Z
UID:10002112-1819699200-1819706400@www.poloparkeastgolf.com
SUMMARY:Lady’s 18 Hole Scramble
DESCRIPTION:
URL:https://www.poloparkeastgolf.com/event/ladys-18-hole-scramble-2/2027-08-31/
END:VEVENT
BEGIN:VEVENT
DTSTART;TZID=UTC:20270831T080000
DTEND;TZID=UTC:20270831T100000
DTSTAMP:20260425T090627
CREATED:20260409T185459Z
LAST-MODIFIED:20260422T141643Z
UID:10002009-1819699200-1819706400@www.poloparkeastgolf.com
SUMMARY:Lady’s 9 Hole Scramble
DESCRIPTION:
URL:https://www.poloparkeastgolf.com/event/ladys-9-hole-scramble-2/2027-08-31/
END:VEVENT
BEGIN:VEVENT
DTSTART;TZID=UTC:20270902T080000
DTEND;TZID=UTC:20270902T100000
DTSTAMP:20260425T090627
CREATED:20260409T183647Z
LAST-MODIFIED:20260422T142334Z
UID:10001352-1819872000-1819879200@www.poloparkeastgolf.com
SUMMARY:Lady’s 18 Hole Scramble
DESCRIPTION:
URL:https://www.poloparkeastgolf.com/event/ladys-18-hole-scramble/2027-09-02/
END:VEVENT
BEGIN:VEVENT
DTSTART;TZID=UTC:20270902T080000
DTEND;TZID=UTC:20270902T100000
DTSTAMP:20260425T090627
CREATED:20260422T140605Z
LAST-MODIFIED:20260422T145513Z
UID:10001557-1819872000-1819879200@www.poloparkeastgolf.com
SUMMARY:Lady’s 9 Hole Scramble
DESCRIPTION:
URL:https://www.poloparkeastgolf.com/event/ladys-9-hole-scramble-3/2027-09-02/
END:VEVENT
BEGIN:VEVENT
DTSTART;TZID=UTC:20270903T074500
DTEND;TZID=UTC:20270903T113000
DTSTAMP:20260425T090627
CREATED:20260409T184241Z
LAST-MODIFIED:20260409T184246Z
UID:10000280-1819957500-1819971000@www.poloparkeastgolf.com
SUMMARY:Men’s Golf Club
DESCRIPTION:
URL:https://www.poloparkeastgolf.com/event/mens-golf-club/2027-09-03/
END:VEVENT
BEGIN:VEVENT
DTSTART;TZID=UTC:20270904T080000
DTEND;TZID=UTC:20270904T110000
DTSTAMP:20260425T090627
CREATED:20260409T184557Z
LAST-MODIFIED:20260422T142556Z
UID:10001903-1820044800-1820055600@www.poloparkeastgolf.com
SUMMARY:Men’s 18 Hole Scramble
DESCRIPTION:All are welcome. Teams picked by draw. Please arrive by 7:30AM.
URL:https://www.poloparkeastgolf.com/event/mens-golf-scramble/2027-09-04/
END:VEVENT
BEGIN:VEVENT
DTSTART;TZID=UTC:20270906T074500
DTEND;TZID=UTC:20270906T100000
DTSTAMP:20260425T090627
CREATED:20260409T184922Z
LAST-MODIFIED:20260422T142915Z
UID:10000647-1820216700-1820224800@www.poloparkeastgolf.com
SUMMARY:Men’s Golf Club
DESCRIPTION:
URL:https://www.poloparkeastgolf.com/event/mens-golf-club-2/2027-09-06/
END:VEVENT
BEGIN:VEVENT
DTSTART;TZID=UTC:20270907T080000
DTEND;TZID=UTC:20270907T100000
DTSTAMP:20260425T090627
CREATED:20260409T185214Z
LAST-MODIFIED:20260422T141754Z
UID:10002113-1820304000-1820311200@www.poloparkeastgolf.com
SUMMARY:Lady’s 18 Hole Scramble
DESCRIPTION:
URL:https://www.poloparkeastgolf.com/event/ladys-18-hole-scramble-2/2027-09-07/
END:VEVENT
BEGIN:VEVENT
DTSTART;TZID=UTC:20270907T080000
DTEND;TZID=UTC:20270907T100000
DTSTAMP:20260425T090627
CREATED:20260409T185459Z
LAST-MODIFIED:20260422T141643Z
UID:10002010-1820304000-1820311200@www.poloparkeastgolf.com
SUMMARY:Lady’s 9 Hole Scramble
DESCRIPTION:
URL:https://www.poloparkeastgolf.com/event/ladys-9-hole-scramble-2/2027-09-07/
END:VEVENT
BEGIN:VEVENT
DTSTART;TZID=UTC:20270909T080000
DTEND;TZID=UTC:20270909T100000
DTSTAMP:20260425T090627
CREATED:20260409T183647Z
LAST-MODIFIED:20260422T142334Z
UID:10001354-1820476800-1820484000@www.poloparkeastgolf.com
SUMMARY:Lady’s 18 Hole Scramble
DESCRIPTION:
URL:https://www.poloparkeastgolf.com/event/ladys-18-hole-scramble/2027-09-09/
END:VEVENT
BEGIN:VEVENT
DTSTART;TZID=UTC:20270909T080000
DTEND;TZID=UTC:20270909T100000
DTSTAMP:20260425T090627
CREATED:20260422T140605Z
LAST-MODIFIED:20260422T145513Z
UID:10001559-1820476800-1820484000@www.poloparkeastgolf.com
SUMMARY:Lady’s 9 Hole Scramble
DESCRIPTION:
URL:https://www.poloparkeastgolf.com/event/ladys-9-hole-scramble-3/2027-09-09/
END:VEVENT
BEGIN:VEVENT
DTSTART;TZID=UTC:20270910T074500
DTEND;TZID=UTC:20270910T113000
DTSTAMP:20260425T090627
CREATED:20260409T184241Z
LAST-MODIFIED:20260409T184246Z
UID:10000281-1820562300-1820575800@www.poloparkeastgolf.com
SUMMARY:Men’s Golf Club
DESCRIPTION:
URL:https://www.poloparkeastgolf.com/event/mens-golf-club/2027-09-10/
END:VEVENT
BEGIN:VEVENT
DTSTART;TZID=UTC:20270911T080000
DTEND;TZID=UTC:20270911T110000
DTSTAMP:20260425T090627
CREATED:20260409T184557Z
LAST-MODIFIED:20260422T142556Z
UID:10001904-1820649600-1820660400@www.poloparkeastgolf.com
SUMMARY:Men’s 18 Hole Scramble
DESCRIPTION:All are welcome. Teams picked by draw. Please arrive by 7:30AM.
URL:https://www.poloparkeastgolf.com/event/mens-golf-scramble/2027-09-11/
END:VEVENT
BEGIN:VEVENT
DTSTART;TZID=UTC:20270913T074500
DTEND;TZID=UTC:20270913T100000
DTSTAMP:20260425T090627
CREATED:20260409T184922Z
LAST-MODIFIED:20260422T142915Z
UID:10000648-1820821500-1820829600@www.poloparkeastgolf.com
SUMMARY:Men’s Golf Club
DESCRIPTION:
URL:https://www.poloparkeastgolf.com/event/mens-golf-club-2/2027-09-13/
END:VEVENT
BEGIN:VEVENT
DTSTART;TZID=UTC:20270914T080000
DTEND;TZID=UTC:20270914T100000
DTSTAMP:20260425T090627
CREATED:20260409T185214Z
LAST-MODIFIED:20260422T141754Z
UID:10002114-1820908800-1820916000@www.poloparkeastgolf.com
SUMMARY:Lady’s 18 Hole Scramble
DESCRIPTION:
URL:https://www.poloparkeastgolf.com/event/ladys-18-hole-scramble-2/2027-09-14/
END:VEVENT
BEGIN:VEVENT
DTSTART;TZID=UTC:20270914T080000
DTEND;TZID=UTC:20270914T100000
DTSTAMP:20260425T090627
CREATED:20260409T185459Z
LAST-MODIFIED:20260422T141643Z
UID:10002011-1820908800-1820916000@www.poloparkeastgolf.com
SUMMARY:Lady’s 9 Hole Scramble
DESCRIPTION:
URL:https://www.poloparkeastgolf.com/event/ladys-9-hole-scramble-2/2027-09-14/
END:VEVENT
END:VCALENDAR