BEGIN:VCALENDAR
VERSION:2.0
PRODID:-//Polo Park East - ECPv6.15.18//NONSGML v1.0//EN
CALSCALE:GREGORIAN
METHOD:PUBLISH
X-ORIGINAL-URL:https://www.poloparkeastgolf.com
X-WR-CALDESC:Events for Polo Park East
REFRESH-INTERVAL;VALUE=DURATION:PT1H
X-Robots-Tag:noindex
X-PUBLISHED-TTL:PT1H
BEGIN:VTIMEZONE
TZID:UTC
BEGIN:STANDARD
TZOFFSETFROM:+0000
TZOFFSETTO:+0000
TZNAME:UTC
DTSTART:20260101T000000
END:STANDARD
END:VTIMEZONE
BEGIN:VEVENT
DTSTART;TZID=UTC:20270621T074500
DTEND;TZID=UTC:20270621T100000
DTSTAMP:20260424T212154
CREATED:20260409T184922Z
LAST-MODIFIED:20260422T142915Z
UID:10000636-1813563900-1813572000@www.poloparkeastgolf.com
SUMMARY:Men’s Golf Club
DESCRIPTION:
URL:https://www.poloparkeastgolf.com/event/mens-golf-club-2/2027-06-21/
END:VEVENT
BEGIN:VEVENT
DTSTART;TZID=UTC:20270622T080000
DTEND;TZID=UTC:20270622T100000
DTSTAMP:20260424T212154
CREATED:20260409T185214Z
LAST-MODIFIED:20260422T141754Z
UID:10002102-1813651200-1813658400@www.poloparkeastgolf.com
SUMMARY:Lady’s 18 Hole Scramble
DESCRIPTION:
URL:https://www.poloparkeastgolf.com/event/ladys-18-hole-scramble-2/2027-06-22/
END:VEVENT
BEGIN:VEVENT
DTSTART;TZID=UTC:20270622T080000
DTEND;TZID=UTC:20270622T100000
DTSTAMP:20260424T212154
CREATED:20260409T185459Z
LAST-MODIFIED:20260422T141643Z
UID:10001999-1813651200-1813658400@www.poloparkeastgolf.com
SUMMARY:Lady’s 9 Hole Scramble
DESCRIPTION:
URL:https://www.poloparkeastgolf.com/event/ladys-9-hole-scramble-2/2027-06-22/
END:VEVENT
BEGIN:VEVENT
DTSTART;TZID=UTC:20270624T080000
DTEND;TZID=UTC:20270624T100000
DTSTAMP:20260424T212154
CREATED:20260409T183647Z
LAST-MODIFIED:20260422T142334Z
UID:10001332-1813824000-1813831200@www.poloparkeastgolf.com
SUMMARY:Lady’s 18 Hole Scramble
DESCRIPTION:
URL:https://www.poloparkeastgolf.com/event/ladys-18-hole-scramble/2027-06-24/
END:VEVENT
BEGIN:VEVENT
DTSTART;TZID=UTC:20270624T080000
DTEND;TZID=UTC:20270624T100000
DTSTAMP:20260424T212154
CREATED:20260422T140605Z
LAST-MODIFIED:20260422T145513Z
UID:10001537-1813824000-1813831200@www.poloparkeastgolf.com
SUMMARY:Lady’s 9 Hole Scramble
DESCRIPTION:
URL:https://www.poloparkeastgolf.com/event/ladys-9-hole-scramble-3/2027-06-24/
END:VEVENT
BEGIN:VEVENT
DTSTART;TZID=UTC:20270625T074500
DTEND;TZID=UTC:20270625T113000
DTSTAMP:20260424T212154
CREATED:20260409T184241Z
LAST-MODIFIED:20260409T184246Z
UID:10000270-1813909500-1813923000@www.poloparkeastgolf.com
SUMMARY:Men’s Golf Club
DESCRIPTION:
URL:https://www.poloparkeastgolf.com/event/mens-golf-club/2027-06-25/
END:VEVENT
BEGIN:VEVENT
DTSTART;TZID=UTC:20270626T080000
DTEND;TZID=UTC:20270626T110000
DTSTAMP:20260424T212154
CREATED:20260409T184557Z
LAST-MODIFIED:20260422T142556Z
UID:10001893-1813996800-1814007600@www.poloparkeastgolf.com
SUMMARY:Men’s 18 Hole Scramble
DESCRIPTION:All are welcome. Teams picked by draw. Please arrive by 7:30AM.
URL:https://www.poloparkeastgolf.com/event/mens-golf-scramble/2027-06-26/
END:VEVENT
BEGIN:VEVENT
DTSTART;TZID=UTC:20270628T074500
DTEND;TZID=UTC:20270628T100000
DTSTAMP:20260424T212154
CREATED:20260409T184922Z
LAST-MODIFIED:20260422T142915Z
UID:10000637-1814168700-1814176800@www.poloparkeastgolf.com
SUMMARY:Men’s Golf Club
DESCRIPTION:
URL:https://www.poloparkeastgolf.com/event/mens-golf-club-2/2027-06-28/
END:VEVENT
BEGIN:VEVENT
DTSTART;TZID=UTC:20270629T080000
DTEND;TZID=UTC:20270629T100000
DTSTAMP:20260424T212154
CREATED:20260409T185214Z
LAST-MODIFIED:20260422T141754Z
UID:10002103-1814256000-1814263200@www.poloparkeastgolf.com
SUMMARY:Lady’s 18 Hole Scramble
DESCRIPTION:
URL:https://www.poloparkeastgolf.com/event/ladys-18-hole-scramble-2/2027-06-29/
END:VEVENT
BEGIN:VEVENT
DTSTART;TZID=UTC:20270629T080000
DTEND;TZID=UTC:20270629T100000
DTSTAMP:20260424T212154
CREATED:20260409T185459Z
LAST-MODIFIED:20260422T141643Z
UID:10002000-1814256000-1814263200@www.poloparkeastgolf.com
SUMMARY:Lady’s 9 Hole Scramble
DESCRIPTION:
URL:https://www.poloparkeastgolf.com/event/ladys-9-hole-scramble-2/2027-06-29/
END:VEVENT
BEGIN:VEVENT
DTSTART;TZID=UTC:20270701T080000
DTEND;TZID=UTC:20270701T100000
DTSTAMP:20260424T212154
CREATED:20260409T183647Z
LAST-MODIFIED:20260422T142334Z
UID:10001334-1814428800-1814436000@www.poloparkeastgolf.com
SUMMARY:Lady’s 18 Hole Scramble
DESCRIPTION:
URL:https://www.poloparkeastgolf.com/event/ladys-18-hole-scramble/2027-07-01/
END:VEVENT
BEGIN:VEVENT
DTSTART;TZID=UTC:20270701T080000
DTEND;TZID=UTC:20270701T100000
DTSTAMP:20260424T212154
CREATED:20260422T140605Z
LAST-MODIFIED:20260422T145513Z
UID:10001539-1814428800-1814436000@www.poloparkeastgolf.com
SUMMARY:Lady’s 9 Hole Scramble
DESCRIPTION:
URL:https://www.poloparkeastgolf.com/event/ladys-9-hole-scramble-3/2027-07-01/
END:VEVENT
BEGIN:VEVENT
DTSTART;TZID=UTC:20270702T074500
DTEND;TZID=UTC:20270702T113000
DTSTAMP:20260424T212154
CREATED:20260409T184241Z
LAST-MODIFIED:20260409T184246Z
UID:10000271-1814514300-1814527800@www.poloparkeastgolf.com
SUMMARY:Men’s Golf Club
DESCRIPTION:
URL:https://www.poloparkeastgolf.com/event/mens-golf-club/2027-07-02/
END:VEVENT
BEGIN:VEVENT
DTSTART;TZID=UTC:20270703T080000
DTEND;TZID=UTC:20270703T110000
DTSTAMP:20260424T212154
CREATED:20260409T184557Z
LAST-MODIFIED:20260422T142556Z
UID:10001894-1814601600-1814612400@www.poloparkeastgolf.com
SUMMARY:Men’s 18 Hole Scramble
DESCRIPTION:All are welcome. Teams picked by draw. Please arrive by 7:30AM.
URL:https://www.poloparkeastgolf.com/event/mens-golf-scramble/2027-07-03/
END:VEVENT
BEGIN:VEVENT
DTSTART;TZID=UTC:20270705T074500
DTEND;TZID=UTC:20270705T100000
DTSTAMP:20260424T212154
CREATED:20260409T184922Z
LAST-MODIFIED:20260422T142915Z
UID:10000638-1814773500-1814781600@www.poloparkeastgolf.com
SUMMARY:Men’s Golf Club
DESCRIPTION:
URL:https://www.poloparkeastgolf.com/event/mens-golf-club-2/2027-07-05/
END:VEVENT
BEGIN:VEVENT
DTSTART;TZID=UTC:20270706T080000
DTEND;TZID=UTC:20270706T100000
DTSTAMP:20260424T212154
CREATED:20260409T185214Z
LAST-MODIFIED:20260422T141754Z
UID:10002104-1814860800-1814868000@www.poloparkeastgolf.com
SUMMARY:Lady’s 18 Hole Scramble
DESCRIPTION:
URL:https://www.poloparkeastgolf.com/event/ladys-18-hole-scramble-2/2027-07-06/
END:VEVENT
BEGIN:VEVENT
DTSTART;TZID=UTC:20270706T080000
DTEND;TZID=UTC:20270706T100000
DTSTAMP:20260424T212154
CREATED:20260409T185459Z
LAST-MODIFIED:20260422T141643Z
UID:10002001-1814860800-1814868000@www.poloparkeastgolf.com
SUMMARY:Lady’s 9 Hole Scramble
DESCRIPTION:
URL:https://www.poloparkeastgolf.com/event/ladys-9-hole-scramble-2/2027-07-06/
END:VEVENT
BEGIN:VEVENT
DTSTART;TZID=UTC:20270708T080000
DTEND;TZID=UTC:20270708T100000
DTSTAMP:20260424T212154
CREATED:20260409T183647Z
LAST-MODIFIED:20260422T142334Z
UID:10001336-1815033600-1815040800@www.poloparkeastgolf.com
SUMMARY:Lady’s 18 Hole Scramble
DESCRIPTION:
URL:https://www.poloparkeastgolf.com/event/ladys-18-hole-scramble/2027-07-08/
END:VEVENT
BEGIN:VEVENT
DTSTART;TZID=UTC:20270708T080000
DTEND;TZID=UTC:20270708T100000
DTSTAMP:20260424T212154
CREATED:20260422T140605Z
LAST-MODIFIED:20260422T145513Z
UID:10001541-1815033600-1815040800@www.poloparkeastgolf.com
SUMMARY:Lady’s 9 Hole Scramble
DESCRIPTION:
URL:https://www.poloparkeastgolf.com/event/ladys-9-hole-scramble-3/2027-07-08/
END:VEVENT
BEGIN:VEVENT
DTSTART;TZID=UTC:20270709T074500
DTEND;TZID=UTC:20270709T113000
DTSTAMP:20260424T212154
CREATED:20260409T184241Z
LAST-MODIFIED:20260409T184246Z
UID:10000272-1815119100-1815132600@www.poloparkeastgolf.com
SUMMARY:Men’s Golf Club
DESCRIPTION:
URL:https://www.poloparkeastgolf.com/event/mens-golf-club/2027-07-09/
END:VEVENT
BEGIN:VEVENT
DTSTART;TZID=UTC:20270710T080000
DTEND;TZID=UTC:20270710T110000
DTSTAMP:20260424T212154
CREATED:20260409T184557Z
LAST-MODIFIED:20260422T142556Z
UID:10001895-1815206400-1815217200@www.poloparkeastgolf.com
SUMMARY:Men’s 18 Hole Scramble
DESCRIPTION:All are welcome. Teams picked by draw. Please arrive by 7:30AM.
URL:https://www.poloparkeastgolf.com/event/mens-golf-scramble/2027-07-10/
END:VEVENT
BEGIN:VEVENT
DTSTART;TZID=UTC:20270712T074500
DTEND;TZID=UTC:20270712T100000
DTSTAMP:20260424T212154
CREATED:20260409T184922Z
LAST-MODIFIED:20260422T142915Z
UID:10000639-1815378300-1815386400@www.poloparkeastgolf.com
SUMMARY:Men’s Golf Club
DESCRIPTION:
URL:https://www.poloparkeastgolf.com/event/mens-golf-club-2/2027-07-12/
END:VEVENT
BEGIN:VEVENT
DTSTART;TZID=UTC:20270713T080000
DTEND;TZID=UTC:20270713T100000
DTSTAMP:20260424T212154
CREATED:20260409T185214Z
LAST-MODIFIED:20260422T141754Z
UID:10002105-1815465600-1815472800@www.poloparkeastgolf.com
SUMMARY:Lady’s 18 Hole Scramble
DESCRIPTION:
URL:https://www.poloparkeastgolf.com/event/ladys-18-hole-scramble-2/2027-07-13/
END:VEVENT
BEGIN:VEVENT
DTSTART;TZID=UTC:20270713T080000
DTEND;TZID=UTC:20270713T100000
DTSTAMP:20260424T212154
CREATED:20260409T185459Z
LAST-MODIFIED:20260422T141643Z
UID:10002002-1815465600-1815472800@www.poloparkeastgolf.com
SUMMARY:Lady’s 9 Hole Scramble
DESCRIPTION:
URL:https://www.poloparkeastgolf.com/event/ladys-9-hole-scramble-2/2027-07-13/
END:VEVENT
BEGIN:VEVENT
DTSTART;TZID=UTC:20270715T080000
DTEND;TZID=UTC:20270715T100000
DTSTAMP:20260424T212154
CREATED:20260409T183647Z
LAST-MODIFIED:20260422T142334Z
UID:10001338-1815638400-1815645600@www.poloparkeastgolf.com
SUMMARY:Lady’s 18 Hole Scramble
DESCRIPTION:
URL:https://www.poloparkeastgolf.com/event/ladys-18-hole-scramble/2027-07-15/
END:VEVENT
BEGIN:VEVENT
DTSTART;TZID=UTC:20270715T080000
DTEND;TZID=UTC:20270715T100000
DTSTAMP:20260424T212154
CREATED:20260422T140605Z
LAST-MODIFIED:20260422T145513Z
UID:10001543-1815638400-1815645600@www.poloparkeastgolf.com
SUMMARY:Lady’s 9 Hole Scramble
DESCRIPTION:
URL:https://www.poloparkeastgolf.com/event/ladys-9-hole-scramble-3/2027-07-15/
END:VEVENT
BEGIN:VEVENT
DTSTART;TZID=UTC:20270716T074500
DTEND;TZID=UTC:20270716T113000
DTSTAMP:20260424T212154
CREATED:20260409T184241Z
LAST-MODIFIED:20260409T184246Z
UID:10000273-1815723900-1815737400@www.poloparkeastgolf.com
SUMMARY:Men’s Golf Club
DESCRIPTION:
URL:https://www.poloparkeastgolf.com/event/mens-golf-club/2027-07-16/
END:VEVENT
BEGIN:VEVENT
DTSTART;TZID=UTC:20270717T080000
DTEND;TZID=UTC:20270717T110000
DTSTAMP:20260424T212154
CREATED:20260409T184557Z
LAST-MODIFIED:20260422T142556Z
UID:10001896-1815811200-1815822000@www.poloparkeastgolf.com
SUMMARY:Men’s 18 Hole Scramble
DESCRIPTION:All are welcome. Teams picked by draw. Please arrive by 7:30AM.
URL:https://www.poloparkeastgolf.com/event/mens-golf-scramble/2027-07-17/
END:VEVENT
BEGIN:VEVENT
DTSTART;TZID=UTC:20270718T080000
DTEND;TZID=UTC:20270718T080000
DTSTAMP:20260424T212154
CREATED:20260409T190506Z
LAST-MODIFIED:20260409T190510Z
UID:10001163-1815897600-1815897600@www.poloparkeastgolf.com
SUMMARY:Mom and Pop Golf
DESCRIPTION:
URL:https://www.poloparkeastgolf.com/event/mom-and-pop-golf/2027-07-18/
END:VEVENT
BEGIN:VEVENT
DTSTART;TZID=UTC:20270719T074500
DTEND;TZID=UTC:20270719T100000
DTSTAMP:20260424T212154
CREATED:20260409T184922Z
LAST-MODIFIED:20260422T142915Z
UID:10000640-1815983100-1815991200@www.poloparkeastgolf.com
SUMMARY:Men’s Golf Club
DESCRIPTION:
URL:https://www.poloparkeastgolf.com/event/mens-golf-club-2/2027-07-19/
END:VEVENT
END:VCALENDAR