BEGIN:VCALENDAR
VERSION:2.0
PRODID:-//Polo Park East - ECPv6.15.18//NONSGML v1.0//EN
CALSCALE:GREGORIAN
METHOD:PUBLISH
X-ORIGINAL-URL:https://www.poloparkeastgolf.com
X-WR-CALDESC:Events for Polo Park East
REFRESH-INTERVAL;VALUE=DURATION:PT1H
X-Robots-Tag:noindex
X-PUBLISHED-TTL:PT1H
BEGIN:VTIMEZONE
TZID:UTC
BEGIN:STANDARD
TZOFFSETFROM:+0000
TZOFFSETTO:+0000
TZNAME:UTC
DTSTART:20250101T000000
END:STANDARD
END:VTIMEZONE
BEGIN:VEVENT
DTSTART;TZID=UTC:20260716T074500
DTEND;TZID=UTC:20260716T074500
DTSTAMP:20260421T112252
CREATED:20260409T143647Z
LAST-MODIFIED:20260409T143652Z
UID:10000014-1784187900-1784187900@www.poloparkeastgolf.com
SUMMARY:Lady’s 18 Hole Scramble
DESCRIPTION:
URL:https://www.poloparkeastgolf.com/event/ladys-18-hole-scramble/2026-07-16/
END:VEVENT
BEGIN:VEVENT
DTSTART;TZID=UTC:20260723T074500
DTEND;TZID=UTC:20260723T074500
DTSTAMP:20260421T112253
CREATED:20260409T143647Z
LAST-MODIFIED:20260409T143652Z
UID:10000015-1784792700-1784792700@www.poloparkeastgolf.com
SUMMARY:Lady’s 18 Hole Scramble
DESCRIPTION:
URL:https://www.poloparkeastgolf.com/event/ladys-18-hole-scramble/2026-07-23/
END:VEVENT
BEGIN:VEVENT
DTSTART;TZID=UTC:20260730T074500
DTEND;TZID=UTC:20260730T074500
DTSTAMP:20260421T112253
CREATED:20260409T143647Z
LAST-MODIFIED:20260409T143652Z
UID:10000016-1785397500-1785397500@www.poloparkeastgolf.com
SUMMARY:Lady’s 18 Hole Scramble
DESCRIPTION:
URL:https://www.poloparkeastgolf.com/event/ladys-18-hole-scramble/2026-07-30/
END:VEVENT
BEGIN:VEVENT
DTSTART;TZID=UTC:20260806T074500
DTEND;TZID=UTC:20260806T074500
DTSTAMP:20260421T112253
CREATED:20260409T143647Z
LAST-MODIFIED:20260409T143652Z
UID:10000017-1786002300-1786002300@www.poloparkeastgolf.com
SUMMARY:Lady’s 18 Hole Scramble
DESCRIPTION:
URL:https://www.poloparkeastgolf.com/event/ladys-18-hole-scramble/2026-08-06/
END:VEVENT
BEGIN:VEVENT
DTSTART;TZID=UTC:20260813T074500
DTEND;TZID=UTC:20260813T074500
DTSTAMP:20260421T112253
CREATED:20260409T143647Z
LAST-MODIFIED:20260409T143652Z
UID:10000018-1786607100-1786607100@www.poloparkeastgolf.com
SUMMARY:Lady’s 18 Hole Scramble
DESCRIPTION:
URL:https://www.poloparkeastgolf.com/event/ladys-18-hole-scramble/2026-08-13/
END:VEVENT
BEGIN:VEVENT
DTSTART;TZID=UTC:20260820T074500
DTEND;TZID=UTC:20260820T074500
DTSTAMP:20260421T112253
CREATED:20260409T143647Z
LAST-MODIFIED:20260409T143652Z
UID:10000019-1787211900-1787211900@www.poloparkeastgolf.com
SUMMARY:Lady’s 18 Hole Scramble
DESCRIPTION:
URL:https://www.poloparkeastgolf.com/event/ladys-18-hole-scramble/2026-08-20/
END:VEVENT
BEGIN:VEVENT
DTSTART;TZID=UTC:20260827T074500
DTEND;TZID=UTC:20260827T074500
DTSTAMP:20260421T112253
CREATED:20260409T143647Z
LAST-MODIFIED:20260409T143652Z
UID:10000020-1787816700-1787816700@www.poloparkeastgolf.com
SUMMARY:Lady’s 18 Hole Scramble
DESCRIPTION:
URL:https://www.poloparkeastgolf.com/event/ladys-18-hole-scramble/2026-08-27/
END:VEVENT
BEGIN:VEVENT
DTSTART;TZID=UTC:20260903T074500
DTEND;TZID=UTC:20260903T074500
DTSTAMP:20260421T112253
CREATED:20260409T143647Z
LAST-MODIFIED:20260409T143652Z
UID:10000021-1788421500-1788421500@www.poloparkeastgolf.com
SUMMARY:Lady’s 18 Hole Scramble
DESCRIPTION:
URL:https://www.poloparkeastgolf.com/event/ladys-18-hole-scramble/2026-09-03/
END:VEVENT
BEGIN:VEVENT
DTSTART;TZID=UTC:20260910T074500
DTEND;TZID=UTC:20260910T074500
DTSTAMP:20260421T112253
CREATED:20260409T143647Z
LAST-MODIFIED:20260409T143652Z
UID:10000022-1789026300-1789026300@www.poloparkeastgolf.com
SUMMARY:Lady’s 18 Hole Scramble
DESCRIPTION:
URL:https://www.poloparkeastgolf.com/event/ladys-18-hole-scramble/2026-09-10/
END:VEVENT
BEGIN:VEVENT
DTSTART;TZID=UTC:20260917T074500
DTEND;TZID=UTC:20260917T074500
DTSTAMP:20260421T112253
CREATED:20260409T143647Z
LAST-MODIFIED:20260409T143652Z
UID:10000023-1789631100-1789631100@www.poloparkeastgolf.com
SUMMARY:Lady’s 18 Hole Scramble
DESCRIPTION:
URL:https://www.poloparkeastgolf.com/event/ladys-18-hole-scramble/2026-09-17/
END:VEVENT
BEGIN:VEVENT
DTSTART;TZID=UTC:20260924T074500
DTEND;TZID=UTC:20260924T074500
DTSTAMP:20260421T112253
CREATED:20260409T143647Z
LAST-MODIFIED:20260409T143652Z
UID:10000024-1790235900-1790235900@www.poloparkeastgolf.com
SUMMARY:Lady’s 18 Hole Scramble
DESCRIPTION:
URL:https://www.poloparkeastgolf.com/event/ladys-18-hole-scramble/2026-09-24/
END:VEVENT
BEGIN:VEVENT
DTSTART;TZID=UTC:20261001T074500
DTEND;TZID=UTC:20261001T074500
DTSTAMP:20260421T112253
CREATED:20260409T143647Z
LAST-MODIFIED:20260409T143652Z
UID:10000025-1790840700-1790840700@www.poloparkeastgolf.com
SUMMARY:Lady’s 18 Hole Scramble
DESCRIPTION:
URL:https://www.poloparkeastgolf.com/event/ladys-18-hole-scramble/2026-10-01/
END:VEVENT
BEGIN:VEVENT
DTSTART;TZID=UTC:20261008T074500
DTEND;TZID=UTC:20261008T074500
DTSTAMP:20260421T112253
CREATED:20260409T143647Z
LAST-MODIFIED:20260409T143652Z
UID:10000026-1791445500-1791445500@www.poloparkeastgolf.com
SUMMARY:Lady’s 18 Hole Scramble
DESCRIPTION:
URL:https://www.poloparkeastgolf.com/event/ladys-18-hole-scramble/2026-10-08/
END:VEVENT
BEGIN:VEVENT
DTSTART;TZID=UTC:20261015T074500
DTEND;TZID=UTC:20261015T074500
DTSTAMP:20260421T112253
CREATED:20260409T143647Z
LAST-MODIFIED:20260409T143652Z
UID:10000027-1792050300-1792050300@www.poloparkeastgolf.com
SUMMARY:Lady’s 18 Hole Scramble
DESCRIPTION:
URL:https://www.poloparkeastgolf.com/event/ladys-18-hole-scramble/2026-10-15/
END:VEVENT
BEGIN:VEVENT
DTSTART;TZID=UTC:20261022T074500
DTEND;TZID=UTC:20261022T074500
DTSTAMP:20260421T112253
CREATED:20260409T143647Z
LAST-MODIFIED:20260409T143652Z
UID:10000028-1792655100-1792655100@www.poloparkeastgolf.com
SUMMARY:Lady’s 18 Hole Scramble
DESCRIPTION:
URL:https://www.poloparkeastgolf.com/event/ladys-18-hole-scramble/2026-10-22/
END:VEVENT
BEGIN:VEVENT
DTSTART;TZID=UTC:20261029T074500
DTEND;TZID=UTC:20261029T074500
DTSTAMP:20260421T112253
CREATED:20260409T143647Z
LAST-MODIFIED:20260409T143652Z
UID:10000029-1793259900-1793259900@www.poloparkeastgolf.com
SUMMARY:Lady’s 18 Hole Scramble
DESCRIPTION:
URL:https://www.poloparkeastgolf.com/event/ladys-18-hole-scramble/2026-10-29/
END:VEVENT
BEGIN:VEVENT
DTSTART;TZID=UTC:20261105T074500
DTEND;TZID=UTC:20261105T074500
DTSTAMP:20260421T112253
CREATED:20260409T143647Z
LAST-MODIFIED:20260409T143652Z
UID:10000030-1793864700-1793864700@www.poloparkeastgolf.com
SUMMARY:Lady’s 18 Hole Scramble
DESCRIPTION:
URL:https://www.poloparkeastgolf.com/event/ladys-18-hole-scramble/2026-11-05/
END:VEVENT
BEGIN:VEVENT
DTSTART;TZID=UTC:20261112T074500
DTEND;TZID=UTC:20261112T074500
DTSTAMP:20260421T112253
CREATED:20260409T143647Z
LAST-MODIFIED:20260409T143652Z
UID:10000031-1794469500-1794469500@www.poloparkeastgolf.com
SUMMARY:Lady’s 18 Hole Scramble
DESCRIPTION:
URL:https://www.poloparkeastgolf.com/event/ladys-18-hole-scramble/2026-11-12/
END:VEVENT
BEGIN:VEVENT
DTSTART;TZID=UTC:20261119T074500
DTEND;TZID=UTC:20261119T074500
DTSTAMP:20260421T112253
CREATED:20260409T143647Z
LAST-MODIFIED:20260409T143652Z
UID:10000032-1795074300-1795074300@www.poloparkeastgolf.com
SUMMARY:Lady’s 18 Hole Scramble
DESCRIPTION:
URL:https://www.poloparkeastgolf.com/event/ladys-18-hole-scramble/2026-11-19/
END:VEVENT
BEGIN:VEVENT
DTSTART;TZID=UTC:20261126T074500
DTEND;TZID=UTC:20261126T074500
DTSTAMP:20260421T112253
CREATED:20260409T143647Z
LAST-MODIFIED:20260409T143652Z
UID:10000033-1795679100-1795679100@www.poloparkeastgolf.com
SUMMARY:Lady’s 18 Hole Scramble
DESCRIPTION:
URL:https://www.poloparkeastgolf.com/event/ladys-18-hole-scramble/2026-11-26/
END:VEVENT
BEGIN:VEVENT
DTSTART;TZID=UTC:20261203T074500
DTEND;TZID=UTC:20261203T074500
DTSTAMP:20260421T112253
CREATED:20260409T143647Z
LAST-MODIFIED:20260409T143652Z
UID:10000034-1796283900-1796283900@www.poloparkeastgolf.com
SUMMARY:Lady’s 18 Hole Scramble
DESCRIPTION:
URL:https://www.poloparkeastgolf.com/event/ladys-18-hole-scramble/2026-12-03/
END:VEVENT
BEGIN:VEVENT
DTSTART;TZID=UTC:20261210T074500
DTEND;TZID=UTC:20261210T074500
DTSTAMP:20260421T112253
CREATED:20260409T143647Z
LAST-MODIFIED:20260409T143652Z
UID:10000035-1796888700-1796888700@www.poloparkeastgolf.com
SUMMARY:Lady’s 18 Hole Scramble
DESCRIPTION:
URL:https://www.poloparkeastgolf.com/event/ladys-18-hole-scramble/2026-12-10/
END:VEVENT
BEGIN:VEVENT
DTSTART;TZID=UTC:20261217T074500
DTEND;TZID=UTC:20261217T074500
DTSTAMP:20260421T112253
CREATED:20260409T143647Z
LAST-MODIFIED:20260409T143652Z
UID:10000036-1797493500-1797493500@www.poloparkeastgolf.com
SUMMARY:Lady’s 18 Hole Scramble
DESCRIPTION:
URL:https://www.poloparkeastgolf.com/event/ladys-18-hole-scramble/2026-12-17/
END:VEVENT
BEGIN:VEVENT
DTSTART;TZID=UTC:20261224T074500
DTEND;TZID=UTC:20261224T074500
DTSTAMP:20260421T112253
CREATED:20260409T143647Z
LAST-MODIFIED:20260409T143652Z
UID:10000037-1798098300-1798098300@www.poloparkeastgolf.com
SUMMARY:Lady’s 18 Hole Scramble
DESCRIPTION:
URL:https://www.poloparkeastgolf.com/event/ladys-18-hole-scramble/2026-12-24/
END:VEVENT
BEGIN:VEVENT
DTSTART;TZID=UTC:20261231T074500
DTEND;TZID=UTC:20261231T074500
DTSTAMP:20260421T112253
CREATED:20260409T143647Z
LAST-MODIFIED:20260409T143652Z
UID:10000038-1798703100-1798703100@www.poloparkeastgolf.com
SUMMARY:Lady’s 18 Hole Scramble
DESCRIPTION:
URL:https://www.poloparkeastgolf.com/event/ladys-18-hole-scramble/2026-12-31/
END:VEVENT
BEGIN:VEVENT
DTSTART;TZID=UTC:20270107T074500
DTEND;TZID=UTC:20270107T074500
DTSTAMP:20260421T112253
CREATED:20260409T143647Z
LAST-MODIFIED:20260409T143652Z
UID:10000039-1799307900-1799307900@www.poloparkeastgolf.com
SUMMARY:Lady’s 18 Hole Scramble
DESCRIPTION:
URL:https://www.poloparkeastgolf.com/event/ladys-18-hole-scramble/2027-01-07/
END:VEVENT
BEGIN:VEVENT
DTSTART;TZID=UTC:20270114T074500
DTEND;TZID=UTC:20270114T074500
DTSTAMP:20260421T112253
CREATED:20260409T143647Z
LAST-MODIFIED:20260409T143652Z
UID:10000040-1799912700-1799912700@www.poloparkeastgolf.com
SUMMARY:Lady’s 18 Hole Scramble
DESCRIPTION:
URL:https://www.poloparkeastgolf.com/event/ladys-18-hole-scramble/2027-01-14/
END:VEVENT
BEGIN:VEVENT
DTSTART;TZID=UTC:20270121T074500
DTEND;TZID=UTC:20270121T074500
DTSTAMP:20260421T112253
CREATED:20260409T143647Z
LAST-MODIFIED:20260409T143652Z
UID:10000041-1800517500-1800517500@www.poloparkeastgolf.com
SUMMARY:Lady’s 18 Hole Scramble
DESCRIPTION:
URL:https://www.poloparkeastgolf.com/event/ladys-18-hole-scramble/2027-01-21/
END:VEVENT
BEGIN:VEVENT
DTSTART;TZID=UTC:20270128T074500
DTEND;TZID=UTC:20270128T074500
DTSTAMP:20260421T112253
CREATED:20260409T143647Z
LAST-MODIFIED:20260409T143652Z
UID:10000042-1801122300-1801122300@www.poloparkeastgolf.com
SUMMARY:Lady’s 18 Hole Scramble
DESCRIPTION:
URL:https://www.poloparkeastgolf.com/event/ladys-18-hole-scramble/2027-01-28/
END:VEVENT
BEGIN:VEVENT
DTSTART;TZID=UTC:20270204T074500
DTEND;TZID=UTC:20270204T074500
DTSTAMP:20260421T112253
CREATED:20260409T143647Z
LAST-MODIFIED:20260409T143652Z
UID:10000043-1801727100-1801727100@www.poloparkeastgolf.com
SUMMARY:Lady’s 18 Hole Scramble
DESCRIPTION:
URL:https://www.poloparkeastgolf.com/event/ladys-18-hole-scramble/2027-02-04/
END:VEVENT
END:VCALENDAR