BEGIN:VCALENDAR
VERSION:2.0
PRODID:-//Polo Park East - ECPv6.15.18//NONSGML v1.0//EN
CALSCALE:GREGORIAN
METHOD:PUBLISH
X-WR-CALNAME:Polo Park East
X-ORIGINAL-URL:https://www.poloparkeastgolf.com
X-WR-CALDESC:Events for Polo Park East
REFRESH-INTERVAL;VALUE=DURATION:PT1H
X-Robots-Tag:noindex
X-PUBLISHED-TTL:PT1H
BEGIN:VTIMEZONE
TZID:UTC
BEGIN:STANDARD
TZOFFSETFROM:+0000
TZOFFSETTO:+0000
TZNAME:UTC
DTSTART:20250101T000000
END:STANDARD
END:VTIMEZONE
BEGIN:VEVENT
DTSTART;TZID=UTC:20260512T080000
DTEND;TZID=UTC:20260512T100000
DTSTAMP:20260423T045119
CREATED:20260409T185214Z
LAST-MODIFIED:20260422T141754Z
UID:10002044-1778572800-1778580000@www.poloparkeastgolf.com
SUMMARY:Lady’s 18 Hole Scramble
DESCRIPTION:
URL:https://www.poloparkeastgolf.com/event/ladys-18-hole-scramble-2/2026-05-12/
END:VEVENT
BEGIN:VEVENT
DTSTART;TZID=UTC:20260511T074500
DTEND;TZID=UTC:20260511T100000
DTSTAMP:20260423T045119
CREATED:20260409T184922Z
LAST-MODIFIED:20260422T142915Z
UID:10000578-1778485500-1778493600@www.poloparkeastgolf.com
SUMMARY:Men’s Golf Club
DESCRIPTION:
URL:https://www.poloparkeastgolf.com/event/mens-golf-club-2/2026-05-11/
END:VEVENT
BEGIN:VEVENT
DTSTART;TZID=UTC:20260509T080000
DTEND;TZID=UTC:20260509T110000
DTSTAMP:20260423T045119
CREATED:20260409T184557Z
LAST-MODIFIED:20260422T142556Z
UID:10001834-1778313600-1778324400@www.poloparkeastgolf.com
SUMMARY:Men’s 18 Hole Scramble
DESCRIPTION:All are welcome. Teams picked by draw. Please arrive by 7:30AM.
URL:https://www.poloparkeastgolf.com/event/mens-golf-scramble/2026-05-09/
END:VEVENT
BEGIN:VEVENT
DTSTART;TZID=UTC:20260508T074500
DTEND;TZID=UTC:20260508T113000
DTSTAMP:20260423T045119
CREATED:20260409T184241Z
LAST-MODIFIED:20260409T184246Z
UID:10000211-1778226300-1778239800@www.poloparkeastgolf.com
SUMMARY:Men’s Golf Club
DESCRIPTION:
URL:https://www.poloparkeastgolf.com/event/mens-golf-club/2026-05-08/
END:VEVENT
BEGIN:VEVENT
DTSTART;TZID=UTC:20260507T080000
DTEND;TZID=UTC:20260507T100000
DTSTAMP:20260423T045119
CREATED:20260422T140605Z
LAST-MODIFIED:20260422T145513Z
UID:10001419-1778140800-1778148000@www.poloparkeastgolf.com
SUMMARY:Lady’s 9 Hole Scramble
DESCRIPTION:
URL:https://www.poloparkeastgolf.com/event/ladys-9-hole-scramble-3/2026-05-07/
END:VEVENT
BEGIN:VEVENT
DTSTART;TZID=UTC:20260507T080000
DTEND;TZID=UTC:20260507T100000
DTSTAMP:20260423T045119
CREATED:20260409T183647Z
LAST-MODIFIED:20260422T142334Z
UID:10001214-1778140800-1778148000@www.poloparkeastgolf.com
SUMMARY:Lady’s 18 Hole Scramble
DESCRIPTION:
URL:https://www.poloparkeastgolf.com/event/ladys-18-hole-scramble/2026-05-07/
END:VEVENT
BEGIN:VEVENT
DTSTART;TZID=UTC:20260505T080000
DTEND;TZID=UTC:20260505T100000
DTSTAMP:20260423T045119
CREATED:20260409T185459Z
LAST-MODIFIED:20260422T141643Z
UID:10001940-1777968000-1777975200@www.poloparkeastgolf.com
SUMMARY:Lady’s 9 Hole Scramble
DESCRIPTION:
URL:https://www.poloparkeastgolf.com/event/ladys-9-hole-scramble-2/2026-05-05/
END:VEVENT
BEGIN:VEVENT
DTSTART;TZID=UTC:20260505T080000
DTEND;TZID=UTC:20260505T100000
DTSTAMP:20260423T045119
CREATED:20260409T185214Z
LAST-MODIFIED:20260422T141754Z
UID:10002043-1777968000-1777975200@www.poloparkeastgolf.com
SUMMARY:Lady’s 18 Hole Scramble
DESCRIPTION:
URL:https://www.poloparkeastgolf.com/event/ladys-18-hole-scramble-2/2026-05-05/
END:VEVENT
BEGIN:VEVENT
DTSTART;TZID=UTC:20260504T074500
DTEND;TZID=UTC:20260504T100000
DTSTAMP:20260423T045119
CREATED:20260409T184922Z
LAST-MODIFIED:20260422T142915Z
UID:10000577-1777880700-1777888800@www.poloparkeastgolf.com
SUMMARY:Men’s Golf Club
DESCRIPTION:
URL:https://www.poloparkeastgolf.com/event/mens-golf-club-2/2026-05-04/
END:VEVENT
BEGIN:VEVENT
DTSTART;TZID=UTC:20260502T080000
DTEND;TZID=UTC:20260502T110000
DTSTAMP:20260423T045119
CREATED:20260409T184557Z
LAST-MODIFIED:20260422T142556Z
UID:10001833-1777708800-1777719600@www.poloparkeastgolf.com
SUMMARY:Men’s 18 Hole Scramble
DESCRIPTION:All are welcome. Teams picked by draw. Please arrive by 7:30AM.
URL:https://www.poloparkeastgolf.com/event/mens-golf-scramble/2026-05-02/
END:VEVENT
BEGIN:VEVENT
DTSTART;TZID=UTC:20260501T074500
DTEND;TZID=UTC:20260501T113000
DTSTAMP:20260423T045120
CREATED:20260409T184241Z
LAST-MODIFIED:20260409T184246Z
UID:10000210-1777621500-1777635000@www.poloparkeastgolf.com
SUMMARY:Men’s Golf Club
DESCRIPTION:
URL:https://www.poloparkeastgolf.com/event/mens-golf-club/2026-05-01/
END:VEVENT
BEGIN:VEVENT
DTSTART;TZID=UTC:20260430T080000
DTEND;TZID=UTC:20260430T100000
DTSTAMP:20260423T045120
CREATED:20260422T140605Z
LAST-MODIFIED:20260422T145513Z
UID:10001417-1777536000-1777543200@www.poloparkeastgolf.com
SUMMARY:Lady’s 9 Hole Scramble
DESCRIPTION:
URL:https://www.poloparkeastgolf.com/event/ladys-9-hole-scramble-3/2026-04-30/
END:VEVENT
BEGIN:VEVENT
DTSTART;TZID=UTC:20260430T080000
DTEND;TZID=UTC:20260430T100000
DTSTAMP:20260423T045120
CREATED:20260409T183647Z
LAST-MODIFIED:20260422T142334Z
UID:10001212-1777536000-1777543200@www.poloparkeastgolf.com
SUMMARY:Lady’s 18 Hole Scramble
DESCRIPTION:
URL:https://www.poloparkeastgolf.com/event/ladys-18-hole-scramble/2026-04-30/
END:VEVENT
BEGIN:VEVENT
DTSTART;TZID=UTC:20260428T080000
DTEND;TZID=UTC:20260428T100000
DTSTAMP:20260423T045120
CREATED:20260409T185459Z
LAST-MODIFIED:20260422T141643Z
UID:10001939-1777363200-1777370400@www.poloparkeastgolf.com
SUMMARY:Lady’s 9 Hole Scramble
DESCRIPTION:
URL:https://www.poloparkeastgolf.com/event/ladys-9-hole-scramble-2/2026-04-28/
END:VEVENT
BEGIN:VEVENT
DTSTART;TZID=UTC:20260428T080000
DTEND;TZID=UTC:20260428T100000
DTSTAMP:20260423T045120
CREATED:20260409T185214Z
LAST-MODIFIED:20260422T141754Z
UID:10002042-1777363200-1777370400@www.poloparkeastgolf.com
SUMMARY:Lady’s 18 Hole Scramble
DESCRIPTION:
URL:https://www.poloparkeastgolf.com/event/ladys-18-hole-scramble-2/2026-04-28/
END:VEVENT
BEGIN:VEVENT
DTSTART;TZID=UTC:20260427T074500
DTEND;TZID=UTC:20260427T100000
DTSTAMP:20260423T045120
CREATED:20260409T184922Z
LAST-MODIFIED:20260422T142915Z
UID:10000576-1777275900-1777284000@www.poloparkeastgolf.com
SUMMARY:Men’s Golf Club
DESCRIPTION:
URL:https://www.poloparkeastgolf.com/event/mens-golf-club-2/2026-04-27/
END:VEVENT
BEGIN:VEVENT
DTSTART;TZID=UTC:20260425T080000
DTEND;TZID=UTC:20260425T110000
DTSTAMP:20260423T045120
CREATED:20260409T184557Z
LAST-MODIFIED:20260422T142556Z
UID:10001832-1777104000-1777114800@www.poloparkeastgolf.com
SUMMARY:Men’s 18 Hole Scramble
DESCRIPTION:All are welcome. Teams picked by draw. Please arrive by 7:30AM.
URL:https://www.poloparkeastgolf.com/event/mens-golf-scramble/2026-04-25/
END:VEVENT
BEGIN:VEVENT
DTSTART;TZID=UTC:20260424T074500
DTEND;TZID=UTC:20260424T113000
DTSTAMP:20260423T045120
CREATED:20260409T184241Z
LAST-MODIFIED:20260409T184246Z
UID:10000209-1777016700-1777030200@www.poloparkeastgolf.com
SUMMARY:Men’s Golf Club
DESCRIPTION:
URL:https://www.poloparkeastgolf.com/event/mens-golf-club/2026-04-24/
END:VEVENT
BEGIN:VEVENT
DTSTART;TZID=UTC:20260423T080000
DTEND;TZID=UTC:20260423T100000
DTSTAMP:20260423T045120
CREATED:20260422T140605Z
LAST-MODIFIED:20260422T145513Z
UID:10001936-1776931200-1776938400@www.poloparkeastgolf.com
SUMMARY:Lady’s 9 Hole Scramble
DESCRIPTION:
URL:https://www.poloparkeastgolf.com/event/ladys-9-hole-scramble-3/2026-04-23/
END:VEVENT
BEGIN:VEVENT
DTSTART;TZID=UTC:20260423T080000
DTEND;TZID=UTC:20260423T100000
DTSTAMP:20260423T045120
CREATED:20260409T183647Z
LAST-MODIFIED:20260422T142334Z
UID:10001210-1776931200-1776938400@www.poloparkeastgolf.com
SUMMARY:Lady’s 18 Hole Scramble
DESCRIPTION:
URL:https://www.poloparkeastgolf.com/event/ladys-18-hole-scramble/2026-04-23/
END:VEVENT
BEGIN:VEVENT
DTSTART;TZID=UTC:20260421T080000
DTEND;TZID=UTC:20260421T100000
DTSTAMP:20260423T045120
CREATED:20260409T185459Z
LAST-MODIFIED:20260422T141643Z
UID:10001938-1776758400-1776765600@www.poloparkeastgolf.com
SUMMARY:Lady’s 9 Hole Scramble
DESCRIPTION:
URL:https://www.poloparkeastgolf.com/event/ladys-9-hole-scramble-2/2026-04-21/
END:VEVENT
BEGIN:VEVENT
DTSTART;TZID=UTC:20260421T080000
DTEND;TZID=UTC:20260421T100000
DTSTAMP:20260423T045120
CREATED:20260409T185214Z
LAST-MODIFIED:20260422T141754Z
UID:10002041-1776758400-1776765600@www.poloparkeastgolf.com
SUMMARY:Lady’s 18 Hole Scramble
DESCRIPTION:
URL:https://www.poloparkeastgolf.com/event/ladys-18-hole-scramble-2/2026-04-21/
END:VEVENT
BEGIN:VEVENT
DTSTART;TZID=UTC:20260421T080000
DTEND;TZID=UTC:20260421T100000
DTSTAMP:20260423T045120
CREATED:20260409T183828Z
LAST-MODIFIED:20260422T145348Z
UID:10001414-1776758400-1776765600@www.poloparkeastgolf.com
SUMMARY:Lady’s 9 Hole Scramble
DESCRIPTION:
URL:https://www.poloparkeastgolf.com/event/ladys-9-hole-scramble/2026-04-21/
END:VEVENT
BEGIN:VEVENT
DTSTART;TZID=UTC:20260420T074500
DTEND;TZID=UTC:20260420T100000
DTSTAMP:20260423T045120
CREATED:20260409T184922Z
LAST-MODIFIED:20260422T142915Z
UID:10000575-1776671100-1776679200@www.poloparkeastgolf.com
SUMMARY:Men’s Golf Club
DESCRIPTION:
URL:https://www.poloparkeastgolf.com/event/mens-golf-club-2/2026-04-20/
END:VEVENT
BEGIN:VEVENT
DTSTART;TZID=UTC:20260419T080000
DTEND;TZID=UTC:20260419T080000
DTSTAMP:20260423T045120
CREATED:20260409T190506Z
LAST-MODIFIED:20260409T190510Z
UID:10001148-1776585600-1776585600@www.poloparkeastgolf.com
SUMMARY:Mom and Pop Golf
DESCRIPTION:
URL:https://www.poloparkeastgolf.com/event/mom-and-pop-golf/2026-04-19/
END:VEVENT
BEGIN:VEVENT
DTSTART;TZID=UTC:20260418T080000
DTEND;TZID=UTC:20260418T110000
DTSTAMP:20260423T045120
CREATED:20260409T184557Z
LAST-MODIFIED:20260422T142556Z
UID:10001831-1776499200-1776510000@www.poloparkeastgolf.com
SUMMARY:Men’s 18 Hole Scramble
DESCRIPTION:All are welcome. Teams picked by draw. Please arrive by 7:30AM.
URL:https://www.poloparkeastgolf.com/event/mens-golf-scramble/2026-04-18/
END:VEVENT
BEGIN:VEVENT
DTSTART;TZID=UTC:20260417T074500
DTEND;TZID=UTC:20260417T113000
DTSTAMP:20260423T045120
CREATED:20260409T184241Z
LAST-MODIFIED:20260409T184246Z
UID:10000208-1776411900-1776425400@www.poloparkeastgolf.com
SUMMARY:Men’s Golf Club
DESCRIPTION:
URL:https://www.poloparkeastgolf.com/event/mens-golf-club/2026-04-17/
END:VEVENT
BEGIN:VEVENT
DTSTART;TZID=UTC:20260416T080000
DTEND;TZID=UTC:20260416T100000
DTSTAMP:20260423T045120
CREATED:20260422T140605Z
LAST-MODIFIED:20260422T145513Z
UID:10001415-1776326400-1776333600@www.poloparkeastgolf.com
SUMMARY:Lady’s 9 Hole Scramble
DESCRIPTION:
URL:https://www.poloparkeastgolf.com/event/ladys-9-hole-scramble-3/2026-04-16/
END:VEVENT
BEGIN:VEVENT
DTSTART;TZID=UTC:20260416T080000
DTEND;TZID=UTC:20260416T100000
DTSTAMP:20260423T045120
CREATED:20260409T183828Z
LAST-MODIFIED:20260422T145348Z
UID:10001413-1776326400-1776333600@www.poloparkeastgolf.com
SUMMARY:Lady’s 9 Hole Scramble
DESCRIPTION:
URL:https://www.poloparkeastgolf.com/event/ladys-9-hole-scramble/2026-04-16/
END:VEVENT
BEGIN:VEVENT
DTSTART;TZID=UTC:20260416T080000
DTEND;TZID=UTC:20260416T100000
DTSTAMP:20260423T045120
CREATED:20260409T183647Z
LAST-MODIFIED:20260422T142334Z
UID:10001208-1776326400-1776333600@www.poloparkeastgolf.com
SUMMARY:Lady’s 18 Hole Scramble
DESCRIPTION:
URL:https://www.poloparkeastgolf.com/event/ladys-18-hole-scramble/2026-04-16/
END:VEVENT
END:VCALENDAR