BEGIN:VCALENDAR
VERSION:2.0
PRODID:-//Polo Park East - ECPv6.15.18//NONSGML v1.0//EN
CALSCALE:GREGORIAN
METHOD:PUBLISH
X-ORIGINAL-URL:https://www.poloparkeastgolf.com
X-WR-CALDESC:Events for Polo Park East
REFRESH-INTERVAL;VALUE=DURATION:PT1H
X-Robots-Tag:noindex
X-PUBLISHED-TTL:PT1H
BEGIN:VTIMEZONE
TZID:UTC
BEGIN:STANDARD
TZOFFSETFROM:+0000
TZOFFSETTO:+0000
TZNAME:UTC
DTSTART:20260101T000000
END:STANDARD
END:VTIMEZONE
BEGIN:VEVENT
DTSTART;TZID=UTC:20270507T074500
DTEND;TZID=UTC:20270507T113000
DTSTAMP:20260424T114704
CREATED:20260409T184241Z
LAST-MODIFIED:20260409T184246Z
UID:10000263-1809675900-1809689400@www.poloparkeastgolf.com
SUMMARY:Men’s Golf Club
DESCRIPTION:
URL:https://www.poloparkeastgolf.com/event/mens-golf-club/2027-05-07/
END:VEVENT
BEGIN:VEVENT
DTSTART;TZID=UTC:20270508T080000
DTEND;TZID=UTC:20270508T110000
DTSTAMP:20260424T114704
CREATED:20260409T184557Z
LAST-MODIFIED:20260422T142556Z
UID:10001886-1809763200-1809774000@www.poloparkeastgolf.com
SUMMARY:Men’s 18 Hole Scramble
DESCRIPTION:All are welcome. Teams picked by draw. Please arrive by 7:30AM.
URL:https://www.poloparkeastgolf.com/event/mens-golf-scramble/2027-05-08/
END:VEVENT
BEGIN:VEVENT
DTSTART;TZID=UTC:20270510T074500
DTEND;TZID=UTC:20270510T100000
DTSTAMP:20260424T114704
CREATED:20260409T184922Z
LAST-MODIFIED:20260422T142915Z
UID:10000630-1809935100-1809943200@www.poloparkeastgolf.com
SUMMARY:Men’s Golf Club
DESCRIPTION:
URL:https://www.poloparkeastgolf.com/event/mens-golf-club-2/2027-05-10/
END:VEVENT
BEGIN:VEVENT
DTSTART;TZID=UTC:20270511T080000
DTEND;TZID=UTC:20270511T100000
DTSTAMP:20260424T114704
CREATED:20260409T185214Z
LAST-MODIFIED:20260422T141754Z
UID:10002096-1810022400-1810029600@www.poloparkeastgolf.com
SUMMARY:Lady’s 18 Hole Scramble
DESCRIPTION:
URL:https://www.poloparkeastgolf.com/event/ladys-18-hole-scramble-2/2027-05-11/
END:VEVENT
BEGIN:VEVENT
DTSTART;TZID=UTC:20270511T080000
DTEND;TZID=UTC:20270511T100000
DTSTAMP:20260424T114704
CREATED:20260409T185459Z
LAST-MODIFIED:20260422T141643Z
UID:10001993-1810022400-1810029600@www.poloparkeastgolf.com
SUMMARY:Lady’s 9 Hole Scramble
DESCRIPTION:
URL:https://www.poloparkeastgolf.com/event/ladys-9-hole-scramble-2/2027-05-11/
END:VEVENT
BEGIN:VEVENT
DTSTART;TZID=UTC:20270513T080000
DTEND;TZID=UTC:20270513T100000
DTSTAMP:20260424T114704
CREATED:20260409T183647Z
LAST-MODIFIED:20260422T142334Z
UID:10001320-1810195200-1810202400@www.poloparkeastgolf.com
SUMMARY:Lady’s 18 Hole Scramble
DESCRIPTION:
URL:https://www.poloparkeastgolf.com/event/ladys-18-hole-scramble/2027-05-13/
END:VEVENT
BEGIN:VEVENT
DTSTART;TZID=UTC:20270513T080000
DTEND;TZID=UTC:20270513T100000
DTSTAMP:20260424T114704
CREATED:20260422T140605Z
LAST-MODIFIED:20260422T145513Z
UID:10001525-1810195200-1810202400@www.poloparkeastgolf.com
SUMMARY:Lady’s 9 Hole Scramble
DESCRIPTION:
URL:https://www.poloparkeastgolf.com/event/ladys-9-hole-scramble-3/2027-05-13/
END:VEVENT
BEGIN:VEVENT
DTSTART;TZID=UTC:20270514T074500
DTEND;TZID=UTC:20270514T113000
DTSTAMP:20260424T114704
CREATED:20260409T184241Z
LAST-MODIFIED:20260409T184246Z
UID:10000264-1810280700-1810294200@www.poloparkeastgolf.com
SUMMARY:Men’s Golf Club
DESCRIPTION:
URL:https://www.poloparkeastgolf.com/event/mens-golf-club/2027-05-14/
END:VEVENT
BEGIN:VEVENT
DTSTART;TZID=UTC:20270515T080000
DTEND;TZID=UTC:20270515T110000
DTSTAMP:20260424T114704
CREATED:20260409T184557Z
LAST-MODIFIED:20260422T142556Z
UID:10001887-1810368000-1810378800@www.poloparkeastgolf.com
SUMMARY:Men’s 18 Hole Scramble
DESCRIPTION:All are welcome. Teams picked by draw. Please arrive by 7:30AM.
URL:https://www.poloparkeastgolf.com/event/mens-golf-scramble/2027-05-15/
END:VEVENT
BEGIN:VEVENT
DTSTART;TZID=UTC:20270516T080000
DTEND;TZID=UTC:20270516T080000
DTSTAMP:20260424T114704
CREATED:20260409T190506Z
LAST-MODIFIED:20260409T190510Z
UID:10001161-1810454400-1810454400@www.poloparkeastgolf.com
SUMMARY:Mom and Pop Golf
DESCRIPTION:
URL:https://www.poloparkeastgolf.com/event/mom-and-pop-golf/2027-05-16/
END:VEVENT
BEGIN:VEVENT
DTSTART;TZID=UTC:20270517T074500
DTEND;TZID=UTC:20270517T100000
DTSTAMP:20260424T114704
CREATED:20260409T184922Z
LAST-MODIFIED:20260422T142915Z
UID:10000631-1810539900-1810548000@www.poloparkeastgolf.com
SUMMARY:Men’s Golf Club
DESCRIPTION:
URL:https://www.poloparkeastgolf.com/event/mens-golf-club-2/2027-05-17/
END:VEVENT
BEGIN:VEVENT
DTSTART;TZID=UTC:20270518T080000
DTEND;TZID=UTC:20270518T100000
DTSTAMP:20260424T114704
CREATED:20260409T185214Z
LAST-MODIFIED:20260422T141754Z
UID:10002097-1810627200-1810634400@www.poloparkeastgolf.com
SUMMARY:Lady’s 18 Hole Scramble
DESCRIPTION:
URL:https://www.poloparkeastgolf.com/event/ladys-18-hole-scramble-2/2027-05-18/
END:VEVENT
BEGIN:VEVENT
DTSTART;TZID=UTC:20270518T080000
DTEND;TZID=UTC:20270518T100000
DTSTAMP:20260424T114704
CREATED:20260409T185459Z
LAST-MODIFIED:20260422T141643Z
UID:10001994-1810627200-1810634400@www.poloparkeastgolf.com
SUMMARY:Lady’s 9 Hole Scramble
DESCRIPTION:
URL:https://www.poloparkeastgolf.com/event/ladys-9-hole-scramble-2/2027-05-18/
END:VEVENT
BEGIN:VEVENT
DTSTART;TZID=UTC:20270520T080000
DTEND;TZID=UTC:20270520T100000
DTSTAMP:20260424T114704
CREATED:20260409T183647Z
LAST-MODIFIED:20260422T142334Z
UID:10001322-1810800000-1810807200@www.poloparkeastgolf.com
SUMMARY:Lady’s 18 Hole Scramble
DESCRIPTION:
URL:https://www.poloparkeastgolf.com/event/ladys-18-hole-scramble/2027-05-20/
END:VEVENT
BEGIN:VEVENT
DTSTART;TZID=UTC:20270520T080000
DTEND;TZID=UTC:20270520T100000
DTSTAMP:20260424T114704
CREATED:20260422T140605Z
LAST-MODIFIED:20260422T145513Z
UID:10001527-1810800000-1810807200@www.poloparkeastgolf.com
SUMMARY:Lady’s 9 Hole Scramble
DESCRIPTION:
URL:https://www.poloparkeastgolf.com/event/ladys-9-hole-scramble-3/2027-05-20/
END:VEVENT
BEGIN:VEVENT
DTSTART;TZID=UTC:20270521T074500
DTEND;TZID=UTC:20270521T113000
DTSTAMP:20260424T114704
CREATED:20260409T184241Z
LAST-MODIFIED:20260409T184246Z
UID:10000265-1810885500-1810899000@www.poloparkeastgolf.com
SUMMARY:Men’s Golf Club
DESCRIPTION:
URL:https://www.poloparkeastgolf.com/event/mens-golf-club/2027-05-21/
END:VEVENT
BEGIN:VEVENT
DTSTART;TZID=UTC:20270522T080000
DTEND;TZID=UTC:20270522T110000
DTSTAMP:20260424T114704
CREATED:20260409T184557Z
LAST-MODIFIED:20260422T142556Z
UID:10001888-1810972800-1810983600@www.poloparkeastgolf.com
SUMMARY:Men’s 18 Hole Scramble
DESCRIPTION:All are welcome. Teams picked by draw. Please arrive by 7:30AM.
URL:https://www.poloparkeastgolf.com/event/mens-golf-scramble/2027-05-22/
END:VEVENT
BEGIN:VEVENT
DTSTART;TZID=UTC:20270524T074500
DTEND;TZID=UTC:20270524T100000
DTSTAMP:20260424T114704
CREATED:20260409T184922Z
LAST-MODIFIED:20260422T142915Z
UID:10000632-1811144700-1811152800@www.poloparkeastgolf.com
SUMMARY:Men’s Golf Club
DESCRIPTION:
URL:https://www.poloparkeastgolf.com/event/mens-golf-club-2/2027-05-24/
END:VEVENT
BEGIN:VEVENT
DTSTART;TZID=UTC:20270525T080000
DTEND;TZID=UTC:20270525T100000
DTSTAMP:20260424T114704
CREATED:20260409T185214Z
LAST-MODIFIED:20260422T141754Z
UID:10002098-1811232000-1811239200@www.poloparkeastgolf.com
SUMMARY:Lady’s 18 Hole Scramble
DESCRIPTION:
URL:https://www.poloparkeastgolf.com/event/ladys-18-hole-scramble-2/2027-05-25/
END:VEVENT
BEGIN:VEVENT
DTSTART;TZID=UTC:20270525T080000
DTEND;TZID=UTC:20270525T100000
DTSTAMP:20260424T114704
CREATED:20260409T185459Z
LAST-MODIFIED:20260422T141643Z
UID:10001995-1811232000-1811239200@www.poloparkeastgolf.com
SUMMARY:Lady’s 9 Hole Scramble
DESCRIPTION:
URL:https://www.poloparkeastgolf.com/event/ladys-9-hole-scramble-2/2027-05-25/
END:VEVENT
BEGIN:VEVENT
DTSTART;TZID=UTC:20270527T080000
DTEND;TZID=UTC:20270527T100000
DTSTAMP:20260424T114704
CREATED:20260409T183647Z
LAST-MODIFIED:20260422T142334Z
UID:10001324-1811404800-1811412000@www.poloparkeastgolf.com
SUMMARY:Lady’s 18 Hole Scramble
DESCRIPTION:
URL:https://www.poloparkeastgolf.com/event/ladys-18-hole-scramble/2027-05-27/
END:VEVENT
BEGIN:VEVENT
DTSTART;TZID=UTC:20270527T080000
DTEND;TZID=UTC:20270527T100000
DTSTAMP:20260424T114704
CREATED:20260422T140605Z
LAST-MODIFIED:20260422T145513Z
UID:10001529-1811404800-1811412000@www.poloparkeastgolf.com
SUMMARY:Lady’s 9 Hole Scramble
DESCRIPTION:
URL:https://www.poloparkeastgolf.com/event/ladys-9-hole-scramble-3/2027-05-27/
END:VEVENT
BEGIN:VEVENT
DTSTART;TZID=UTC:20270528T074500
DTEND;TZID=UTC:20270528T113000
DTSTAMP:20260424T114704
CREATED:20260409T184241Z
LAST-MODIFIED:20260409T184246Z
UID:10000266-1811490300-1811503800@www.poloparkeastgolf.com
SUMMARY:Men’s Golf Club
DESCRIPTION:
URL:https://www.poloparkeastgolf.com/event/mens-golf-club/2027-05-28/
END:VEVENT
BEGIN:VEVENT
DTSTART;TZID=UTC:20270529T080000
DTEND;TZID=UTC:20270529T110000
DTSTAMP:20260424T114704
CREATED:20260409T184557Z
LAST-MODIFIED:20260422T142556Z
UID:10001889-1811577600-1811588400@www.poloparkeastgolf.com
SUMMARY:Men’s 18 Hole Scramble
DESCRIPTION:All are welcome. Teams picked by draw. Please arrive by 7:30AM.
URL:https://www.poloparkeastgolf.com/event/mens-golf-scramble/2027-05-29/
END:VEVENT
BEGIN:VEVENT
DTSTART;TZID=UTC:20270531T074500
DTEND;TZID=UTC:20270531T100000
DTSTAMP:20260424T114704
CREATED:20260409T184922Z
LAST-MODIFIED:20260422T142915Z
UID:10000633-1811749500-1811757600@www.poloparkeastgolf.com
SUMMARY:Men’s Golf Club
DESCRIPTION:
URL:https://www.poloparkeastgolf.com/event/mens-golf-club-2/2027-05-31/
END:VEVENT
BEGIN:VEVENT
DTSTART;TZID=UTC:20270601T080000
DTEND;TZID=UTC:20270601T100000
DTSTAMP:20260424T114704
CREATED:20260409T185214Z
LAST-MODIFIED:20260422T141754Z
UID:10002099-1811836800-1811844000@www.poloparkeastgolf.com
SUMMARY:Lady’s 18 Hole Scramble
DESCRIPTION:
URL:https://www.poloparkeastgolf.com/event/ladys-18-hole-scramble-2/2027-06-01/
END:VEVENT
BEGIN:VEVENT
DTSTART;TZID=UTC:20270601T080000
DTEND;TZID=UTC:20270601T100000
DTSTAMP:20260424T114704
CREATED:20260409T185459Z
LAST-MODIFIED:20260422T141643Z
UID:10001996-1811836800-1811844000@www.poloparkeastgolf.com
SUMMARY:Lady’s 9 Hole Scramble
DESCRIPTION:
URL:https://www.poloparkeastgolf.com/event/ladys-9-hole-scramble-2/2027-06-01/
END:VEVENT
BEGIN:VEVENT
DTSTART;TZID=UTC:20270603T080000
DTEND;TZID=UTC:20270603T100000
DTSTAMP:20260424T114704
CREATED:20260409T183647Z
LAST-MODIFIED:20260422T142334Z
UID:10001326-1812009600-1812016800@www.poloparkeastgolf.com
SUMMARY:Lady’s 18 Hole Scramble
DESCRIPTION:
URL:https://www.poloparkeastgolf.com/event/ladys-18-hole-scramble/2027-06-03/
END:VEVENT
BEGIN:VEVENT
DTSTART;TZID=UTC:20270603T080000
DTEND;TZID=UTC:20270603T100000
DTSTAMP:20260424T114704
CREATED:20260422T140605Z
LAST-MODIFIED:20260422T145513Z
UID:10001531-1812009600-1812016800@www.poloparkeastgolf.com
SUMMARY:Lady’s 9 Hole Scramble
DESCRIPTION:
URL:https://www.poloparkeastgolf.com/event/ladys-9-hole-scramble-3/2027-06-03/
END:VEVENT
BEGIN:VEVENT
DTSTART;TZID=UTC:20270604T074500
DTEND;TZID=UTC:20270604T113000
DTSTAMP:20260424T114704
CREATED:20260409T184241Z
LAST-MODIFIED:20260409T184246Z
UID:10000267-1812095100-1812108600@www.poloparkeastgolf.com
SUMMARY:Men’s Golf Club
DESCRIPTION:
URL:https://www.poloparkeastgolf.com/event/mens-golf-club/2027-06-04/
END:VEVENT
END:VCALENDAR