BEGIN:VCALENDAR
VERSION:2.0
PRODID:-//Polo Park East - ECPv6.15.18//NONSGML v1.0//EN
CALSCALE:GREGORIAN
METHOD:PUBLISH
X-ORIGINAL-URL:https://www.poloparkeastgolf.com
X-WR-CALDESC:Events for Polo Park East
REFRESH-INTERVAL;VALUE=DURATION:PT1H
X-Robots-Tag:noindex
X-PUBLISHED-TTL:PT1H
BEGIN:VTIMEZONE
TZID:UTC
BEGIN:STANDARD
TZOFFSETFROM:+0000
TZOFFSETTO:+0000
TZNAME:UTC
DTSTART:20250101T000000
END:STANDARD
END:VTIMEZONE
BEGIN:VEVENT
DTSTART;TZID=UTC:20261115T080000
DTEND;TZID=UTC:20261115T080000
DTSTAMP:20260421T113331
CREATED:20260409T150506Z
LAST-MODIFIED:20260409T150510Z
UID:10001155-1794729600-1794729600@www.poloparkeastgolf.com
SUMMARY:Mom and Pop Golf
DESCRIPTION:
URL:https://www.poloparkeastgolf.com/event/mom-and-pop-golf/2026-11-15/
END:VEVENT
BEGIN:VEVENT
DTSTART;TZID=UTC:20261116T074500
DTEND;TZID=UTC:20261116T113000
DTSTAMP:20260421T113331
CREATED:20260409T144922Z
LAST-MODIFIED:20260409T144925Z
UID:10000605-1794815100-1794828600@www.poloparkeastgolf.com
SUMMARY:Men’s Golf Club
DESCRIPTION:
URL:https://www.poloparkeastgolf.com/event/mens-golf-club-2/2026-11-16/
END:VEVENT
BEGIN:VEVENT
DTSTART;TZID=UTC:20261117T074500
DTEND;TZID=UTC:20261117T074500
DTSTAMP:20260421T113331
CREATED:20260409T145214Z
LAST-MODIFIED:20260409T145219Z
UID:10000866-1794901500-1794901500@www.poloparkeastgolf.com
SUMMARY:Lady’s 18 Hole Scramble
DESCRIPTION:
URL:https://www.poloparkeastgolf.com/event/ladys-18-hole-scramble-2/2026-11-17/
END:VEVENT
BEGIN:VEVENT
DTSTART;TZID=UTC:20261117T074500
DTEND;TZID=UTC:20261117T074500
DTSTAMP:20260421T113331
CREATED:20260409T145459Z
LAST-MODIFIED:20260409T145503Z
UID:10000969-1794901500-1794901500@www.poloparkeastgolf.com
SUMMARY:Lady’s 9 Hole Scramble
DESCRIPTION:
URL:https://www.poloparkeastgolf.com/event/ladys-9-hole-scramble-2/2026-11-17/
END:VEVENT
BEGIN:VEVENT
DTSTART;TZID=UTC:20261118T074500
DTEND;TZID=UTC:20261118T113000
DTSTAMP:20260421T113331
CREATED:20260409T150102Z
LAST-MODIFIED:20260409T150259Z
UID:10001072-1794987900-1795001400@www.poloparkeastgolf.com
SUMMARY:Men’s Golf Scramble
DESCRIPTION:All are welcome. Teams picked by draw.
URL:https://www.poloparkeastgolf.com/event/mens-golf-scramble-2/2026-11-18/
END:VEVENT
BEGIN:VEVENT
DTSTART;TZID=UTC:20261119T074500
DTEND;TZID=UTC:20261119T074500
DTSTAMP:20260421T113331
CREATED:20260409T143647Z
LAST-MODIFIED:20260409T143652Z
UID:10000032-1795074300-1795074300@www.poloparkeastgolf.com
SUMMARY:Lady’s 18 Hole Scramble
DESCRIPTION:
URL:https://www.poloparkeastgolf.com/event/ladys-18-hole-scramble/2026-11-19/
END:VEVENT
BEGIN:VEVENT
DTSTART;TZID=UTC:20261119T074500
DTEND;TZID=UTC:20261119T074500
DTSTAMP:20260421T113331
CREATED:20260409T143828Z
LAST-MODIFIED:20260409T143832Z
UID:10000135-1795074300-1795074300@www.poloparkeastgolf.com
SUMMARY:Lady’s 9 Hole Scramble
DESCRIPTION:
URL:https://www.poloparkeastgolf.com/event/ladys-9-hole-scramble/2026-11-19/
END:VEVENT
BEGIN:VEVENT
DTSTART;TZID=UTC:20261120T074500
DTEND;TZID=UTC:20261120T113000
DTSTAMP:20260421T113331
CREATED:20260409T144241Z
LAST-MODIFIED:20260409T144246Z
UID:10000239-1795160700-1795174200@www.poloparkeastgolf.com
SUMMARY:Men’s Golf Club
DESCRIPTION:
URL:https://www.poloparkeastgolf.com/event/mens-golf-club/2026-11-20/
END:VEVENT
BEGIN:VEVENT
DTSTART;TZID=UTC:20261121T074500
DTEND;TZID=UTC:20261121T113000
DTSTAMP:20260421T113331
CREATED:20260409T144557Z
LAST-MODIFIED:20260409T144726Z
UID:10000500-1795247100-1795260600@www.poloparkeastgolf.com
SUMMARY:Men’s Golf Scramble
DESCRIPTION:All are welcome. Teams picked by draw.
URL:https://www.poloparkeastgolf.com/event/mens-golf-scramble/2026-11-21/
END:VEVENT
BEGIN:VEVENT
DTSTART;TZID=UTC:20261123T074500
DTEND;TZID=UTC:20261123T113000
DTSTAMP:20260421T113331
CREATED:20260409T144922Z
LAST-MODIFIED:20260409T144925Z
UID:10000606-1795419900-1795433400@www.poloparkeastgolf.com
SUMMARY:Men’s Golf Club
DESCRIPTION:
URL:https://www.poloparkeastgolf.com/event/mens-golf-club-2/2026-11-23/
END:VEVENT
BEGIN:VEVENT
DTSTART;TZID=UTC:20261124T074500
DTEND;TZID=UTC:20261124T074500
DTSTAMP:20260421T113331
CREATED:20260409T145214Z
LAST-MODIFIED:20260409T145219Z
UID:10000867-1795506300-1795506300@www.poloparkeastgolf.com
SUMMARY:Lady’s 18 Hole Scramble
DESCRIPTION:
URL:https://www.poloparkeastgolf.com/event/ladys-18-hole-scramble-2/2026-11-24/
END:VEVENT
BEGIN:VEVENT
DTSTART;TZID=UTC:20261124T074500
DTEND;TZID=UTC:20261124T074500
DTSTAMP:20260421T113331
CREATED:20260409T145459Z
LAST-MODIFIED:20260409T145503Z
UID:10000970-1795506300-1795506300@www.poloparkeastgolf.com
SUMMARY:Lady’s 9 Hole Scramble
DESCRIPTION:
URL:https://www.poloparkeastgolf.com/event/ladys-9-hole-scramble-2/2026-11-24/
END:VEVENT
BEGIN:VEVENT
DTSTART;TZID=UTC:20261125T074500
DTEND;TZID=UTC:20261125T113000
DTSTAMP:20260421T113331
CREATED:20260409T150102Z
LAST-MODIFIED:20260409T150259Z
UID:10001073-1795592700-1795606200@www.poloparkeastgolf.com
SUMMARY:Men’s Golf Scramble
DESCRIPTION:All are welcome. Teams picked by draw.
URL:https://www.poloparkeastgolf.com/event/mens-golf-scramble-2/2026-11-25/
END:VEVENT
BEGIN:VEVENT
DTSTART;TZID=UTC:20261126T074500
DTEND;TZID=UTC:20261126T074500
DTSTAMP:20260421T113331
CREATED:20260409T143647Z
LAST-MODIFIED:20260409T143652Z
UID:10000033-1795679100-1795679100@www.poloparkeastgolf.com
SUMMARY:Lady’s 18 Hole Scramble
DESCRIPTION:
URL:https://www.poloparkeastgolf.com/event/ladys-18-hole-scramble/2026-11-26/
END:VEVENT
BEGIN:VEVENT
DTSTART;TZID=UTC:20261126T074500
DTEND;TZID=UTC:20261126T074500
DTSTAMP:20260421T113331
CREATED:20260409T143828Z
LAST-MODIFIED:20260409T143832Z
UID:10000136-1795679100-1795679100@www.poloparkeastgolf.com
SUMMARY:Lady’s 9 Hole Scramble
DESCRIPTION:
URL:https://www.poloparkeastgolf.com/event/ladys-9-hole-scramble/2026-11-26/
END:VEVENT
BEGIN:VEVENT
DTSTART;TZID=UTC:20261127T074500
DTEND;TZID=UTC:20261127T113000
DTSTAMP:20260421T113331
CREATED:20260409T144241Z
LAST-MODIFIED:20260409T144246Z
UID:10000240-1795765500-1795779000@www.poloparkeastgolf.com
SUMMARY:Men’s Golf Club
DESCRIPTION:
URL:https://www.poloparkeastgolf.com/event/mens-golf-club/2026-11-27/
END:VEVENT
BEGIN:VEVENT
DTSTART;TZID=UTC:20261128T074500
DTEND;TZID=UTC:20261128T113000
DTSTAMP:20260421T113331
CREATED:20260409T144557Z
LAST-MODIFIED:20260409T144726Z
UID:10000501-1795851900-1795865400@www.poloparkeastgolf.com
SUMMARY:Men’s Golf Scramble
DESCRIPTION:All are welcome. Teams picked by draw.
URL:https://www.poloparkeastgolf.com/event/mens-golf-scramble/2026-11-28/
END:VEVENT
BEGIN:VEVENT
DTSTART;TZID=UTC:20261130T074500
DTEND;TZID=UTC:20261130T113000
DTSTAMP:20260421T113331
CREATED:20260409T144922Z
LAST-MODIFIED:20260409T144925Z
UID:10000607-1796024700-1796038200@www.poloparkeastgolf.com
SUMMARY:Men’s Golf Club
DESCRIPTION:
URL:https://www.poloparkeastgolf.com/event/mens-golf-club-2/2026-11-30/
END:VEVENT
BEGIN:VEVENT
DTSTART;TZID=UTC:20261201T074500
DTEND;TZID=UTC:20261201T074500
DTSTAMP:20260421T113331
CREATED:20260409T145214Z
LAST-MODIFIED:20260409T145219Z
UID:10000868-1796111100-1796111100@www.poloparkeastgolf.com
SUMMARY:Lady’s 18 Hole Scramble
DESCRIPTION:
URL:https://www.poloparkeastgolf.com/event/ladys-18-hole-scramble-2/2026-12-01/
END:VEVENT
BEGIN:VEVENT
DTSTART;TZID=UTC:20261201T074500
DTEND;TZID=UTC:20261201T074500
DTSTAMP:20260421T113331
CREATED:20260409T145459Z
LAST-MODIFIED:20260409T145503Z
UID:10000971-1796111100-1796111100@www.poloparkeastgolf.com
SUMMARY:Lady’s 9 Hole Scramble
DESCRIPTION:
URL:https://www.poloparkeastgolf.com/event/ladys-9-hole-scramble-2/2026-12-01/
END:VEVENT
BEGIN:VEVENT
DTSTART;TZID=UTC:20261202T074500
DTEND;TZID=UTC:20261202T113000
DTSTAMP:20260421T113331
CREATED:20260409T150102Z
LAST-MODIFIED:20260409T150259Z
UID:10001074-1796197500-1796211000@www.poloparkeastgolf.com
SUMMARY:Men’s Golf Scramble
DESCRIPTION:All are welcome. Teams picked by draw.
URL:https://www.poloparkeastgolf.com/event/mens-golf-scramble-2/2026-12-02/
END:VEVENT
BEGIN:VEVENT
DTSTART;TZID=UTC:20261203T074500
DTEND;TZID=UTC:20261203T074500
DTSTAMP:20260421T113331
CREATED:20260409T143647Z
LAST-MODIFIED:20260409T143652Z
UID:10000034-1796283900-1796283900@www.poloparkeastgolf.com
SUMMARY:Lady’s 18 Hole Scramble
DESCRIPTION:
URL:https://www.poloparkeastgolf.com/event/ladys-18-hole-scramble/2026-12-03/
END:VEVENT
BEGIN:VEVENT
DTSTART;TZID=UTC:20261203T074500
DTEND;TZID=UTC:20261203T074500
DTSTAMP:20260421T113331
CREATED:20260409T143828Z
LAST-MODIFIED:20260409T143832Z
UID:10000137-1796283900-1796283900@www.poloparkeastgolf.com
SUMMARY:Lady’s 9 Hole Scramble
DESCRIPTION:
URL:https://www.poloparkeastgolf.com/event/ladys-9-hole-scramble/2026-12-03/
END:VEVENT
BEGIN:VEVENT
DTSTART;TZID=UTC:20261204T074500
DTEND;TZID=UTC:20261204T113000
DTSTAMP:20260421T113331
CREATED:20260409T144241Z
LAST-MODIFIED:20260409T144246Z
UID:10000241-1796370300-1796383800@www.poloparkeastgolf.com
SUMMARY:Men’s Golf Club
DESCRIPTION:
URL:https://www.poloparkeastgolf.com/event/mens-golf-club/2026-12-04/
END:VEVENT
BEGIN:VEVENT
DTSTART;TZID=UTC:20261205T074500
DTEND;TZID=UTC:20261205T113000
DTSTAMP:20260421T113331
CREATED:20260409T144557Z
LAST-MODIFIED:20260409T144726Z
UID:10000502-1796456700-1796470200@www.poloparkeastgolf.com
SUMMARY:Men’s Golf Scramble
DESCRIPTION:All are welcome. Teams picked by draw.
URL:https://www.poloparkeastgolf.com/event/mens-golf-scramble/2026-12-05/
END:VEVENT
BEGIN:VEVENT
DTSTART;TZID=UTC:20261207T074500
DTEND;TZID=UTC:20261207T113000
DTSTAMP:20260421T113331
CREATED:20260409T144922Z
LAST-MODIFIED:20260409T144925Z
UID:10000608-1796629500-1796643000@www.poloparkeastgolf.com
SUMMARY:Men’s Golf Club
DESCRIPTION:
URL:https://www.poloparkeastgolf.com/event/mens-golf-club-2/2026-12-07/
END:VEVENT
BEGIN:VEVENT
DTSTART;TZID=UTC:20261208T074500
DTEND;TZID=UTC:20261208T074500
DTSTAMP:20260421T113331
CREATED:20260409T145214Z
LAST-MODIFIED:20260409T145219Z
UID:10000869-1796715900-1796715900@www.poloparkeastgolf.com
SUMMARY:Lady’s 18 Hole Scramble
DESCRIPTION:
URL:https://www.poloparkeastgolf.com/event/ladys-18-hole-scramble-2/2026-12-08/
END:VEVENT
BEGIN:VEVENT
DTSTART;TZID=UTC:20261208T074500
DTEND;TZID=UTC:20261208T074500
DTSTAMP:20260421T113331
CREATED:20260409T145459Z
LAST-MODIFIED:20260409T145503Z
UID:10000972-1796715900-1796715900@www.poloparkeastgolf.com
SUMMARY:Lady’s 9 Hole Scramble
DESCRIPTION:
URL:https://www.poloparkeastgolf.com/event/ladys-9-hole-scramble-2/2026-12-08/
END:VEVENT
BEGIN:VEVENT
DTSTART;TZID=UTC:20261209T074500
DTEND;TZID=UTC:20261209T113000
DTSTAMP:20260421T113331
CREATED:20260409T150102Z
LAST-MODIFIED:20260409T150259Z
UID:10001075-1796802300-1796815800@www.poloparkeastgolf.com
SUMMARY:Men’s Golf Scramble
DESCRIPTION:All are welcome. Teams picked by draw.
URL:https://www.poloparkeastgolf.com/event/mens-golf-scramble-2/2026-12-09/
END:VEVENT
BEGIN:VEVENT
DTSTART;TZID=UTC:20261210T074500
DTEND;TZID=UTC:20261210T074500
DTSTAMP:20260421T113331
CREATED:20260409T143647Z
LAST-MODIFIED:20260409T143652Z
UID:10000035-1796888700-1796888700@www.poloparkeastgolf.com
SUMMARY:Lady’s 18 Hole Scramble
DESCRIPTION:
URL:https://www.poloparkeastgolf.com/event/ladys-18-hole-scramble/2026-12-10/
END:VEVENT
END:VCALENDAR