BEGIN:VCALENDAR
VERSION:2.0
PRODID:-//Polo Park East - ECPv6.15.18//NONSGML v1.0//EN
CALSCALE:GREGORIAN
METHOD:PUBLISH
X-ORIGINAL-URL:https://www.poloparkeastgolf.com
X-WR-CALDESC:Events for Polo Park East
REFRESH-INTERVAL;VALUE=DURATION:PT1H
X-Robots-Tag:noindex
X-PUBLISHED-TTL:PT1H
BEGIN:VTIMEZONE
TZID:UTC
BEGIN:STANDARD
TZOFFSETFROM:+0000
TZOFFSETTO:+0000
TZNAME:UTC
DTSTART:20250101T000000
END:STANDARD
END:VTIMEZONE
BEGIN:VEVENT
DTSTART;TZID=UTC:20260430T080000
DTEND;TZID=UTC:20260430T100000
DTSTAMP:20260424T041215
CREATED:20260422T140605Z
LAST-MODIFIED:20260422T145513Z
UID:10001417-1777536000-1777543200@www.poloparkeastgolf.com
SUMMARY:Lady’s 9 Hole Scramble
DESCRIPTION:
URL:https://www.poloparkeastgolf.com/event/ladys-9-hole-scramble-3/2026-04-30/
END:VEVENT
BEGIN:VEVENT
DTSTART;TZID=UTC:20260507T080000
DTEND;TZID=UTC:20260507T100000
DTSTAMP:20260424T041215
CREATED:20260422T140605Z
LAST-MODIFIED:20260422T145513Z
UID:10001419-1778140800-1778148000@www.poloparkeastgolf.com
SUMMARY:Lady’s 9 Hole Scramble
DESCRIPTION:
URL:https://www.poloparkeastgolf.com/event/ladys-9-hole-scramble-3/2026-05-07/
END:VEVENT
BEGIN:VEVENT
DTSTART;TZID=UTC:20260514T080000
DTEND;TZID=UTC:20260514T100000
DTSTAMP:20260424T041215
CREATED:20260422T140605Z
LAST-MODIFIED:20260422T145513Z
UID:10001421-1778745600-1778752800@www.poloparkeastgolf.com
SUMMARY:Lady’s 9 Hole Scramble
DESCRIPTION:
URL:https://www.poloparkeastgolf.com/event/ladys-9-hole-scramble-3/2026-05-14/
END:VEVENT
BEGIN:VEVENT
DTSTART;TZID=UTC:20260521T080000
DTEND;TZID=UTC:20260521T100000
DTSTAMP:20260424T041215
CREATED:20260422T140605Z
LAST-MODIFIED:20260422T145513Z
UID:10001423-1779350400-1779357600@www.poloparkeastgolf.com
SUMMARY:Lady’s 9 Hole Scramble
DESCRIPTION:
URL:https://www.poloparkeastgolf.com/event/ladys-9-hole-scramble-3/2026-05-21/
END:VEVENT
BEGIN:VEVENT
DTSTART;TZID=UTC:20260528T080000
DTEND;TZID=UTC:20260528T100000
DTSTAMP:20260424T041215
CREATED:20260422T140605Z
LAST-MODIFIED:20260422T145513Z
UID:10001425-1779955200-1779962400@www.poloparkeastgolf.com
SUMMARY:Lady’s 9 Hole Scramble
DESCRIPTION:
URL:https://www.poloparkeastgolf.com/event/ladys-9-hole-scramble-3/2026-05-28/
END:VEVENT
BEGIN:VEVENT
DTSTART;TZID=UTC:20260604T080000
DTEND;TZID=UTC:20260604T100000
DTSTAMP:20260424T041215
CREATED:20260422T140605Z
LAST-MODIFIED:20260422T145513Z
UID:10001427-1780560000-1780567200@www.poloparkeastgolf.com
SUMMARY:Lady’s 9 Hole Scramble
DESCRIPTION:
URL:https://www.poloparkeastgolf.com/event/ladys-9-hole-scramble-3/2026-06-04/
END:VEVENT
BEGIN:VEVENT
DTSTART;TZID=UTC:20260611T080000
DTEND;TZID=UTC:20260611T100000
DTSTAMP:20260424T041215
CREATED:20260422T140605Z
LAST-MODIFIED:20260422T145513Z
UID:10001429-1781164800-1781172000@www.poloparkeastgolf.com
SUMMARY:Lady’s 9 Hole Scramble
DESCRIPTION:
URL:https://www.poloparkeastgolf.com/event/ladys-9-hole-scramble-3/2026-06-11/
END:VEVENT
BEGIN:VEVENT
DTSTART;TZID=UTC:20260618T080000
DTEND;TZID=UTC:20260618T100000
DTSTAMP:20260424T041215
CREATED:20260422T140605Z
LAST-MODIFIED:20260422T145513Z
UID:10001431-1781769600-1781776800@www.poloparkeastgolf.com
SUMMARY:Lady’s 9 Hole Scramble
DESCRIPTION:
URL:https://www.poloparkeastgolf.com/event/ladys-9-hole-scramble-3/2026-06-18/
END:VEVENT
BEGIN:VEVENT
DTSTART;TZID=UTC:20260625T080000
DTEND;TZID=UTC:20260625T100000
DTSTAMP:20260424T041215
CREATED:20260422T140605Z
LAST-MODIFIED:20260422T145513Z
UID:10001433-1782374400-1782381600@www.poloparkeastgolf.com
SUMMARY:Lady’s 9 Hole Scramble
DESCRIPTION:
URL:https://www.poloparkeastgolf.com/event/ladys-9-hole-scramble-3/2026-06-25/
END:VEVENT
BEGIN:VEVENT
DTSTART;TZID=UTC:20260702T080000
DTEND;TZID=UTC:20260702T100000
DTSTAMP:20260424T041215
CREATED:20260422T140605Z
LAST-MODIFIED:20260422T145513Z
UID:10001435-1782979200-1782986400@www.poloparkeastgolf.com
SUMMARY:Lady’s 9 Hole Scramble
DESCRIPTION:
URL:https://www.poloparkeastgolf.com/event/ladys-9-hole-scramble-3/2026-07-02/
END:VEVENT
BEGIN:VEVENT
DTSTART;TZID=UTC:20260709T080000
DTEND;TZID=UTC:20260709T100000
DTSTAMP:20260424T041215
CREATED:20260422T140605Z
LAST-MODIFIED:20260422T145513Z
UID:10001437-1783584000-1783591200@www.poloparkeastgolf.com
SUMMARY:Lady’s 9 Hole Scramble
DESCRIPTION:
URL:https://www.poloparkeastgolf.com/event/ladys-9-hole-scramble-3/2026-07-09/
END:VEVENT
BEGIN:VEVENT
DTSTART;TZID=UTC:20260716T080000
DTEND;TZID=UTC:20260716T100000
DTSTAMP:20260424T041215
CREATED:20260422T140605Z
LAST-MODIFIED:20260422T145513Z
UID:10001439-1784188800-1784196000@www.poloparkeastgolf.com
SUMMARY:Lady’s 9 Hole Scramble
DESCRIPTION:
URL:https://www.poloparkeastgolf.com/event/ladys-9-hole-scramble-3/2026-07-16/
END:VEVENT
BEGIN:VEVENT
DTSTART;TZID=UTC:20260723T080000
DTEND;TZID=UTC:20260723T100000
DTSTAMP:20260424T041215
CREATED:20260422T140605Z
LAST-MODIFIED:20260422T145513Z
UID:10001441-1784793600-1784800800@www.poloparkeastgolf.com
SUMMARY:Lady’s 9 Hole Scramble
DESCRIPTION:
URL:https://www.poloparkeastgolf.com/event/ladys-9-hole-scramble-3/2026-07-23/
END:VEVENT
BEGIN:VEVENT
DTSTART;TZID=UTC:20260730T080000
DTEND;TZID=UTC:20260730T100000
DTSTAMP:20260424T041215
CREATED:20260422T140605Z
LAST-MODIFIED:20260422T145513Z
UID:10001443-1785398400-1785405600@www.poloparkeastgolf.com
SUMMARY:Lady’s 9 Hole Scramble
DESCRIPTION:
URL:https://www.poloparkeastgolf.com/event/ladys-9-hole-scramble-3/2026-07-30/
END:VEVENT
BEGIN:VEVENT
DTSTART;TZID=UTC:20260806T080000
DTEND;TZID=UTC:20260806T100000
DTSTAMP:20260424T041215
CREATED:20260422T140605Z
LAST-MODIFIED:20260422T145513Z
UID:10001445-1786003200-1786010400@www.poloparkeastgolf.com
SUMMARY:Lady’s 9 Hole Scramble
DESCRIPTION:
URL:https://www.poloparkeastgolf.com/event/ladys-9-hole-scramble-3/2026-08-06/
END:VEVENT
BEGIN:VEVENT
DTSTART;TZID=UTC:20260813T080000
DTEND;TZID=UTC:20260813T100000
DTSTAMP:20260424T041215
CREATED:20260422T140605Z
LAST-MODIFIED:20260422T145513Z
UID:10001447-1786608000-1786615200@www.poloparkeastgolf.com
SUMMARY:Lady’s 9 Hole Scramble
DESCRIPTION:
URL:https://www.poloparkeastgolf.com/event/ladys-9-hole-scramble-3/2026-08-13/
END:VEVENT
BEGIN:VEVENT
DTSTART;TZID=UTC:20260820T080000
DTEND;TZID=UTC:20260820T100000
DTSTAMP:20260424T041215
CREATED:20260422T140605Z
LAST-MODIFIED:20260422T145513Z
UID:10001449-1787212800-1787220000@www.poloparkeastgolf.com
SUMMARY:Lady’s 9 Hole Scramble
DESCRIPTION:
URL:https://www.poloparkeastgolf.com/event/ladys-9-hole-scramble-3/2026-08-20/
END:VEVENT
BEGIN:VEVENT
DTSTART;TZID=UTC:20260827T080000
DTEND;TZID=UTC:20260827T100000
DTSTAMP:20260424T041215
CREATED:20260422T140605Z
LAST-MODIFIED:20260422T145513Z
UID:10001451-1787817600-1787824800@www.poloparkeastgolf.com
SUMMARY:Lady’s 9 Hole Scramble
DESCRIPTION:
URL:https://www.poloparkeastgolf.com/event/ladys-9-hole-scramble-3/2026-08-27/
END:VEVENT
BEGIN:VEVENT
DTSTART;TZID=UTC:20260903T080000
DTEND;TZID=UTC:20260903T100000
DTSTAMP:20260424T041215
CREATED:20260422T140605Z
LAST-MODIFIED:20260422T145513Z
UID:10001453-1788422400-1788429600@www.poloparkeastgolf.com
SUMMARY:Lady’s 9 Hole Scramble
DESCRIPTION:
URL:https://www.poloparkeastgolf.com/event/ladys-9-hole-scramble-3/2026-09-03/
END:VEVENT
BEGIN:VEVENT
DTSTART;TZID=UTC:20260910T080000
DTEND;TZID=UTC:20260910T100000
DTSTAMP:20260424T041215
CREATED:20260422T140605Z
LAST-MODIFIED:20260422T145513Z
UID:10001455-1789027200-1789034400@www.poloparkeastgolf.com
SUMMARY:Lady’s 9 Hole Scramble
DESCRIPTION:
URL:https://www.poloparkeastgolf.com/event/ladys-9-hole-scramble-3/2026-09-10/
END:VEVENT
BEGIN:VEVENT
DTSTART;TZID=UTC:20260917T080000
DTEND;TZID=UTC:20260917T100000
DTSTAMP:20260424T041215
CREATED:20260422T140605Z
LAST-MODIFIED:20260422T145513Z
UID:10001457-1789632000-1789639200@www.poloparkeastgolf.com
SUMMARY:Lady’s 9 Hole Scramble
DESCRIPTION:
URL:https://www.poloparkeastgolf.com/event/ladys-9-hole-scramble-3/2026-09-17/
END:VEVENT
BEGIN:VEVENT
DTSTART;TZID=UTC:20260924T080000
DTEND;TZID=UTC:20260924T100000
DTSTAMP:20260424T041215
CREATED:20260422T140605Z
LAST-MODIFIED:20260422T145513Z
UID:10001459-1790236800-1790244000@www.poloparkeastgolf.com
SUMMARY:Lady’s 9 Hole Scramble
DESCRIPTION:
URL:https://www.poloparkeastgolf.com/event/ladys-9-hole-scramble-3/2026-09-24/
END:VEVENT
BEGIN:VEVENT
DTSTART;TZID=UTC:20261001T080000
DTEND;TZID=UTC:20261001T100000
DTSTAMP:20260424T041215
CREATED:20260422T140605Z
LAST-MODIFIED:20260422T145513Z
UID:10001461-1790841600-1790848800@www.poloparkeastgolf.com
SUMMARY:Lady’s 9 Hole Scramble
DESCRIPTION:
URL:https://www.poloparkeastgolf.com/event/ladys-9-hole-scramble-3/2026-10-01/
END:VEVENT
BEGIN:VEVENT
DTSTART;TZID=UTC:20261008T080000
DTEND;TZID=UTC:20261008T100000
DTSTAMP:20260424T041215
CREATED:20260422T140605Z
LAST-MODIFIED:20260422T145513Z
UID:10001463-1791446400-1791453600@www.poloparkeastgolf.com
SUMMARY:Lady’s 9 Hole Scramble
DESCRIPTION:
URL:https://www.poloparkeastgolf.com/event/ladys-9-hole-scramble-3/2026-10-08/
END:VEVENT
BEGIN:VEVENT
DTSTART;TZID=UTC:20261015T080000
DTEND;TZID=UTC:20261015T100000
DTSTAMP:20260424T041215
CREATED:20260422T140605Z
LAST-MODIFIED:20260422T145513Z
UID:10001465-1792051200-1792058400@www.poloparkeastgolf.com
SUMMARY:Lady’s 9 Hole Scramble
DESCRIPTION:
URL:https://www.poloparkeastgolf.com/event/ladys-9-hole-scramble-3/2026-10-15/
END:VEVENT
BEGIN:VEVENT
DTSTART;TZID=UTC:20261022T080000
DTEND;TZID=UTC:20261022T100000
DTSTAMP:20260424T041215
CREATED:20260422T140605Z
LAST-MODIFIED:20260422T145513Z
UID:10001467-1792656000-1792663200@www.poloparkeastgolf.com
SUMMARY:Lady’s 9 Hole Scramble
DESCRIPTION:
URL:https://www.poloparkeastgolf.com/event/ladys-9-hole-scramble-3/2026-10-22/
END:VEVENT
BEGIN:VEVENT
DTSTART;TZID=UTC:20261029T080000
DTEND;TZID=UTC:20261029T100000
DTSTAMP:20260424T041215
CREATED:20260422T140605Z
LAST-MODIFIED:20260422T145513Z
UID:10001469-1793260800-1793268000@www.poloparkeastgolf.com
SUMMARY:Lady’s 9 Hole Scramble
DESCRIPTION:
URL:https://www.poloparkeastgolf.com/event/ladys-9-hole-scramble-3/2026-10-29/
END:VEVENT
BEGIN:VEVENT
DTSTART;TZID=UTC:20261105T080000
DTEND;TZID=UTC:20261105T100000
DTSTAMP:20260424T041215
CREATED:20260422T140605Z
LAST-MODIFIED:20260422T145513Z
UID:10001471-1793865600-1793872800@www.poloparkeastgolf.com
SUMMARY:Lady’s 9 Hole Scramble
DESCRIPTION:
URL:https://www.poloparkeastgolf.com/event/ladys-9-hole-scramble-3/2026-11-05/
END:VEVENT
BEGIN:VEVENT
DTSTART;TZID=UTC:20261112T080000
DTEND;TZID=UTC:20261112T100000
DTSTAMP:20260424T041215
CREATED:20260422T140605Z
LAST-MODIFIED:20260422T145513Z
UID:10001473-1794470400-1794477600@www.poloparkeastgolf.com
SUMMARY:Lady’s 9 Hole Scramble
DESCRIPTION:
URL:https://www.poloparkeastgolf.com/event/ladys-9-hole-scramble-3/2026-11-12/
END:VEVENT
BEGIN:VEVENT
DTSTART;TZID=UTC:20261119T080000
DTEND;TZID=UTC:20261119T100000
DTSTAMP:20260424T041215
CREATED:20260422T140605Z
LAST-MODIFIED:20260422T145513Z
UID:10001475-1795075200-1795082400@www.poloparkeastgolf.com
SUMMARY:Lady’s 9 Hole Scramble
DESCRIPTION:
URL:https://www.poloparkeastgolf.com/event/ladys-9-hole-scramble-3/2026-11-19/
END:VEVENT
END:VCALENDAR